| weaver 1.38.0 Seth Falcon
 
 | Snapshot Date: 2016-10-12 17:20:15 -0700 (Wed, 12 Oct 2016) |  | URL: https://hedgehog.fhcrc.org/bioconductor/branches/RELEASE_3_3/madman/Rpacks/weaver |  | Last Changed Rev: 117079 / Revision: 122332 |  | Last Changed Date: 2016-05-03 14:20:18 -0700 (Tue, 03 May 2016) | 
 | zin2 | Linux (Ubuntu 14.04.2 LTS) / x86_64 | OK | OK | WARNINGS |  |  | 
| moscato2 | Windows Server 2008 R2 Enterprise SP1 (64-bit) / x64 | [ OK ] | OK | WARNINGS | OK |  | 
| oaxaca | Mac OS X Mavericks (10.9.5) / x86_64 | OK | OK | WARNINGS | OK |  | 
##############################################################################
##############################################################################
###
### Running command:
###
###   rm -rf weaver.buildbin-libdir && mkdir weaver.buildbin-libdir  && C:\cygwin\bin\curl.exe -O http://zin2/BBS/3.3/bioc/src/contrib/weaver_1.38.0.tar.gz && E:\biocbld\bbs-3.3-bioc\R\bin\R.exe CMD INSTALL --build --library=weaver.buildbin-libdir --merge-multiarch weaver_1.38.0.tar.gz && E:\biocbld\bbs-3.3-bioc\R\bin\R.exe CMD INSTALL weaver_1.38.0.zip  && rm weaver_1.38.0.tar.gz weaver_1.38.0.zip
###
##############################################################################
##############################################################################
install for i386
* installing *source* package 'weaver' ...
** R
** inst
** preparing package for lazy loading
** help
*** installing help indices
** building package indices
** installing vignettes
** testing if installed package can be loaded
install for x64
* installing *source* package 'weaver' ...
** testing if installed package can be loaded
* MD5 sums
packaged installation of 'weaver' as weaver_1.38.0.zip
* DONE (weaver)
* installing to library 'E:/biocbld/bbs-3.3-bioc/R/library'
package 'weaver' successfully unpacked and MD5 sums checked