Back to the "Multiple platform build/check report" A  B  C  D  E  F  G  H  I  J  K  L  M  N  O  P  Q  R [S] T  U  V  W  X  Y  Z 

BioC 3.3: BUILD BIN report for simpleaffy on windows2.bioconductor.org

This page was generated on 2015-10-27 12:13:56 -0400 (Tue, 27 Oct 2015).

Package 979/1104HostnameOS / ArchINSTALLBUILDCHECKBUILD BIN
simpleaffy 2.47.0
Crispin Miller
Snapshot Date: 2015-10-26 20:20:04 -0400 (Mon, 26 Oct 2015)
URL: https://hedgehog.fhcrc.org/bioconductor/trunk/madman/Rpacks/simpleaffy
Last Changed Rev: 109592 / Revision: 109948
Last Changed Date: 2015-10-13 15:59:53 -0400 (Tue, 13 Oct 2015)
linux2.bioconductor.org Linux (Ubuntu 14.04.2 LTS) / x86_64  OK  OK  OK UNNEEDED, same version exists in internal repository
windows2.bioconductor.org Windows Server 2012 R2 Enterprise SP1 (64-bit) / x64  OK  OK  OK [ OK ]UNNEEDED, same version exists in internal repository

Summary

Package: simpleaffy
Version: 2.47.0
Command: cd simpleaffy.buildbin-libdir/simpleaffy && zip -r ../../simpleaffy_2.47.0.zip . & cd ../..
StartedAt: 2015-10-27 07:47:58 -0400 (Tue, 27 Oct 2015)
EndedAt: 2015-10-27 07:48:12 -0400 (Tue, 27 Oct 2015)
EllapsedTime: 15.0 seconds
RetCode: 0
Status:  OK  
PackageFile: simpleaffy_2.47.0.zip
PackageFileSize: 797.9 KiB

Command output

##############################################################################
##############################################################################
###
### Running command:
###
###   cd simpleaffy.buildbin-libdir/simpleaffy && zip -r ../../simpleaffy_2.47.0.zip . & cd ../..
###
##############################################################################
##############################################################################


  adding: data/ (208 bytes security) (stored 0%)
  adding: data/qcs.rda (188 bytes security) (stored 0%)
  adding: DESCRIPTION (188 bytes security) (deflated 44%)
  adding: doc/ (208 bytes security) (stored 0%)
  adding: doc/index.html (188 bytes security) (deflated 59%)
  adding: doc/simpleAffy.pdf (188 bytes security) (deflated 12%)
  adding: doc/simpleAffy.R (188 bytes security) (deflated 77%)
  adding: doc/simpleAffy.Rnw (188 bytes security) (deflated 65%)
  adding: extdata/ (208 bytes security) (stored 0%)
  adding: extdata/atgenomecdf.qcdef (188 bytes security) (deflated 61%)
  adding: extdata/ath1121501cdf.qcdef (188 bytes security) (deflated 63%)
  adding: extdata/celeganscdf.qcdef (188 bytes security) (deflated 62%)
  adding: extdata/drosgenome1cdf.qcdef (188 bytes security) (deflated 60%)
  adding: extdata/hcg110cdf.qcdef (188 bytes security) (deflated 61%)
  adding: extdata/hgfocuscdf.qcdef (188 bytes security) (deflated 61%)
  adding: extdata/hgu133a2cdf.qcdef (188 bytes security) (deflated 62%)
  adding: extdata/hgu133acdf.qcdef (188 bytes security) (deflated 62%)
  adding: extdata/hgu133atagcdf.qcdef (188 bytes security) (deflated 62%)
  adding: extdata/hgu133bcdf.qcdef (188 bytes security) (deflated 62%)
  adding: extdata/hgu133plus2cdf.qcdef (188 bytes security) (deflated 62%)
  adding: extdata/hgu95acdf.qcdef (188 bytes security) (deflated 61%)
  adding: extdata/hgu95av2cdf.qcdef (188 bytes security) (deflated 61%)
  adding: extdata/hgu95bcdf.qcdef (188 bytes security) (deflated 61%)
  adding: extdata/hgu95ccdf.qcdef (188 bytes security) (deflated 61%)
  adding: extdata/hgu95dcdf.qcdef (188 bytes security) (deflated 61%)
  adding: extdata/hgu95ecdf.qcdef (188 bytes security) (deflated 61%)
  adding: extdata/mgu74acdf.qcdef (188 bytes security) (deflated 63%)
  adding: extdata/mgu74av2cdf.qcdef (188 bytes security) (deflated 63%)
  adding: extdata/mgu74bcdf.qcdef (188 bytes security) (deflated 63%)
  adding: extdata/mgu74bv2cdf.qcdef (188 bytes security) (deflated 63%)
  adding: extdata/mgu74ccdf.qcdef (188 bytes security) (deflated 63%)
  adding: extdata/mgu74cv2cdf.qcdef (188 bytes security) (deflated 63%)
  adding: extdata/moe430acdf.qcdef (188 bytes security) (deflated 64%)
  adding: extdata/mouse4302cdf.qcdef (188 bytes security) (deflated 64%)
  adding: extdata/mouse430a2cdf.qcdef (188 bytes security) (deflated 64%)
  adding: extdata/mouse430b2cdf.qcdef (188 bytes security) (deflated 64%)
  adding: extdata/mu11ksubacdf.qcdef (188 bytes security) (deflated 63%)
  adding: extdata/mu11ksubbcdf.qcdef (188 bytes security) (deflated 63%)
  adding: extdata/poplarcdf.qcdef (188 bytes security) (deflated 62%)
  adding: extdata/porcinecdf.qcdef (188 bytes security) (deflated 63%)
  adding: extdata/rae230acdf.qcdef (188 bytes security) (deflated 62%)
  adding: extdata/rae230bcdf.qcdef (188 bytes security) (deflated 62%)
  adding: extdata/rat2302cdf.qcdef (188 bytes security) (deflated 62%)
  adding: extdata/rgu34acdf.qcdef (188 bytes security) (deflated 61%)
  adding: extdata/rgu34bcdf.qcdef (188 bytes security) (deflated 61%)
  adding: extdata/rgu34ccdf.qcdef (188 bytes security) (deflated 61%)
  adding: extdata/rhesuscdf.qcdef (188 bytes security) (deflated 62%)
  adding: extdata/soybeancdf.qcdef (188 bytes security) (deflated 62%)
  adding: extdata/vitisviniferacdf.qcdef (188 bytes security) (deflated 62%)
  adding: extdata/yeast2cdf.qcdef (188 bytes security) (deflated 64%)
  adding: extdata/ygs98cdf.qcdef (188 bytes security) (deflated 64%)
  adding: extdata/zebrafishcdf.qcdef (188 bytes security) (deflated 60%)
  adding: help/ (208 bytes security) (stored 0%)
  adding: help/aliases.rds (188 bytes security) (stored 0%)
  adding: help/AnIndex (188 bytes security) (deflated 79%)
  adding: help/paths.rds (188 bytes security) (stored 0%)
  adding: help/simpleaffy.rdb (188 bytes security) (deflated 2%)
  adding: help/simpleaffy.rdx (188 bytes security) (stored 0%)
  adding: html/ (208 bytes security) (stored 0%)
  adding: html/00Index.html (188 bytes security) (deflated 87%)
  adding: html/R.css (188 bytes security) (deflated 75%)
  adding: INDEX (188 bytes security) (deflated 69%)
  adding: libs/ (208 bytes security) (stored 0%)
  adding: libs/i386/ (208 bytes security) (stored 0%)
  adding: libs/i386/simpleaffy.dll (188 bytes security) (deflated 51%)
  adding: libs/x64/ (208 bytes security) (stored 0%)
  adding: libs/x64/simpleaffy.dll (188 bytes security) (deflated 52%)
  adding: MD5 (188 bytes security) (deflated 52%)
  adding: Meta/ (208 bytes security) (stored 0%)
  adding: Meta/data.rds (188 bytes security) (stored 0%)
  adding: Meta/hsearch.rds (188 bytes security) (stored 0%)
  adding: Meta/links.rds (188 bytes security) (stored 0%)
  adding: Meta/nsInfo.rds (188 bytes security) (stored 0%)
  adding: Meta/package.rds (188 bytes security) (stored 0%)
  adding: Meta/Rd.rds (188 bytes security) (stored 0%)
  adding: Meta/vignette.rds (188 bytes security) (stored 0%)
  adding: NAMESPACE (188 bytes security) (deflated 63%)
  adding: R/ (208 bytes security) (stored 0%)
  adding: R/simpleaffy (188 bytes security) (deflated 41%)
  adding: R/simpleaffy.rdb (188 bytes security) (deflated 31%)
  adding: R/simpleaffy.rdx (188 bytes security) (deflated 1%)