Back to the "Multiple platform build/check report" A  B  C  D  E  F  G  H  I  J  K  L  M  N  O  P  Q [R] S  T  U  V  W  X  Y  Z 

BioC 3.3: BUILD report for ropls on morelia

This page was generated on 2016-04-21 13:26:51 -0700 (Thu, 21 Apr 2016).

Package 1000/1210HostnameOS / ArchINSTALLBUILDCHECKBUILD BIN
ropls 1.3.20
Etienne A. Thevenot
Snapshot Date: 2016-04-20 17:20:35 -0700 (Wed, 20 Apr 2016)
URL: https://hedgehog.fhcrc.org/bioconductor/trunk/madman/Rpacks/ropls
Last Changed Rev: 115279 / Revision: 116626
Last Changed Date: 2016-03-25 12:29:51 -0700 (Fri, 25 Mar 2016)
zin2 Linux (Ubuntu 14.04.2 LTS) / x86_64  OK  OK  OK UNNEEDED, same version exists in internal repository
moscato2 Windows Server 2008 R2 Enterprise SP1 (64-bit) / x64  OK  OK  OK  OK UNNEEDED, same version exists in internal repository
morelia Mac OS X Mavericks (10.9.5) / x86_64  OK [ OK ] OK  OK UNNEEDED, same version exists in internal repository

Summary

Package: ropls
Version: 1.3.20
Command: /Library/Frameworks/R.framework/Versions/Current/Resources/bin/R CMD build --keep-empty-dirs --no-resave-data ropls
StartedAt: 2016-04-20 22:19:51 -0700 (Wed, 20 Apr 2016)
EndedAt: 2016-04-20 22:20:41 -0700 (Wed, 20 Apr 2016)
EllapsedTime: 50.2 seconds
RetCode: 0
Status:  OK 
PackageFile: ropls_1.3.20.tar.gz
PackageFileSize: 866.6 KiB

Command output

##############################################################################
##############################################################################
###
### Running command:
###
###   /Library/Frameworks/R.framework/Versions/Current/Resources/bin/R CMD build --keep-empty-dirs --no-resave-data ropls
###
##############################################################################
##############################################################################


* checking for file ‘ropls/DESCRIPTION’ ... OK
* preparing ‘ropls’:
* checking DESCRIPTION meta-information ... OK
* installing the package to build vignettes
* creating vignettes ... OK
* checking for LF line-endings in source and make files
* checking for empty or unneeded directories
* looking to see if a ‘data/datalist’ file should be added
* building ‘ropls_1.3.20.tar.gz’