rBiopaxParser 2.9.0 Frank Kramer
 | Snapshot Date: 2015-10-26 20:20:04 -0400 (Mon, 26 Oct 2015) |  | URL: https://hedgehog.fhcrc.org/bioconductor/trunk/madman/Rpacks/rBiopaxParser |  | Last Changed Rev: 109592 / Revision: 109948 |  | Last Changed Date: 2015-10-13 15:59:53 -0400 (Tue, 13 Oct 2015) |  
  | linux2.bioconductor.org  | Linux (Ubuntu 14.04.2 LTS) / x86_64  |  OK  |  OK  |  OK  |  |   | 
| windows2.bioconductor.org  | Windows Server 2012 R2 Enterprise SP1 (64-bit) / x64  |  OK  |  OK  |  OK  | [ OK ] |   | 
##############################################################################
##############################################################################
###
### Running command:
###
###   cd rBiopaxParser.buildbin-libdir/rBiopaxParser && zip -r ../../rBiopaxParser_2.9.0.zip . & cd ../..
###
##############################################################################
##############################################################################
  adding: CITATION (188 bytes security) (deflated 45%)
  adding: data/ (208 bytes security) (stored 0%)
  adding: data/biopaxexample.rda (188 bytes security) (stored 0%)
  adding: DESCRIPTION (188 bytes security) (deflated 37%)
  adding: doc/ (208 bytes security) (stored 0%)
  adding: doc/index.html (188 bytes security) (deflated 61%)
  adding: doc/rBiopaxParserVignette.pdf (188 bytes security) (deflated 15%)
  adding: doc/rBiopaxParserVignette.R (188 bytes security) (deflated 82%)
  adding: doc/rBiopaxParserVignette.Rnw (188 bytes security) (deflated 69%)
  adding: help/ (208 bytes security) (stored 0%)
  adding: help/aliases.rds (188 bytes security) (stored 0%)
  adding: help/AnIndex (188 bytes security) (deflated 70%)
  adding: help/paths.rds (188 bytes security) (stored 0%)
  adding: help/rBiopaxParser.rdb (188 bytes security) (deflated 3%)
  adding: help/rBiopaxParser.rdx (188 bytes security) (stored 0%)
  adding: html/ (208 bytes security) (stored 0%)
  adding: html/00Index.html (188 bytes security) (deflated 80%)
  adding: html/R.css (188 bytes security) (deflated 75%)
  adding: INDEX (188 bytes security) (deflated 77%)
  adding: MD5 (188 bytes security) (deflated 44%)
  adding: Meta/ (208 bytes security) (stored 0%)
  adding: Meta/data.rds (188 bytes security) (stored 0%)
  adding: Meta/hsearch.rds (188 bytes security) (stored 0%)
  adding: Meta/links.rds (188 bytes security) (stored 0%)
  adding: Meta/nsInfo.rds (188 bytes security) (stored 0%)
  adding: Meta/package.rds (188 bytes security) (stored 0%)
  adding: Meta/Rd.rds (188 bytes security) (stored 0%)
  adding: Meta/vignette.rds (188 bytes security) (stored 0%)
  adding: NAMESPACE (188 bytes security) (deflated 67%)
  adding: NEWS (188 bytes security) (deflated 61%)
  adding: R/ (208 bytes security) (stored 0%)
  adding: R/rBiopaxParser (188 bytes security) (deflated 41%)
  adding: R/rBiopaxParser.rdb (188 bytes security) (deflated 2%)
  adding: R/rBiopaxParser.rdx (188 bytes security) (stored 0%)
  adding: unitTests/ (208 bytes security) (stored 0%)
  adding: unitTests/test_biopax2Classes.R (188 bytes security) (deflated 73%)
  adding: unitTests/test_downloadBiopaxData.R (188 bytes security) (deflated 53%)
  adding: unitTests/test_helperFunctions.R (188 bytes security) (deflated 67%)