oligoClasses 1.33.0 Benilton Carvalho and Robert Scharpf
Snapshot Date: 2015-10-26 20:20:04 -0400 (Mon, 26 Oct 2015) | URL: https://hedgehog.fhcrc.org/bioconductor/trunk/madman/Rpacks/oligoClasses | Last Changed Rev: 109592 / Revision: 109948 | Last Changed Date: 2015-10-13 15:59:53 -0400 (Tue, 13 Oct 2015) |
| linux2.bioconductor.org | Linux (Ubuntu 14.04.2 LTS) / x86_64 | OK | OK | OK | | |
windows2.bioconductor.org | Windows Server 2012 R2 Enterprise SP1 (64-bit) / x64 | OK | OK | OK | [ OK ] | |
##############################################################################
##############################################################################
###
### Running command:
###
### cd oligoClasses.buildbin-libdir/oligoClasses && zip -r ../../oligoClasses_1.33.0.zip . & cd ../..
###
##############################################################################
##############################################################################
adding: data/ (208 bytes security) (stored 0%)
adding: data/efsExample.rda (188 bytes security) (stored 0%)
adding: data/locusLevelData.rda (188 bytes security) (deflated 0%)
adding: data/oligoSetExample.rda (188 bytes security) (deflated 0%)
adding: data/scqsExample.rda (188 bytes security) (stored 0%)
adding: data/sfsExample.rda (188 bytes security) (stored 0%)
adding: data/sqsExample.rda (188 bytes security) (stored 0%)
adding: DESCRIPTION (188 bytes security) (deflated 52%)
adding: extdata/ (208 bytes security) (stored 0%)
adding: extdata/genomeAnnotatedDataFrameExample.rds (188 bytes security) (deflated 0%)
adding: extdata/seqlengths_hg18.rda (188 bytes security) (stored 0%)
adding: extdata/seqlengths_hg19.rda (188 bytes security) (stored 0%)
adding: help/ (208 bytes security) (stored 0%)
adding: help/aliases.rds (188 bytes security) (stored 0%)
adding: help/AnIndex (188 bytes security) (deflated 85%)
adding: help/oligoClasses.rdb (188 bytes security) (deflated 2%)
adding: help/oligoClasses.rdx (188 bytes security) (stored 0%)
adding: help/paths.rds (188 bytes security) (stored 0%)
adding: html/ (208 bytes security) (stored 0%)
adding: html/00Index.html (188 bytes security) (deflated 90%)
adding: html/R.css (188 bytes security) (deflated 75%)
adding: INDEX (188 bytes security) (deflated 68%)
adding: MD5 (188 bytes security) (deflated 45%)
adding: Meta/ (208 bytes security) (stored 0%)
adding: Meta/data.rds (188 bytes security) (stored 0%)
adding: Meta/hsearch.rds (188 bytes security) (deflated 1%)
adding: Meta/links.rds (188 bytes security) (stored 0%)
adding: Meta/nsInfo.rds (188 bytes security) (stored 0%)
adding: Meta/package.rds (188 bytes security) (stored 0%)
adding: Meta/Rd.rds (188 bytes security) (stored 0%)
adding: NAMESPACE (188 bytes security) (deflated 67%)
adding: NEWS.Rd (188 bytes security) (deflated 57%)
adding: R/ (208 bytes security) (stored 0%)
adding: R/oligoClasses (188 bytes security) (deflated 41%)
adding: R/oligoClasses.rdb (188 bytes security) (deflated 34%)
adding: R/oligoClasses.rdx (188 bytes security) (deflated 5%)
adding: unitTests/ (208 bytes security) (stored 0%)
adding: unitTests/Makefile (188 bytes security) (deflated 62%)
adding: unitTests/report.html (188 bytes security) (deflated 78%)
adding: unitTests/report.txt (188 bytes security) (deflated 69%)
adding: unitTests/reportSummary.txt (188 bytes security) (deflated 43%)
adding: unitTests/test_annotation.R (188 bytes security) (deflated 61%)
adding: unitTests/test_classes.R (188 bytes security) (deflated 74%)
adding: unitTests/test_conversions.R (188 bytes security) (deflated 55%)
adding: unitTests/test_RangedDataCNV-class.R (188 bytes security) (deflated 50%)