oligoClasses 1.33.2 Benilton Carvalho and Robert Scharpf
Snapshot Date: 2016-04-20 17:20:35 -0700 (Wed, 20 Apr 2016) | URL: https://hedgehog.fhcrc.org/bioconductor/trunk/madman/Rpacks/oligoClasses | Last Changed Rev: 112992 / Revision: 116626 | Last Changed Date: 2016-01-28 01:27:56 -0800 (Thu, 28 Jan 2016) |
| zin2 | Linux (Ubuntu 14.04.2 LTS) / x86_64 | OK | OK | OK | | |
moscato2 | Windows Server 2008 R2 Enterprise SP1 (64-bit) / x64 | OK | OK | OK | OK | |
morelia | Mac OS X Mavericks (10.9.5) / x86_64 | OK | OK | OK | [ OK ] | |
##############################################################################
##############################################################################
###
### Running command:
###
### rm -rf oligoClasses.buildbin-libdir && mkdir oligoClasses.buildbin-libdir && /Users/biocbuild/BBS/utils/build-universal.sh oligoClasses_1.33.2.tar.gz /Library/Frameworks/R.framework/Versions/Current/Resources/bin/R oligoClasses.buildbin-libdir
###
##############################################################################
##############################################################################
>>>>>>>
>>>>>>> INSTALLATION WITH 'R CMD INSTALL --preclean --no-multiarch --library=oligoClasses.buildbin-libdir oligoClasses_1.33.2.tar.gz'
>>>>>>>
* installing *source* package ‘oligoClasses’ ...
** R
** data
** inst
** preparing package for lazy loading
Creating a generic function for ‘open’ from package ‘base’ in package ‘oligoClasses’
Creating a generic function for ‘close’ from package ‘base’ in package ‘oligoClasses’
** help
*** installing help indices
** building package indices
** installing vignettes
** testing if installed package can be loaded
* DONE (oligoClasses)