ncdfFlow 2.17.0 Mike Jiang
Snapshot Date: 2015-10-26 20:20:04 -0400 (Mon, 26 Oct 2015) | URL: https://hedgehog.fhcrc.org/bioconductor/trunk/madman/Rpacks/ncdfFlow | Last Changed Rev: 109592 / Revision: 109948 | Last Changed Date: 2015-10-13 15:59:53 -0400 (Tue, 13 Oct 2015) |
| linux2.bioconductor.org | Linux (Ubuntu 14.04.2 LTS) / x86_64 | [ OK ] | OK | OK | | |
windows2.bioconductor.org | Windows Server 2012 R2 Enterprise SP1 (64-bit) / x64 | OK | OK | OK | OK | |
##############################################################################
##############################################################################
###
### Running command:
###
### /home/biocbuild/bbs-3.3-bioc/R/bin/R CMD INSTALL ncdfFlow
###
##############################################################################
##############################################################################
* installing to library ‘/home/biocbuild/bbs-3.3-bioc/R/library’
* installing *source* package ‘ncdfFlow’ ...
configure: No directory was specified for --with-hdf5. Trying to find hdf5 using pkg-config.
checking for pkg-config... /usr/bin/pkg-config
Package hdf5 was not found in the pkg-config search path.
Perhaps you should add the directory containing `hdf5.pc'
to the PKG_CONFIG_PATH environment variable
No package 'hdf5' found
configure: pkg-config was not able to find the hdf5 library.
configure: Trying some common locations."
configure: search for hdf5 library in: /usr/local/lib
configure: search for hdf5 library in: /usr/local/lib64
configure: search for hdf5 library in: /usr/local/lib/x86_64-linux-gnu
configure: search for hdf5 library in: /usr/local/lib64/x86_64-linux-gnu
checking for h5cc... /usr/bin/h5cc
configure: PKG_CPPFLAGS =
configure: PKG_LIBS = -lhdf5
configure: creating ./config.status
config.status: creating src/Makevars
** libs
g++ -I/home/biocbuild/bbs-3.3-bioc/R/include -DNDEBUG -I/usr/local/include -I"/home/biocbuild/bbs-3.3-bioc/R/library/Rcpp/include" -I"/home/biocbuild/bbs-3.3-bioc/R/library/RcppArmadillo/include" -I"/home/biocbuild/bbs-3.3-bioc/R/library/BH/include" -fpic -g -O2 -c RcppExports.cpp -o RcppExports.o
g++ -I/home/biocbuild/bbs-3.3-bioc/R/include -DNDEBUG -I/usr/local/include -I"/home/biocbuild/bbs-3.3-bioc/R/library/Rcpp/include" -I"/home/biocbuild/bbs-3.3-bioc/R/library/RcppArmadillo/include" -I"/home/biocbuild/bbs-3.3-bioc/R/library/BH/include" -fpic -g -O2 -c bitOps.cpp -o bitOps.o
gcc -std=gnu99 -I/home/biocbuild/bbs-3.3-bioc/R/include -DNDEBUG -I/usr/local/include -I"/home/biocbuild/bbs-3.3-bioc/R/library/Rcpp/include" -I"/home/biocbuild/bbs-3.3-bioc/R/library/RcppArmadillo/include" -I"/home/biocbuild/bbs-3.3-bioc/R/library/BH/include" -fpic -g -O2 -c hdfFlow.c -o hdfFlow.o
gcc -std=gnu99 -I/home/biocbuild/bbs-3.3-bioc/R/include -DNDEBUG -I/usr/local/include -I"/home/biocbuild/bbs-3.3-bioc/R/library/Rcpp/include" -I"/home/biocbuild/bbs-3.3-bioc/R/library/RcppArmadillo/include" -I"/home/biocbuild/bbs-3.3-bioc/R/library/BH/include" -fpic -g -O2 -c init.c -o init.o
g++ -I/home/biocbuild/bbs-3.3-bioc/R/include -DNDEBUG -I/usr/local/include -I"/home/biocbuild/bbs-3.3-bioc/R/library/Rcpp/include" -I"/home/biocbuild/bbs-3.3-bioc/R/library/RcppArmadillo/include" -I"/home/biocbuild/bbs-3.3-bioc/R/library/BH/include" -fpic -g -O2 -c readFrame.cpp -o readFrame.o
g++ -shared -L/home/biocbuild/bbs-3.3-bioc/R/lib -L/usr/local/lib -o ncdfFlow.so RcppExports.o bitOps.o hdfFlow.o init.o readFrame.o -lhdf5 -L/home/biocbuild/bbs-3.3-bioc/R/lib -lR
installing to /home/biocbuild/bbs-3.3-bioc/R/library/ncdfFlow/libs
** R
** inst
** preparing package for lazy loading
Creating a generic function for ‘lapply’ from package ‘base’ in package ‘ncdfFlow’
** help
*** installing help indices
** building package indices
** installing vignettes
** testing if installed package can be loaded
* DONE (ncdfFlow)