Back to the "Multiple platform build/check report" A  B  C  D  E  F  G  H  I  J  K  L [M] N  O  P  Q  R  S  T  U  V  W  X  Y  Z 

BioC 3.3: CHECK report for minfi on morelia

This page was generated on 2016-04-21 13:22:58 -0700 (Thu, 21 Apr 2016).

Package 716/1210HostnameOS / ArchINSTALLBUILDCHECKBUILD BIN
minfi 1.17.10
Kasper Daniel Hansen
Snapshot Date: 2016-04-20 17:20:35 -0700 (Wed, 20 Apr 2016)
URL: https://hedgehog.fhcrc.org/bioconductor/trunk/madman/Rpacks/minfi
Last Changed Rev: 115273 / Revision: 116626
Last Changed Date: 2016-03-25 07:54:23 -0700 (Fri, 25 Mar 2016)
zin2 Linux (Ubuntu 14.04.2 LTS) / x86_64  OK  OK  OK UNNEEDED, same version exists in internal repository
moscato2 Windows Server 2008 R2 Enterprise SP1 (64-bit) / x64  OK  OK  OK  OK UNNEEDED, same version exists in internal repository
morelia Mac OS X Mavericks (10.9.5) / x86_64  OK  OK [ OK ] OK UNNEEDED, same version exists in internal repository

Summary

Package: minfi
Version: 1.17.10
Command: /Library/Frameworks/R.framework/Versions/Current/Resources/bin/R CMD check --no-vignettes --timings minfi_1.17.10.tar.gz
StartedAt: 2016-04-21 05:03:29 -0700 (Thu, 21 Apr 2016)
EndedAt: 2016-04-21 05:13:39 -0700 (Thu, 21 Apr 2016)
EllapsedTime: 609.8 seconds
RetCode: 0
Status:  OK 
CheckDir: minfi.Rcheck
Warnings: 0

Command output

##############################################################################
##############################################################################
###
### Running command:
###
###   /Library/Frameworks/R.framework/Versions/Current/Resources/bin/R CMD check --no-vignettes --timings minfi_1.17.10.tar.gz
###
##############################################################################
##############################################################################


* using log directory ‘/Users/biocbuild/bbs-3.3-bioc/meat/minfi.Rcheck’
* using R version 3.3.0 beta (2016-04-06 r70435)
* using platform: x86_64-apple-darwin13.4.0 (64-bit)
* using session charset: UTF-8
* using option ‘--no-vignettes’
* checking for file ‘minfi/DESCRIPTION’ ... OK
* this is package ‘minfi’ version ‘1.17.10’
* checking package namespace information ... OK
* checking package dependencies ... NOTE
Depends: includes the non-default packages:
  ‘BiocGenerics’ ‘Biobase’ ‘lattice’ ‘GenomicRanges’
  ‘SummarizedExperiment’ ‘Biostrings’ ‘bumphunter’
Adding so many packages to the search path is excessive and importing
selectively is preferable.
* checking if this is a source package ... OK
* checking if there is a namespace ... OK
* checking for hidden files and directories ... OK
* checking for portable file names ... OK
* checking for sufficient/correct file permissions ... OK
* checking whether package ‘minfi’ can be installed ... [22s/22s] OK
* checking installed package size ... OK
* checking package directory ... OK
* checking ‘build’ directory ... OK
* checking DESCRIPTION meta-information ... OK
* checking top-level files ... OK
* checking for left-over files ... OK
* checking index information ... OK
* checking package subdirectories ... OK
* checking R files for non-ASCII characters ... OK
* checking R files for syntax errors ... OK
* checking whether the package can be loaded ... OK
* checking whether the package can be loaded with stated dependencies ... OK
* checking whether the package can be unloaded cleanly ... OK
* checking whether the namespace can be loaded with stated dependencies ... OK
* checking whether the namespace can be unloaded cleanly ... OK
* checking dependencies in R code ... NOTE
Unexported objects imported by ':::' calls:
  ‘BiocGenerics:::replaceSlots’
  ‘SummarizedExperiment:::.valid.SummarizedExperiment.assays_ncol’
  ‘bumphunter:::.getEstimate’
  See the note in ?`:::` about the use of this operator.
* checking S3 generic/method consistency ... OK
* checking replacement functions ... OK
* checking foreign function calls ... OK
* checking R code for possible problems ... OK
* checking Rd files ... OK
* checking Rd metadata ... OK
* checking Rd cross-references ... OK
* checking for missing documentation entries ... OK
* checking for code/documentation mismatches ... OK
* checking Rd \usage sections ... OK
* checking Rd contents ... OK
* checking for unstated dependencies in examples ... OK
* checking sizes of PDF files under ‘inst/doc’ ... OK
* checking installed files from ‘inst/doc’ ... OK
* checking files in ‘vignettes’ ... OK
* checking examples ... [189s/190s] OK
Examples with CPU or elapsed time > 5s
                     user system elapsed
gaphunter          44.291  0.406  44.741
bumphunter         34.867  8.039  42.966
compartments       33.288  1.759  35.064
detectionP          9.278  0.507   9.787
read.metharray.exp  6.613  0.283   6.905
preprocessIllumina  5.380  0.450   5.839
read.metharray      5.254  0.262   5.523
* checking for unstated dependencies in ‘tests’ ... OK
* checking tests ...
  Running ‘runTests.R’ [210s/210s]
 [210s/210s] OK
* checking for unstated dependencies in vignettes ... OK
* checking package vignettes in ‘inst/doc’ ... OK
* checking running R code from vignettes ... SKIPPED
* checking re-building of vignette outputs ... SKIPPED
* checking PDF version of manual ... OK
* DONE

Status: 2 NOTEs
See
  ‘/Users/biocbuild/bbs-3.3-bioc/meat/minfi.Rcheck/00check.log’
for details.


minfi.Rcheck/00install.out:

* installing *source* package ‘minfi’ ...
** R
** inst
** preparing package for lazy loading
** help
*** installing help indices
** building package indices
** installing vignettes
** testing if installed package can be loaded
* DONE (minfi)

minfi.Rcheck/minfi-Ex.timings:

nameusersystemelapsed
GenomicMethylSet-class0.0020.0010.002
GenomicRatioSet-class0.0010.0000.001
IlluminaMethylationManifest-class2.2340.1082.341
MethylSet-class0.0010.0000.001
RGChannelSet-class0.0010.0000.001
RatioSet-class0.0010.0000.002
bumphunter34.867 8.03942.966
compartments33.288 1.75935.064
controlStripPlot1.4380.0791.791
densityBeanPlot4.2550.2864.545
densityPlot3.2640.3843.650
detectionP9.2780.5079.787
dmpFinder0.1130.0080.122
estimateCellCounts0.0000.0000.001
fixMethOutliers0.7980.2041.003
gaphunter44.291 0.40644.741
getAnnotation1.8240.1001.926
getGenomicRatioSetFromGEO0.0010.0000.000
getQC0.3940.0550.449
getSex2.9090.2103.123
logit2000
makeGenomicRatioSetFromMatrix1.2450.1511.398
mdsPlot0.4760.0110.487
minfiQC4.1960.5134.711
plotBetasByType0.0010.0010.001
plotCpg0.2180.0060.225
preprocessFunnorm0.0010.0000.001
preprocessIllumina5.3800.4505.839
preprocessNoob0.0010.0000.000
preprocessQuantile0.0010.0000.001
preprocessRaw2.7540.1482.904
preprocessSwan0.0010.0000.000
qcReport0.0570.0010.060
read.450k0.0000.0000.001
read.450k.exp0.0010.0000.000
read.450k.sheet000
read.metharray5.2540.2625.523
read.metharray.exp6.6130.2836.905
read.metharray.sheet0.0720.0020.074
readGEORawFile0.0000.0000.001
readTCGA0.0010.0010.001
utils0.1470.0660.213