Back to the "Multiple platform build/check report" A  B  C  D  E  F  G  H  I  J  K  L [M] N  O  P  Q  R  S  T  U  V  W  X  Y  Z 

BioC 3.3: BUILD report for methyAnalysis on windows2.bioconductor.org

This page was generated on 2015-10-27 12:15:05 -0400 (Tue, 27 Oct 2015).

Package 631/1104HostnameOS / ArchINSTALLBUILDCHECKBUILD BIN
methyAnalysis 1.13.0
Pan Du
Snapshot Date: 2015-10-26 20:20:04 -0400 (Mon, 26 Oct 2015)
URL: https://hedgehog.fhcrc.org/bioconductor/trunk/madman/Rpacks/methyAnalysis
Last Changed Rev: 109592 / Revision: 109948
Last Changed Date: 2015-10-13 15:59:53 -0400 (Tue, 13 Oct 2015)
linux2.bioconductor.org Linux (Ubuntu 14.04.2 LTS) / x86_64  ERROR  ERROR  skipped 
windows2.bioconductor.org Windows Server 2012 R2 Enterprise SP1 (64-bit) / x64  ERROR [ ERROR ] skipped  skipped 

Summary

Package: methyAnalysis
Version: 1.13.0
Command: chmod a+r methyAnalysis -R && c:\biocbld\bbs-3.3-bioc\R\bin\R.exe CMD build --keep-empty-dirs --no-resave-data methyAnalysis
StartedAt: 2015-10-26 22:21:41 -0400 (Mon, 26 Oct 2015)
EndedAt: 2015-10-26 22:22:01 -0400 (Mon, 26 Oct 2015)
EllapsedTime: 20.0 seconds
RetCode: 1
Status:  ERROR  
PackageFile: methyAnalysis_1.13.0.tar.gz
PackageFileSize: 935.5 KiB

Command output

##############################################################################
##############################################################################
###
### Running command:
###
###   chmod a+r methyAnalysis -R && c:\biocbld\bbs-3.3-bioc\R\bin\R.exe CMD build --keep-empty-dirs --no-resave-data methyAnalysis
###
##############################################################################
##############################################################################


* checking for file 'methyAnalysis/DESCRIPTION' ... OK
* preparing 'methyAnalysis':
* checking DESCRIPTION meta-information ... OK
* installing the package to build vignettes
Warning: running command '"c:/biocbld/bbs-3.3-bioc/R/bin/x64/Rcmd.exe" INSTALL -l "c:\biocbld\bbs-3.3-bioc\tmpdir\RtmpERQ8O7\Rinst1bf04627706a" --no-multiarch "c:/biocbld/bbs-3.3-bioc/tmpdir/RtmpERQ8O7/Rbuild1bf04e5470f2/methyAnalysis"' had status 1
      -----------------------------------
* installing *source* package 'methyAnalysis' ...
** R
** data
** inst
** preparing package for lazy loading
Error : class "GIntervalTree" is not exported by 'namespace:GenomicRanges'
ERROR: lazy loading failed for package 'methyAnalysis'
* removing 'c:/biocbld/bbs-3.3-bioc/tmpdir/RtmpERQ8O7/Rinst1bf04627706a/methyAnalysis'
      -----------------------------------
ERROR: package installation failed