| metaArray 1.50.0 Hyungwon Choi
 
 | Snapshot Date: 2016-10-12 17:20:15 -0700 (Wed, 12 Oct 2016) |  | URL: https://hedgehog.fhcrc.org/bioconductor/branches/RELEASE_3_3/madman/Rpacks/metaArray |  | Last Changed Rev: 117079 / Revision: 122332 |  | Last Changed Date: 2016-05-03 14:20:18 -0700 (Tue, 03 May 2016) | 
 | zin2 | Linux (Ubuntu 14.04.2 LTS) / x86_64 | OK | OK | OK |  |  | 
| moscato2 | Windows Server 2008 R2 Enterprise SP1 (64-bit) / x64 | OK | OK | OK | OK |  | 
| oaxaca | Mac OS X Mavericks (10.9.5) / x86_64 | OK | OK | OK | [ OK ] |  | 
##############################################################################
##############################################################################
###
### Running command:
###
###   rm -rf metaArray.buildbin-libdir && mkdir metaArray.buildbin-libdir && /Users/biocbuild/BBS/utils/build-universal.sh metaArray_1.50.0.tar.gz /Library/Frameworks/R.framework/Versions/Current/Resources/bin/R metaArray.buildbin-libdir
###
##############################################################################
##############################################################################
>>>>>>> 
>>>>>>> INSTALLATION WITH 'R CMD INSTALL --preclean --no-multiarch --library=metaArray.buildbin-libdir metaArray_1.50.0.tar.gz'
>>>>>>> 
* installing *source* package ‘metaArray’ ...
** libs
clang -I/Library/Frameworks/R.framework/Resources/include -DNDEBUG  -I/usr/local/include -I/usr/local/include/freetype2 -I/opt/X11/include   -DUSEDOUBLE -fPIC  -Wall -mtune=core2 -g -O2  -c contr.c -o contr.o
clang -I/Library/Frameworks/R.framework/Resources/include -DNDEBUG  -I/usr/local/include -I/usr/local/include/freetype2 -I/opt/X11/include   -DUSEDOUBLE -fPIC  -Wall -mtune=core2 -g -O2  -c dproc.c -o dproc.o
dproc.c:192:16: warning: unused variable 'nc' [-Wunused-variable]
  int num, nr, nc;
               ^
1 warning generated.
clang -I/Library/Frameworks/R.framework/Resources/include -DNDEBUG  -I/usr/local/include -I/usr/local/include/freetype2 -I/opt/X11/include   -DUSEDOUBLE -fPIC  -Wall -mtune=core2 -g -O2  -c dproc2.c -o dproc2.o
clang -I/Library/Frameworks/R.framework/Resources/include -DNDEBUG  -I/usr/local/include -I/usr/local/include/freetype2 -I/opt/X11/include   -DUSEDOUBLE -fPIC  -Wall -mtune=core2 -g -O2  -c intcor.c -o intcor.o
clang -I/Library/Frameworks/R.framework/Resources/include -DNDEBUG  -I/usr/local/include -I/usr/local/include/freetype2 -I/opt/X11/include   -DUSEDOUBLE -fPIC  -Wall -mtune=core2 -g -O2  -c lowess.c -o lowess.o
clang -I/Library/Frameworks/R.framework/Resources/include -DNDEBUG  -I/usr/local/include -I/usr/local/include/freetype2 -I/opt/X11/include   -DUSEDOUBLE -fPIC  -Wall -mtune=core2 -g -O2  -c mmath.c -o mmath.o
clang -I/Library/Frameworks/R.framework/Resources/include -DNDEBUG  -I/usr/local/include -I/usr/local/include/freetype2 -I/opt/X11/include   -DUSEDOUBLE -fPIC  -Wall -mtune=core2 -g -O2  -c perm.c -o perm.o
clang -I/Library/Frameworks/R.framework/Resources/include -DNDEBUG  -I/usr/local/include -I/usr/local/include/freetype2 -I/opt/X11/include   -DUSEDOUBLE -fPIC  -Wall -mtune=core2 -g -O2  -c poe.c -o poe.o
clang -dynamiclib -Wl,-headerpad_max_install_names -undefined dynamic_lookup -single_module -multiply_defined suppress -L/Library/Frameworks/R.framework/Resources/lib -L/usr/local/lib -o metaArray.so contr.o dproc.o dproc2.o intcor.o lowess.o mmath.o perm.o poe.o -lm -F/Library/Frameworks/R.framework/.. -framework R -Wl,-framework -Wl,CoreFoundation
installing to /Users/biocbuild/bbs-3.3-bioc/meat/metaArray.buildbin-libdir/metaArray/libs
** R
** data
** inst
** preparing package for lazy loading
** help
*** installing help indices
** building package indices
** installing vignettes
** testing if installed package can be loaded
* DONE (metaArray)
>>>>>>> 
>>>>>>> FIXING LINKS FOR metaArray.buildbin-libdir/metaArray/libs//metaArray.so
>>>>>>> 
install_name_tool -change "/usr/local/lib/libgcc_s.1.dylib" "/Library/Frameworks/R.framework/Versions/3.3/Resources/lib/libgcc_s.1.dylib" "metaArray.buildbin-libdir/metaArray/libs//metaArray.so"
install_name_tool -change "/usr/local/lib/libgfortran.3.dylib" "/Library/Frameworks/R.framework/Versions/3.3/Resources/lib/libgfortran.3.dylib" "metaArray.buildbin-libdir/metaArray/libs//metaArray.so"
install_name_tool -change "/usr/local/lib/libreadline.5.2.dylib" "/Library/Frameworks/R.framework/Versions/3.3/Resources/lib/libreadline.5.2.dylib" "metaArray.buildbin-libdir/metaArray/libs//metaArray.so"
install_name_tool -change "/usr/local/lib/libreadline.dylib" "/Library/Frameworks/R.framework/Versions/3.3/Resources/lib/libreadline.dylib" "metaArray.buildbin-libdir/metaArray/libs//metaArray.so"
install_name_tool -change "/usr/local/lib/libquadmath.0.dylib" "/Library/Frameworks/R.framework/Versions/3.3/Resources/lib/libquadmath.0.dylib" "metaArray.buildbin-libdir/metaArray/libs//metaArray.so"