mdqc 1.33.0 Gabriela Cohen-Freue
Snapshot Date: 2015-10-26 20:20:04 -0400 (Mon, 26 Oct 2015) | URL: https://hedgehog.fhcrc.org/bioconductor/trunk/madman/Rpacks/mdqc | Last Changed Rev: 109592 / Revision: 109948 | Last Changed Date: 2015-10-13 15:59:53 -0400 (Tue, 13 Oct 2015) |
| linux2.bioconductor.org | Linux (Ubuntu 14.04.2 LTS) / x86_64 | OK | OK | OK | | |
windows2.bioconductor.org | Windows Server 2012 R2 Enterprise SP1 (64-bit) / x64 | OK | OK | OK | [ OK ] | |
##############################################################################
##############################################################################
###
### Running command:
###
### cd mdqc.buildbin-libdir/mdqc && zip -r ../../mdqc_1.33.0.zip . & cd ../..
###
##############################################################################
##############################################################################
adding: data/ (208 bytes security) (stored 0%)
adding: data/allQC.rda (188 bytes security) (stored 0%)
adding: DESCRIPTION (188 bytes security) (deflated 39%)
adding: doc/ (208 bytes security) (stored 0%)
adding: doc/index.html (188 bytes security) (deflated 58%)
adding: doc/mdqcvignette.pdf (188 bytes security) (deflated 12%)
adding: doc/mdqcvignette.R (188 bytes security) (deflated 83%)
adding: doc/mdqcvignette.Rnw (188 bytes security) (deflated 64%)
adding: help/ (208 bytes security) (stored 0%)
adding: help/aliases.rds (188 bytes security) (stored 0%)
adding: help/AnIndex (188 bytes security) (deflated 39%)
adding: help/mdqc.rdb (188 bytes security) (deflated 0%)
adding: help/mdqc.rdx (188 bytes security) (stored 0%)
adding: help/paths.rds (188 bytes security) (stored 0%)
adding: html/ (208 bytes security) (stored 0%)
adding: html/00Index.html (188 bytes security) (deflated 59%)
adding: html/R.css (188 bytes security) (deflated 75%)
adding: INDEX (188 bytes security) (deflated 50%)
adding: MD5 (188 bytes security) (deflated 42%)
adding: Meta/ (208 bytes security) (stored 0%)
adding: Meta/data.rds (188 bytes security) (stored 0%)
adding: Meta/hsearch.rds (188 bytes security) (stored 0%)
adding: Meta/links.rds (188 bytes security) (stored 0%)
adding: Meta/nsInfo.rds (188 bytes security) (stored 0%)
adding: Meta/package.rds (188 bytes security) (stored 0%)
adding: Meta/Rd.rds (188 bytes security) (stored 0%)
adding: Meta/vignette.rds (188 bytes security) (stored 0%)
adding: NAMESPACE (188 bytes security) (deflated 33%)
adding: R/ (208 bytes security) (stored 0%)
adding: R/mdqc (188 bytes security) (deflated 41%)
adding: R/mdqc.rdb (188 bytes security) (deflated 4%)
adding: R/mdqc.rdx (188 bytes security) (stored 0%)