| marray 1.50.0 Yee Hwa (Jean) Yang
 
 | Snapshot Date: 2016-10-12 17:20:15 -0700 (Wed, 12 Oct 2016) |  | URL: https://hedgehog.fhcrc.org/bioconductor/branches/RELEASE_3_3/madman/Rpacks/marray |  | Last Changed Rev: 117079 / Revision: 122332 |  | Last Changed Date: 2016-05-03 14:20:18 -0700 (Tue, 03 May 2016) | 
 | zin2 | Linux (Ubuntu 14.04.2 LTS) / x86_64 | OK | OK | OK |  |  | 
| moscato2 | Windows Server 2008 R2 Enterprise SP1 (64-bit) / x64 | OK | OK | OK | [ OK ] |  | 
| oaxaca | Mac OS X Mavericks (10.9.5) / x86_64 | OK | OK | OK | OK |  | 
##############################################################################
##############################################################################
###
### Running command:
###
###   cd marray.buildbin-libdir/marray && zip -r ../../marray_1.50.0.zip . & cd ../..
###
##############################################################################
##############################################################################
  adding: data/ (256 bytes security) (stored 0%)
  adding: data/swirl.RData (188 bytes security) (deflated 0%)
  adding: DESCRIPTION (188 bytes security) (deflated 41%)
  adding: doc/ (256 bytes security) (stored 0%)
  adding: doc/index.html (188 bytes security) (deflated 81%)
  adding: doc/marray.pdf (188 bytes security) (deflated 7%)
  adding: doc/marray.R (188 bytes security) (deflated 71%)
  adding: doc/marray.Rnw (188 bytes security) (deflated 61%)
  adding: doc/marrayClasses.pdf (188 bytes security) (deflated 10%)
  adding: doc/marrayClasses.R (188 bytes security) (deflated 81%)
  adding: doc/marrayClasses.Rnw (188 bytes security) (deflated 69%)
  adding: doc/marrayClassesShort.pdf (188 bytes security) (deflated 9%)
  adding: doc/marrayClassesShort.R (188 bytes security) (deflated 79%)
  adding: doc/marrayClassesShort.Rnw (188 bytes security) (deflated 64%)
  adding: doc/marrayInput.pdf (188 bytes security) (deflated 9%)
  adding: doc/marrayInput.R (188 bytes security) (deflated 75%)
  adding: doc/marrayInput.Rnw (188 bytes security) (deflated 65%)
  adding: doc/marrayNorm.pdf (188 bytes security) (deflated 9%)
  adding: doc/marrayNorm.R (188 bytes security) (deflated 82%)
  adding: doc/marrayNorm.Rnw (188 bytes security) (deflated 71%)
  adding: doc/marrayPlots.pdf (188 bytes security) (deflated 31%)
  adding: doc/marrayPlots.R (188 bytes security) (deflated 82%)
  adding: doc/marrayPlots.Rnw (188 bytes security) (deflated 70%)
  adding: help/ (256 bytes security) (stored 0%)
  adding: help/aliases.rds (188 bytes security) (stored 0%)
  adding: help/AnIndex (188 bytes security) (deflated 84%)
  adding: help/marray.rdb (188 bytes security) (deflated 1%)
  adding: help/marray.rdx (188 bytes security) (stored 0%)
  adding: help/paths.rds (188 bytes security) (stored 0%)
  adding: html/ (256 bytes security) (stored 0%)
  adding: html/00Index.html (188 bytes security) (deflated 92%)
  adding: html/R.css (188 bytes security) (deflated 75%)
  adding: INDEX (188 bytes security) (deflated 71%)
  adding: LICENSE (188 bytes security) (deflated 62%)
  adding: MD5 (188 bytes security) (deflated 47%)
  adding: Meta/ (256 bytes security) (stored 0%)
  adding: Meta/data.rds (188 bytes security) (stored 0%)
  adding: Meta/hsearch.rds (188 bytes security) (deflated 0%)
  adding: Meta/links.rds (188 bytes security) (stored 0%)
  adding: Meta/nsInfo.rds (188 bytes security) (stored 0%)
  adding: Meta/package.rds (188 bytes security) (stored 0%)
  adding: Meta/Rd.rds (188 bytes security) (stored 0%)
  adding: Meta/vignette.rds (188 bytes security) (stored 0%)
  adding: NAMESPACE (188 bytes security) (deflated 63%)
  adding: R/ (256 bytes security) (stored 0%)
  adding: R/marray (188 bytes security) (deflated 41%)
  adding: R/marray.rdb (188 bytes security) (deflated 33%)
  adding: R/marray.rdx (188 bytes security) (deflated 3%)
  adding: swirldata/ (256 bytes security) (stored 0%)
  adding: swirldata/fish.gal (188 bytes security) (deflated 73%)
  adding: swirldata/swirl.1.spot (188 bytes security) (deflated 58%)
  adding: swirldata/swirl.2.spot (188 bytes security) (deflated 57%)
  adding: swirldata/swirl.3.spot (188 bytes security) (deflated 58%)
  adding: swirldata/swirl.4.spot (188 bytes security) (deflated 58%)
  adding: swirldata/SwirlSample.txt (188 bytes security) (deflated 49%)