maSigPro 1.43.0 Maria Jose Nueda
Snapshot Date: 2016-04-20 17:20:35 -0700 (Wed, 20 Apr 2016) | URL: https://hedgehog.fhcrc.org/bioconductor/trunk/madman/Rpacks/maSigPro | Last Changed Rev: 110960 / Revision: 116626 | Last Changed Date: 2015-11-27 04:31:55 -0800 (Fri, 27 Nov 2015) |
| zin2 | Linux (Ubuntu 14.04.2 LTS) / x86_64 | OK | OK | OK | | |
moscato2 | Windows Server 2008 R2 Enterprise SP1 (64-bit) / x64 | OK | OK | OK | OK | |
morelia | Mac OS X Mavericks (10.9.5) / x86_64 | OK | OK | [ OK ] | OK | |
##############################################################################
##############################################################################
###
### Running command:
###
### /Library/Frameworks/R.framework/Versions/Current/Resources/bin/R CMD check --no-vignettes --timings maSigPro_1.43.0.tar.gz
###
##############################################################################
##############################################################################
* using log directory ‘/Users/biocbuild/bbs-3.3-bioc/meat/maSigPro.Rcheck’
* using R version 3.3.0 beta (2016-04-06 r70435)
* using platform: x86_64-apple-darwin13.4.0 (64-bit)
* using session charset: UTF-8
* using option ‘--no-vignettes’
* checking for file ‘maSigPro/DESCRIPTION’ ... OK
* checking extension type ... Package
* this is package ‘maSigPro’ version ‘1.43.0’
* checking package namespace information ... OK
* checking package dependencies ... OK
* checking if this is a source package ... OK
* checking if there is a namespace ... OK
* checking for hidden files and directories ... OK
* checking for portable file names ... OK
* checking for sufficient/correct file permissions ... OK
* checking whether package ‘maSigPro’ can be installed ... [4s/5s] OK
* checking installed package size ... OK
* checking package directory ... OK
* checking ‘build’ directory ... OK
* checking DESCRIPTION meta-information ... NOTE
Packages listed in more than one of Depends, Imports, Suggests, Enhances:
‘Biobase’ ‘stats’ ‘MASS’
A package should be listed in only one of these fields.
* checking top-level files ... OK
* checking for left-over files ... OK
* checking index information ... OK
* checking package subdirectories ... OK
* checking R files for non-ASCII characters ... OK
* checking R files for syntax errors ... OK
* checking whether the package can be loaded ... OK
* checking whether the package can be loaded with stated dependencies ... OK
* checking whether the package can be unloaded cleanly ... OK
* checking whether the namespace can be loaded with stated dependencies ... OK
* checking whether the namespace can be unloaded cleanly ... OK
* checking dependencies in R code ... NOTE
Namespace in Imports field not imported from: ‘utils’
All declared Imports should be used.
* checking S3 generic/method consistency ... OK
* checking replacement functions ... OK
* checking foreign function calls ... OK
* checking R code for possible problems ... NOTE
see.genes: warning in mfuzz(signif, c = k, m = m): partial argument
match of 'c' to 'centers'
T.fit: no visible global function definition for ‘gaussian’
T.fit: no visible global function definition for ‘glm’
T.fit: no visible global function definition for ‘anova’
p.vector: no visible global function definition for ‘gaussian’
p.vector: no visible global function definition for ‘glm’
p.vector: no visible global function definition for ‘anova’
stepback: no visible global function definition for ‘gaussian’
stepback: no visible global function definition for ‘glm’
stepfor: no visible global function definition for ‘gaussian’
stepfor: no visible global function definition for ‘glm’
two.ways.stepback: no visible global function definition for ‘gaussian’
two.ways.stepback: no visible global function definition for ‘glm’
two.ways.stepfor: no visible global function definition for ‘gaussian’
two.ways.stepfor: no visible global function definition for ‘glm’
Undefined global functions or variables:
anova gaussian glm
Consider adding
importFrom("stats", "anova", "gaussian", "glm")
to your NAMESPACE file.
* checking Rd files ... OK
* checking Rd metadata ... OK
* checking Rd cross-references ... OK
* checking for missing documentation entries ... OK
* checking for code/documentation mismatches ... OK
* checking Rd \usage sections ... OK
* checking Rd contents ... OK
* checking for unstated dependencies in examples ... OK
* checking contents of ‘data’ directory ... OK
* checking data for non-ASCII characters ... OK
* checking data for ASCII and uncompressed saves ... OK
* checking sizes of PDF files under ‘inst/doc’ ... OK
* checking installed files from ‘inst/doc’ ... OK
* checking files in ‘vignettes’ ... OK
* checking examples ... [29s/37s] OK
Examples with CPU or elapsed time > 5s
user system elapsed
T.fit 9.893 0.619 10.832
maSigPro 6.785 0.434 7.320
get.siggenes 4.751 0.293 5.178
see.genes 1.081 0.149 5.499
* checking for unstated dependencies in vignettes ... OK
* checking package vignettes in ‘inst/doc’ ... OK
* checking running R code from vignettes ... SKIPPED
* checking re-building of vignette outputs ... SKIPPED
* checking PDF version of manual ... OK
* DONE
Status: 3 NOTEs
See
‘/Users/biocbuild/bbs-3.3-bioc/meat/maSigPro.Rcheck/00check.log’
for details.