interactiveDisplayBase 1.9.0 Shawn Balcome
Snapshot Date: 2015-10-26 20:20:04 -0400 (Mon, 26 Oct 2015) | URL: https://hedgehog.fhcrc.org/bioconductor/trunk/madman/Rpacks/interactiveDisplayBase | Last Changed Rev: 109592 / Revision: 109948 | Last Changed Date: 2015-10-13 15:59:53 -0400 (Tue, 13 Oct 2015) |
| linux2.bioconductor.org | Linux (Ubuntu 14.04.2 LTS) / x86_64 | OK | OK | OK | | |
windows2.bioconductor.org | Windows Server 2012 R2 Enterprise SP1 (64-bit) / x64 | OK | OK | OK | [ OK ] | |
##############################################################################
##############################################################################
###
### Running command:
###
### cd interactiveDisplayBase.buildbin-libdir/interactiveDisplayBase && zip -r ../../interactiveDisplayBase_1.9.0.zip . & cd ../..
###
##############################################################################
##############################################################################
adding: DESCRIPTION (188 bytes security) (deflated 42%)
adding: doc/ (208 bytes security) (stored 0%)
adding: doc/index.html (188 bytes security) (deflated 60%)
adding: doc/interactiveDisplayBase.html (188 bytes security) (deflated 60%)
adding: doc/interactiveDisplayBase.Rmd (188 bytes security) (deflated 52%)
adding: help/ (208 bytes security) (stored 0%)
adding: help/aliases.rds (188 bytes security) (stored 0%)
adding: help/AnIndex (188 bytes security) (deflated 63%)
adding: help/interactiveDisplayBase.rdb (188 bytes security) (stored 0%)
adding: help/interactiveDisplayBase.rdx (188 bytes security) (stored 0%)
adding: help/paths.rds (188 bytes security) (stored 0%)
adding: html/ (208 bytes security) (stored 0%)
adding: html/00Index.html (188 bytes security) (deflated 58%)
adding: html/R.css (188 bytes security) (deflated 75%)
adding: INDEX (188 bytes security) (deflated 44%)
adding: MD5 (188 bytes security) (deflated 44%)
adding: Meta/ (208 bytes security) (stored 0%)
adding: Meta/hsearch.rds (188 bytes security) (stored 0%)
adding: Meta/links.rds (188 bytes security) (stored 0%)
adding: Meta/nsInfo.rds (188 bytes security) (stored 0%)
adding: Meta/package.rds (188 bytes security) (stored 0%)
adding: Meta/Rd.rds (188 bytes security) (stored 0%)
adding: Meta/vignette.rds (188 bytes security) (stored 0%)
adding: NAMESPACE (188 bytes security) (deflated 36%)
adding: NEWS.Rd (188 bytes security) (deflated 43%)
adding: R/ (208 bytes security) (stored 0%)
adding: R/interactiveDisplayBase (188 bytes security) (deflated 41%)
adding: R/interactiveDisplayBase.rdb (188 bytes security) (deflated 10%)
adding: R/interactiveDisplayBase.rdx (188 bytes security) (stored 0%)
adding: script/ (208 bytes security) (stored 0%)
adding: script/test.R (188 bytes security) (deflated 38%)
adding: www/ (208 bytes security) (stored 0%)
adding: www/css/ (208 bytes security) (stored 0%)
adding: www/css/interactiveDisplayBase.css (188 bytes security) (deflated 19%)
adding: www/js/ (208 bytes security) (stored 0%)
adding: www/js/DTbinding.js (188 bytes security) (deflated 62%)