Back to the "Multiple platform build/check report" A  B  C  D  E  F  G  H [I] J  K  L  M  N  O  P  Q  R  S  T  U  V  W  X  Y  Z 

BioC 3.3: BUILD BIN report for inSilicoDb on morelia

This page was generated on 2016-04-12 16:39:55 -0700 (Tue, 12 Apr 2016).

Package 582/1202HostnameOS / ArchINSTALLBUILDCHECKBUILD BIN
inSilicoDb 2.7.0
InSilico DB
Snapshot Date: 2016-04-11 17:20:27 -0700 (Mon, 11 Apr 2016)
URL: https://hedgehog.fhcrc.org/bioconductor/trunk/madman/Rpacks/inSilicoDb
Last Changed Rev: 109592 / Revision: 116169
Last Changed Date: 2015-10-13 12:59:53 -0700 (Tue, 13 Oct 2015)
zin2 Linux (Ubuntu 14.04.2 LTS) / x86_64  OK  OK  OK UNNEEDED, same version exists in internal repository
morelia Mac OS X Mavericks (10.9.5) / x86_64  OK  OK  OK [ OK ]UNNEEDED, same version exists in internal repository

Summary

Package: inSilicoDb
Version: 2.7.0
Command: rm -rf inSilicoDb.buildbin-libdir && mkdir inSilicoDb.buildbin-libdir && /Users/biocbuild/BBS/utils/build-universal.sh inSilicoDb_2.7.0.tar.gz /Library/Frameworks/R.framework/Versions/Current/Resources/bin/R inSilicoDb.buildbin-libdir
StartedAt: 2016-04-12 08:17:55 -0700 (Tue, 12 Apr 2016)
EndedAt: 2016-04-12 08:17:59 -0700 (Tue, 12 Apr 2016)
EllapsedTime: 4.0 seconds
RetCode: 0
Status:  OK 
PackageFile: inSilicoDb_2.7.0.tgz
PackageFileSize: 374.7 KiB

Command output

##############################################################################
##############################################################################
###
### Running command:
###
###   rm -rf inSilicoDb.buildbin-libdir && mkdir inSilicoDb.buildbin-libdir && /Users/biocbuild/BBS/utils/build-universal.sh inSilicoDb_2.7.0.tar.gz /Library/Frameworks/R.framework/Versions/Current/Resources/bin/R inSilicoDb.buildbin-libdir
###
##############################################################################
##############################################################################


>>>>>>> 
>>>>>>> INSTALLATION WITH 'R CMD INSTALL --preclean --no-multiarch --library=inSilicoDb.buildbin-libdir inSilicoDb_2.7.0.tar.gz'
>>>>>>> 

* installing *source* package ‘inSilicoDb’ ...
** R
** inst
** preparing package for lazy loading
** help
*** installing help indices
** building package indices
** installing vignettes
** testing if installed package can be loaded
* DONE (inSilicoDb)