goseq 1.23.2 Nadia Davidson , Anthony Hawkins
Snapshot Date: 2016-04-20 17:20:35 -0700 (Wed, 20 Apr 2016) | URL: https://hedgehog.fhcrc.org/bioconductor/trunk/madman/Rpacks/goseq | Last Changed Rev: 115555 / Revision: 116626 | Last Changed Date: 2016-03-31 13:42:50 -0700 (Thu, 31 Mar 2016) |
| zin2 | Linux (Ubuntu 14.04.2 LTS) / x86_64 | OK | OK | OK | | |
moscato2 | Windows Server 2008 R2 Enterprise SP1 (64-bit) / x64 | OK | OK | OK | OK | |
morelia | Mac OS X Mavericks (10.9.5) / x86_64 | OK | OK | [ OK ] | OK | |
##############################################################################
##############################################################################
###
### Running command:
###
### /Library/Frameworks/R.framework/Versions/Current/Resources/bin/R CMD check --no-vignettes --timings goseq_1.23.2.tar.gz
###
##############################################################################
##############################################################################
* using log directory ‘/Users/biocbuild/bbs-3.3-bioc/meat/goseq.Rcheck’
* using R version 3.3.0 beta (2016-04-06 r70435)
* using platform: x86_64-apple-darwin13.4.0 (64-bit)
* using session charset: UTF-8
* using option ‘--no-vignettes’
* checking for file ‘goseq/DESCRIPTION’ ... OK
* this is package ‘goseq’ version ‘1.23.2’
* checking package namespace information ... OK
* checking package dependencies ... OK
* checking if this is a source package ... OK
* checking if there is a namespace ... OK
* checking for hidden files and directories ... OK
* checking for portable file names ... OK
* checking for sufficient/correct file permissions ... OK
* checking whether package ‘goseq’ can be installed ... [20s/20s] OK
* checking installed package size ... OK
* checking package directory ... OK
* checking ‘build’ directory ... OK
* checking DESCRIPTION meta-information ... NOTE
Malformed Description field: should contain one or more complete sentences.
* checking top-level files ... OK
* checking for left-over files ... OK
* checking index information ... OK
* checking package subdirectories ... OK
* checking R files for non-ASCII characters ... OK
* checking R files for syntax errors ... OK
* checking whether the package can be loaded ... OK
* checking whether the package can be loaded with stated dependencies ... OK
* checking whether the package can be unloaded cleanly ... OK
* checking whether the namespace can be loaded with stated dependencies ... OK
* checking whether the namespace can be unloaded cleanly ... OK
* checking dependencies in R code ... NOTE
'library' or 'require' call to ‘rtracklayer’ in package code.
Please use :: or requireNamespace() instead.
See section 'Suggested packages' in the 'Writing R Extensions' manual.
* checking S3 generic/method consistency ... OK
* checking replacement functions ... OK
* checking foreign function calls ... OK
* checking R code for possible problems ... NOTE
getgo: no visible global function definition for ‘toTable’
getlength: no visible global function definition for
‘installed.packages’
getlength: no visible global function definition for ‘tail’
getlength: no visible global function definition for ‘toTable’
getlength: no visible global function definition for
‘transcriptLengths’
getlength: no visible global function definition for ‘browserSession’
getlength: no visible global function definition for ‘genome<-’
getlength: no visible global function definition for ‘ucscTableQuery’
getlength: no visible global function definition for ‘getTable’
supportedOrganisms: no visible global function definition for
‘ucscGenomes’
Undefined global functions or variables:
browserSession genome<- getTable installed.packages tail toTable
transcriptLengths ucscGenomes ucscTableQuery
Consider adding
importFrom("utils", "installed.packages", "tail")
to your NAMESPACE file.
* checking Rd files ... OK
* checking Rd metadata ... OK
* checking Rd cross-references ... OK
* checking for missing documentation entries ... OK
* checking for code/documentation mismatches ... OK
* checking Rd \usage sections ... OK
* checking Rd contents ... OK
* checking for unstated dependencies in examples ... OK
* checking contents of ‘data’ directory ... OK
* checking data for non-ASCII characters ... OK
* checking data for ASCII and uncompressed saves ... OK
* checking sizes of PDF files under ‘inst/doc’ ... OK
* checking installed files from ‘inst/doc’ ... OK
* checking files in ‘vignettes’ ... OK
* checking examples ... [83s/97s] OK
Examples with CPU or elapsed time > 5s
user system elapsed
goseq 32.994 2.346 35.865
getgo 16.196 1.396 17.707
nullp 7.526 0.552 8.187
plotPWF 5.446 0.373 5.900
getlength 5.023 0.288 18.706
* checking for unstated dependencies in vignettes ... OK
* checking package vignettes in ‘inst/doc’ ... OK
* checking running R code from vignettes ... SKIPPED
* checking re-building of vignette outputs ... SKIPPED
* checking PDF version of manual ... OK
* DONE
Status: 3 NOTEs
See
‘/Users/biocbuild/bbs-3.3-bioc/meat/goseq.Rcheck/00check.log’
for details.