ggcyto 0.99.8 Mike Jiang
Snapshot Date: 2016-04-20 17:20:35 -0700 (Wed, 20 Apr 2016) | URL: https://hedgehog.fhcrc.org/bioconductor/trunk/madman/Rpacks/ggcyto | Last Changed Rev: 114231 / Revision: 116626 | Last Changed Date: 2016-03-03 15:32:08 -0800 (Thu, 03 Mar 2016) |
| zin2 | Linux (Ubuntu 14.04.2 LTS) / x86_64 | OK | OK | OK | | |
moscato2 | Windows Server 2008 R2 Enterprise SP1 (64-bit) / x64 | OK | OK | OK | OK | |
morelia | Mac OS X Mavericks (10.9.5) / x86_64 | OK | [ OK ] | OK | OK | |
##############################################################################
##############################################################################
###
### Running command:
###
### /Library/Frameworks/R.framework/Versions/Current/Resources/bin/R CMD build --keep-empty-dirs --no-resave-data ggcyto
###
##############################################################################
##############################################################################
* checking for file ‘ggcyto/DESCRIPTION’ ... OK
* preparing ‘ggcyto’:
* checking DESCRIPTION meta-information ... OK
* installing the package to process help pages
* saving partial Rd database
* creating vignettes ... OK
* checking for LF line-endings in source and make files
* checking for empty or unneeded directories
* building ‘ggcyto_0.99.8.tar.gz’