genomeIntervals 1.27.0 Julien Gagneur
 | Snapshot Date: 2015-10-26 20:20:04 -0400 (Mon, 26 Oct 2015) |  | URL: https://hedgehog.fhcrc.org/bioconductor/trunk/madman/Rpacks/genomeIntervals |  | Last Changed Rev: 109592 / Revision: 109948 |  | Last Changed Date: 2015-10-13 15:59:53 -0400 (Tue, 13 Oct 2015) |  
  | linux2.bioconductor.org  | Linux (Ubuntu 14.04.2 LTS) / x86_64  |  OK  |  OK  |  OK  |  |   | 
| windows2.bioconductor.org  | Windows Server 2012 R2 Enterprise SP1 (64-bit) / x64  |  OK  |  OK  |  OK  | [ OK ] |   | 
##############################################################################
##############################################################################
###
### Running command:
###
###   cd genomeIntervals.buildbin-libdir/genomeIntervals && zip -r ../../genomeIntervals_1.27.0.zip . & cd ../..
###
##############################################################################
##############################################################################
  adding: data/ (208 bytes security) (stored 0%)
  adding: data/gen_ints.rda (188 bytes security) (stored 0%)
  adding: DESCRIPTION (188 bytes security) (deflated 50%)
  adding: doc/ (208 bytes security) (stored 0%)
  adding: doc/genomeIntervals.pdf (188 bytes security) (deflated 7%)
  adding: doc/genomeIntervals.R (188 bytes security) (deflated 79%)
  adding: doc/genomeIntervals.Rnw (188 bytes security) (deflated 62%)
  adding: doc/index.html (188 bytes security) (deflated 60%)
  adding: example_files/ (208 bytes security) (stored 0%)
  adding: example_files/sgd_simple.gff (188 bytes security) (deflated 69%)
  adding: help/ (208 bytes security) (stored 0%)
  adding: help/aliases.rds (188 bytes security) (stored 0%)
  adding: help/AnIndex (188 bytes security) (deflated 87%)
  adding: help/genomeIntervals.rdb (188 bytes security) (deflated 1%)
  adding: help/genomeIntervals.rdx (188 bytes security) (stored 0%)
  adding: help/paths.rds (188 bytes security) (stored 0%)
  adding: html/ (208 bytes security) (stored 0%)
  adding: html/00Index.html (188 bytes security) (deflated 88%)
  adding: html/R.css (188 bytes security) (deflated 75%)
  adding: INDEX (188 bytes security) (deflated 66%)
  adding: MD5 (188 bytes security) (deflated 43%)
  adding: Meta/ (208 bytes security) (stored 0%)
  adding: Meta/data.rds (188 bytes security) (stored 0%)
  adding: Meta/hsearch.rds (188 bytes security) (stored 0%)
  adding: Meta/links.rds (188 bytes security) (stored 0%)
  adding: Meta/nsInfo.rds (188 bytes security) (stored 0%)
  adding: Meta/package.rds (188 bytes security) (stored 0%)
  adding: Meta/Rd.rds (188 bytes security) (stored 0%)
  adding: Meta/vignette.rds (188 bytes security) (stored 0%)
  adding: NAMESPACE (188 bytes security) (deflated 77%)
  adding: NEWS (188 bytes security) (deflated 67%)
  adding: R/ (208 bytes security) (stored 0%)
  adding: R/genomeIntervals (188 bytes security) (deflated 41%)
  adding: R/genomeIntervals.rdb (188 bytes security) (deflated 39%)
  adding: R/genomeIntervals.rdx (188 bytes security) (deflated 1%)