Back to the "Multiple platform build/check report" A  B  C  D  E  F [G] H  I  J  K  L  M  N  O  P  Q  R  S  T  U  V  W  X  Y  Z 

BioC 3.3: CHECK report for gCMAP on windows2.bioconductor.org

This page was generated on 2015-10-27 12:15:06 -0400 (Tue, 27 Oct 2015).

Package 389/1104HostnameOS / ArchINSTALLBUILDCHECKBUILD BIN
gCMAP 1.15.0
Thomas Sandmann
Snapshot Date: 2015-10-26 20:20:04 -0400 (Mon, 26 Oct 2015)
URL: https://hedgehog.fhcrc.org/bioconductor/trunk/madman/Rpacks/gCMAP
Last Changed Rev: 109592 / Revision: 109948
Last Changed Date: 2015-10-13 15:59:53 -0400 (Tue, 13 Oct 2015)
linux2.bioconductor.org Linux (Ubuntu 14.04.2 LTS) / x86_64  OK  OK  OK UNNEEDED, same version exists in internal repository
windows2.bioconductor.org Windows Server 2012 R2 Enterprise SP1 (64-bit) / x64  OK  OK [ OK ] OK UNNEEDED, same version exists in internal repository

Summary

Package: gCMAP
Version: 1.15.0
Command: rm -rf gCMAP.buildbin-libdir gCMAP.Rcheck && mkdir gCMAP.buildbin-libdir gCMAP.Rcheck && c:\biocbld\bbs-3.3-bioc\R\bin\R.exe CMD INSTALL --build --merge-multiarch --library=gCMAP.buildbin-libdir gCMAP_1.15.0.tar.gz >gCMAP.Rcheck\00install.out 2>&1 && cp gCMAP.Rcheck\00install.out gCMAP-install.out && c:\biocbld\bbs-3.3-bioc\R\bin\R.exe CMD check --library=gCMAP.buildbin-libdir --install="check:gCMAP-install.out" --force-multiarch --no-vignettes --timings gCMAP_1.15.0.tar.gz
StartedAt: 2015-10-27 02:31:32 -0400 (Tue, 27 Oct 2015)
EndedAt: 2015-10-27 02:35:58 -0400 (Tue, 27 Oct 2015)
EllapsedTime: 266.0 seconds
RetCode: 0
Status:  OK  
CheckDir: gCMAP.Rcheck
Warnings: 0

Command output

##############################################################################
##############################################################################
###
### Running command:
###
###   rm -rf gCMAP.buildbin-libdir gCMAP.Rcheck && mkdir gCMAP.buildbin-libdir gCMAP.Rcheck && c:\biocbld\bbs-3.3-bioc\R\bin\R.exe CMD INSTALL --build --merge-multiarch --library=gCMAP.buildbin-libdir gCMAP_1.15.0.tar.gz >gCMAP.Rcheck\00install.out 2>&1 && cp gCMAP.Rcheck\00install.out gCMAP-install.out  && c:\biocbld\bbs-3.3-bioc\R\bin\R.exe CMD check --library=gCMAP.buildbin-libdir --install="check:gCMAP-install.out" --force-multiarch --no-vignettes --timings gCMAP_1.15.0.tar.gz
###
##############################################################################
##############################################################################


* using log directory 'c:/biocbld/bbs-3.3-bioc/meat/gCMAP.Rcheck'
* using R Under development (unstable) (2015-09-22 r69418)
* using platform: x86_64-w64-mingw32 (64-bit)
* using session charset: ISO8859-1
* using option '--no-vignettes'
* checking for file 'gCMAP/DESCRIPTION' ... OK
* checking extension type ... Package
* this is package 'gCMAP' version '1.15.0'
* checking package namespace information ... OK
* checking package dependencies ... NOTE
Packages which this enhances but not available for checking:
  'bigmemory' 'bigmemoryExtras'
* checking if this is a source package ... OK
* checking if there is a namespace ... OK
* checking for hidden files and directories ... OK
* checking for portable file names ... OK
* checking whether package 'gCMAP' can be installed ... OK
* checking installed package size ... OK
* checking package directory ... OK
* checking 'build' directory ... OK
* checking DESCRIPTION meta-information ... OK
* checking top-level files ... OK
* checking for left-over files ... OK
* checking index information ... OK
* checking package subdirectories ... OK
* checking R files for non-ASCII characters ... OK
* checking R files for syntax errors ... OK
* loading checks for arch 'i386'
** checking whether the package can be loaded ... OK
** checking whether the package can be loaded with stated dependencies ... OK
** checking whether the package can be unloaded cleanly ... OK
** checking whether the namespace can be loaded with stated dependencies ... OK
** checking whether the namespace can be unloaded cleanly ... OK
* loading checks for arch 'x64'
** checking whether the package can be loaded ... OK
** checking whether the package can be loaded with stated dependencies ... OK
** checking whether the package can be unloaded cleanly ... OK
** checking whether the namespace can be loaded with stated dependencies ... OK
** checking whether the namespace can be unloaded cleanly ... OK
* checking dependencies in R code ... NOTE
'library' or 'require' calls in package code:
  'GO.db' 'KEGG.db' 'bigmemoryExtras'
  Please use :: or requireNamespace() instead.
  See section 'Suggested packages' in the 'Writing R Extensions' manual.
* checking S3 generic/method consistency ... OK
* checking replacement functions ... OK
* checking foreign function calls ... OK
* checking R code for possible problems ... NOTE
camera_score,eSet-CMAPCollection: no visible global function definition
  for 'camera'
induceCMAPCollection,eSet : <anonymous>: no visible global function
  definition for 'mwhich'
mroast_score,eSet-CMAPCollection: no visible global function definition
  for 'mroast'
romer_score,eSet-CMAPCollection: no visible global function definition
  for 'romer'
Undefined global functions or variables:
  camera mroast mwhich romer
* checking Rd files ... OK
* checking Rd metadata ... OK
* checking Rd cross-references ... OK
* checking for missing documentation entries ... OK
* checking for code/documentation mismatches ... OK
* checking Rd \usage sections ... OK
* checking Rd contents ... OK
* checking for unstated dependencies in examples ... OK
* checking contents of 'data' directory ... OK
* checking data for non-ASCII characters ... OK
* checking data for ASCII and uncompressed saves ... OK
* checking installed files from 'inst/doc' ... OK
* checking files in 'vignettes' ... OK
* checking examples ...
** running examples for arch 'i386' ... [32s] OK
Examples with CPU or elapsed time > 5s
                     user system elapsed
mgsa_score-methods  15.82   0.20   16.09
romer_score-methods  6.25   0.05    6.29
** running examples for arch 'x64' ... [33s] OK
Examples with CPU or elapsed time > 5s
                     user system elapsed
mgsa_score-methods  13.69    0.3   14.06
romer_score-methods  5.75    0.0    5.75
* checking for unstated dependencies in 'tests' ... OK
* checking tests ...
** running tests for arch 'i386' ...
  Running 'runTests.R' [21s]
 [21s] OK
** running tests for arch 'x64' ...
  Running 'runTests.R' [24s]
 [24s] OK
* checking for unstated dependencies in vignettes ... OK
* checking package vignettes in 'inst/doc' ... OK
* checking running R code from vignettes ... SKIPPED
* checking re-building of vignette outputs ... SKIPPED
* checking PDF version of manual ... OK
* DONE

Status: 3 NOTEs
See
  'c:/biocbld/bbs-3.3-bioc/meat/gCMAP.Rcheck/00check.log'
for details.


gCMAP.Rcheck/00install.out:


install for i386

* installing *source* package 'gCMAP' ...
** R
** data
** inst
** byte-compile and prepare package for lazy loading
** help
*** installing help indices
** building package indices
** installing vignettes
** testing if installed package can be loaded

install for x64

* installing *source* package 'gCMAP' ...
** testing if installed package can be loaded
* MD5 sums
packaged installation of 'gCMAP' as gCMAP_1.15.0.zip
* DONE (gCMAP)

gCMAP.Rcheck/examples_i386/gCMAP-Ex.timings:

nameusersystemelapsed
CMAPCollection-class0.220.030.25
CMAPResults-class1.470.081.55
KEGG2cmap000
SignedGeneSet-class0.040.000.05
annotate_eset_list0.100.000.09
camera_score-methods0.260.020.28
center_eSet0.020.010.03
connectivity_score-methods0.120.000.13
eSetOnDisk000
eset_instances0.050.000.04
featureScores-methods0.060.020.08
fisher_score-methods0.100.010.11
gCMAPData-dataset0.040.000.05
geneIndex-methods0.050.000.05
generate_gCMAP_NChannelSet0.110.000.11
gsealm_jg_score-methods0.160.020.17
gsealm_score-methods1.580.021.59
induceCMAPCollection-methods0.030.000.03
mapNmerge000
memorize000
mergeCMAPs0.060.000.06
mgsa_score-methods15.82 0.2016.09
minSetSize-methods0.040.000.05
mroast_score-methods0.550.000.55
romer_score-methods6.250.056.29
signedRankSumTest000
splitPerturbations0.060.000.07
wilcox_score-methods0.130.000.12

gCMAP.Rcheck/examples_x64/gCMAP-Ex.timings:

nameusersystemelapsed
CMAPCollection-class0.320.000.33
CMAPResults-class2.660.022.67
KEGG2cmap000
SignedGeneSet-class0.030.000.03
annotate_eset_list0.080.010.10
camera_score-methods0.330.020.34
center_eSet0.010.000.02
connectivity_score-methods0.140.000.14
eSetOnDisk000
eset_instances0.050.010.07
featureScores-methods0.080.000.07
fisher_score-methods0.100.000.11
gCMAPData-dataset0.070.000.07
geneIndex-methods0.040.000.04
generate_gCMAP_NChannelSet0.130.000.13
gsealm_jg_score-methods0.190.000.19
gsealm_score-methods1.970.001.96
induceCMAPCollection-methods0.030.000.03
mapNmerge000
memorize000
mergeCMAPs0.140.000.14
mgsa_score-methods13.69 0.3014.06
minSetSize-methods0.060.000.06
mroast_score-methods0.620.030.66
romer_score-methods5.750.005.75
signedRankSumTest000
splitPerturbations0.050.020.06
wilcox_score-methods0.130.010.14