fabia 2.17.0 Sepp Hochreiter
Snapshot Date: 2015-10-26 20:20:04 -0400 (Mon, 26 Oct 2015) | URL: https://hedgehog.fhcrc.org/bioconductor/trunk/madman/Rpacks/fabia | Last Changed Rev: 109592 / Revision: 109948 | Last Changed Date: 2015-10-13 15:59:53 -0400 (Tue, 13 Oct 2015) |
| linux2.bioconductor.org | Linux (Ubuntu 14.04.2 LTS) / x86_64 | OK | OK | OK | | |
windows2.bioconductor.org | Windows Server 2012 R2 Enterprise SP1 (64-bit) / x64 | [ OK ] | OK | OK | OK | |
##############################################################################
##############################################################################
###
### Running command:
###
### C:\cygwin64\bin\curl.exe -O http://linux2.bioconductor.org/BBS/3.3/bioc/src/contrib/fabia_2.17.0.tar.gz && c:\biocbld\bbs-3.3-bioc\R\bin\R.exe CMD INSTALL --merge-multiarch fabia_2.17.0.tar.gz && rm fabia_2.17.0.tar.gz
###
##############################################################################
##############################################################################
% Total % Received % Xferd Average Speed Time Time Time Current
Dload Upload Total Spent Left Speed
0 0 0 0 0 0 0 0 --:--:-- --:--:-- --:--:-- 0
100 228k 100 228k 0 0 40.9M 0 --:--:-- --:--:-- --:--:-- 111M
install for i386
* installing to library 'c:/biocbld/bbs-3.3-bioc/R/library'
* installing *source* package 'fabia' ...
** libs
running 'src/Makefile.win' ...
rm -f fabia.o fabia.dll *.a *.o *.so *.dll
gcc -m32 -c fabiac.c -o fabia.o -I"c:/biocbld/BBS-3˜1.3-B/R/include" -Wall -O3
gcc -m32 -shared -s -static-libgcc fabia.o -L"c:/biocbld/BBS-3˜1.3-B/R/bin/i386" -lR -o fabia.dll
rm -f fabia.o *.a *.o *.so
installing to c:/biocbld/bbs-3.3-bioc/R/library/fabia/libs/i386
** R
** demo
** inst
** preparing package for lazy loading
Creating a generic function for 'summary' from package 'base' in package 'fabia'
Creating a generic function for 'plot' from package 'graphics' in package 'fabia'
** help
*** installing help indices
** building package indices
** installing vignettes
** testing if installed package can be loaded
install for x64
* installing to library 'c:/biocbld/bbs-3.3-bioc/R/library'
* installing *source* package 'fabia' ...
** libs
running 'src/Makefile.win' ...
rm -f fabia.o fabia.dll *.a *.o *.so *.dll
gcc -m64 -c fabiac.c -o fabia.o -I"c:/biocbld/BBS-3˜1.3-B/R/include" -Wall -O3
gcc -m64 -shared -s -static-libgcc fabia.o -L"c:/biocbld/BBS-3˜1.3-B/R/bin/x64" -lR -o fabia.dll
rm -f fabia.o *.a *.o *.so
installing to c:/biocbld/bbs-3.3-bioc/R/library/fabia/libs/x64
** testing if installed package can be loaded
* DONE (fabia)