| exomeCopy 1.18.0 Michael Love
 
 | Snapshot Date: 2016-10-12 17:20:15 -0700 (Wed, 12 Oct 2016) |  | URL: https://hedgehog.fhcrc.org/bioconductor/branches/RELEASE_3_3/madman/Rpacks/exomeCopy |  | Last Changed Rev: 117079 / Revision: 122332 |  | Last Changed Date: 2016-05-03 14:20:18 -0700 (Tue, 03 May 2016) | 
 | zin2 | Linux (Ubuntu 14.04.2 LTS) / x86_64 | OK | OK | OK |  |  | 
| moscato2 | Windows Server 2008 R2 Enterprise SP1 (64-bit) / x64 | OK | OK | OK | [ OK ] |  | 
| oaxaca | Mac OS X Mavericks (10.9.5) / x86_64 | OK | OK | OK | OK |  | 
##############################################################################
##############################################################################
###
### Running command:
###
###   cd exomeCopy.buildbin-libdir/exomeCopy && zip -r ../../exomeCopy_1.18.0.zip . & cd ../..
###
##############################################################################
##############################################################################
Scanning files 
  adding: data/ (256 bytes security) (stored 0%)
  adding: data/exomecounts.rda (188 bytes security) (deflated 1%)
  adding: DESCRIPTION (188 bytes security) (deflated 41%)
  adding: doc/ (256 bytes security) (stored 0%)
  adding: doc/exomeCopy.pdf (188 bytes security) (deflated 12%)
  adding: doc/exomeCopy.R (188 bytes security) (deflated 76%)
  adding: doc/exomeCopy.Rnw (188 bytes security) (deflated 66%)
  adding: doc/index.html (188 bytes security) (deflated 58%)
  adding: extdata/ (256 bytes security) (stored 0%)
  adding: extdata/1000Genomes_files.txt (188 bytes security) (deflated 88%)
  adding: extdata/mapping.bam (188 bytes security) (stored 0%)
  adding: extdata/mapping.bam.bai (188 bytes security) (deflated 68%)
  adding: extdata/mapping.sam (188 bytes security) (deflated 92%)
  adding: extdata/reference.fa (188 bytes security) (deflated 63%)
  adding: extdata/reference.fa.fai (188 bytes security) (deflated 22%)
  adding: extdata/targets.bed (188 bytes security) (deflated 35%)
  adding: help/ (256 bytes security) (stored 0%)
  adding: help/aliases.rds (188 bytes security) (stored 0%)
  adding: help/AnIndex (188 bytes security) (deflated 60%)
  adding: help/exomeCopy.rdb (188 bytes security) (deflated 1%)
  adding: help/exomeCopy.rdx (188 bytes security) (stored 0%)
  adding: help/paths.rds (188 bytes security) (stored 0%)
  adding: html/ (256 bytes security) (stored 0%)
  adding: html/00Index.html (188 bytes security) (deflated 68%)
  adding: html/R.css (188 bytes security) (deflated 75%)
  adding: INDEX (188 bytes security) (deflated 59%)
  adding: libs/ (256 bytes security) (stored 0%)
  adding: libs/i386/ (256 bytes security) (stored 0%)
  adding: libs/i386/exomeCopy.dll (188 bytes security) (deflated 59%)
  adding: libs/x64/ (256 bytes security) (stored 0%)
  adding: libs/x64/exomeCopy.dll (188 bytes security) (deflated 60%)
  adding: MD5 (188 bytes security) (deflated 44%)
  adding: Meta/ (256 bytes security) (stored 0%)
  adding: Meta/data.rds (188 bytes security) (stored 0%)
  adding: Meta/hsearch.rds (188 bytes security) (stored 0%)
  adding: Meta/links.rds (188 bytes security) (stored 0%)
  adding: Meta/nsInfo.rds (188 bytes security) (stored 0%)
  adding: Meta/package.rds (188 bytes security) (stored 0%)
  adding: Meta/Rd.rds (188 bytes security) (stored 0%)
  adding: Meta/vignette.rds (188 bytes security) (stored 0%)
  adding: NAMESPACE (188 bytes security) (deflated 48%)
  adding: NEWS (188 bytes security) (deflated 42%)
  adding: R/ (256 bytes security) (stored 0%)
  adding: R/exomeCopy (188 bytes security) (deflated 41%)
  adding: R/exomeCopy.rdb (188 bytes security) (deflated 25%)
  adding: R/exomeCopy.rdx (188 bytes security) (stored 0%)