| epivizr 2.2.4 Hector Corrada Bravo
 
 | Snapshot Date: 2016-10-12 17:20:15 -0700 (Wed, 12 Oct 2016) |  | URL: https://hedgehog.fhcrc.org/bioconductor/branches/RELEASE_3_3/madman/Rpacks/epivizr |  | Last Changed Rev: 119749 / Revision: 122332 |  | Last Changed Date: 2016-07-29 13:26:00 -0700 (Fri, 29 Jul 2016) | 
 | zin2 | Linux (Ubuntu 14.04.2 LTS) / x86_64 | OK | OK | OK |  |  | 
| moscato2 | Windows Server 2008 R2 Enterprise SP1 (64-bit) / x64 | OK | OK | OK | [ OK ] |  | 
| oaxaca | Mac OS X Mavericks (10.9.5) / x86_64 | OK | OK | OK | OK |  | 
##############################################################################
##############################################################################
###
### Running command:
###
###   cd epivizr.buildbin-libdir/epivizr && zip -r ../../epivizr_2.2.4.zip . & cd ../..
###
##############################################################################
##############################################################################
  adding: data/ (256 bytes security) (stored 0%)
  adding: data/tcga_colon_blocks.rda (188 bytes security) (stored 0%)
  adding: data/tcga_colon_curves.rda (188 bytes security) (deflated 0%)
  adding: data/tcga_colon_expression.rda (188 bytes security) (deflated 0%)
  adding: DESCRIPTION (188 bytes security) (deflated 44%)
  adding: doc/ (256 bytes security) (stored 0%)
  adding: doc/index.html (188 bytes security) (deflated 59%)
  adding: doc/IntroToEpivizr.html (188 bytes security) (deflated 69%)
  adding: doc/IntroToEpivizr.R (188 bytes security) (deflated 78%)
  adding: doc/IntroToEpivizr.Rmd (188 bytes security) (deflated 69%)
  adding: help/ (256 bytes security) (stored 0%)
  adding: help/aliases.rds (188 bytes security) (stored 0%)
  adding: help/AnIndex (188 bytes security) (deflated 69%)
  adding: help/epivizr.rdb (188 bytes security) (deflated 1%)
  adding: help/epivizr.rdx (188 bytes security) (stored 0%)
  adding: help/paths.rds (188 bytes security) (stored 0%)
  adding: html/ (256 bytes security) (stored 0%)
  adding: html/00Index.html (188 bytes security) (deflated 68%)
  adding: html/R.css (188 bytes security) (deflated 75%)
  adding: INDEX (188 bytes security) (deflated 61%)
  adding: MD5 (188 bytes security) (deflated 43%)
  adding: Meta/ (256 bytes security) (stored 0%)
  adding: Meta/data.rds (188 bytes security) (stored 0%)
  adding: Meta/hsearch.rds (188 bytes security) (stored 0%)
  adding: Meta/links.rds (188 bytes security) (stored 0%)
  adding: Meta/nsInfo.rds (188 bytes security) (stored 0%)
  adding: Meta/package.rds (188 bytes security) (stored 0%)
  adding: Meta/Rd.rds (188 bytes security) (stored 0%)
  adding: Meta/vignette.rds (188 bytes security) (stored 0%)
  adding: NAMESPACE (188 bytes security) (deflated 53%)
  adding: NEWS.Rd (188 bytes security) (deflated 58%)
  adding: R/ (256 bytes security) (stored 0%)
  adding: R/epivizr (188 bytes security) (deflated 41%)
  adding: R/epivizr.rdb (188 bytes security) (deflated 8%)
  adding: R/epivizr.rdx (188 bytes security) (stored 0%)