edgeR 3.13.0 Yunshun Chen , Aaron Lun , Mark Robinson , Davis McCarthy , Gordon Smyth
Snapshot Date: 2015-10-26 20:20:04 -0400 (Mon, 26 Oct 2015) | URL: https://hedgehog.fhcrc.org/bioconductor/trunk/madman/Rpacks/edgeR | Last Changed Rev: 109592 / Revision: 109948 | Last Changed Date: 2015-10-13 15:59:53 -0400 (Tue, 13 Oct 2015) |
| linux2.bioconductor.org | Linux (Ubuntu 14.04.2 LTS) / x86_64 | OK | OK | OK | | |
windows2.bioconductor.org | Windows Server 2012 R2 Enterprise SP1 (64-bit) / x64 | [ OK ] | OK | OK | OK | |
##############################################################################
##############################################################################
###
### Running command:
###
### C:\cygwin64\bin\curl.exe -O http://linux2.bioconductor.org/BBS/3.3/bioc/src/contrib/edgeR_3.13.0.tar.gz && c:\biocbld\bbs-3.3-bioc\R\bin\R.exe CMD INSTALL --merge-multiarch edgeR_3.13.0.tar.gz && rm edgeR_3.13.0.tar.gz
###
##############################################################################
##############################################################################
% Total % Received % Xferd Average Speed Time Time Time Current
Dload Upload Total Spent Left Speed
0 0 0 0 0 0 0 0 --:--:-- --:--:-- --:--:-- 0
100 1122k 100 1122k 0 0 76.4M 0 --:--:-- --:--:-- --:--:-- 99.6M
install for i386
* installing to library 'c:/biocbld/bbs-3.3-bioc/R/library'
* installing *source* package 'edgeR' ...
** libs
g++ -m32 -I"c:/biocbld/BBS-3˜1.3-B/R/include" -DNDEBUG -I"d:/RCompile/r-compiling/local/local320/include" -O2 -Wall -mtune=core2 -c R_compute_nbdev.cpp -o R_compute_nbdev.o
g++ -m32 -I"c:/biocbld/BBS-3˜1.3-B/R/include" -DNDEBUG -I"d:/RCompile/r-compiling/local/local320/include" -O2 -Wall -mtune=core2 -c R_cr_adjust.cpp -o R_cr_adjust.o
g++ -m32 -I"c:/biocbld/BBS-3˜1.3-B/R/include" -DNDEBUG -I"d:/RCompile/r-compiling/local/local320/include" -O2 -Wall -mtune=core2 -c R_exact_test_by_deviance.cpp -o R_exact_test_by_deviance.o
g++ -m32 -I"c:/biocbld/BBS-3˜1.3-B/R/include" -DNDEBUG -I"d:/RCompile/r-compiling/local/local320/include" -O2 -Wall -mtune=core2 -c R_levenberg.cpp -o R_levenberg.o
g++ -m32 -I"c:/biocbld/BBS-3˜1.3-B/R/include" -DNDEBUG -I"d:/RCompile/r-compiling/local/local320/include" -O2 -Wall -mtune=core2 -c R_loess_by_col.cpp -o R_loess_by_col.o
g++ -m32 -I"c:/biocbld/BBS-3˜1.3-B/R/include" -DNDEBUG -I"d:/RCompile/r-compiling/local/local320/include" -O2 -Wall -mtune=core2 -c R_maximize_interpolant.cpp -o R_maximize_interpolant.o
g++ -m32 -I"c:/biocbld/BBS-3˜1.3-B/R/include" -DNDEBUG -I"d:/RCompile/r-compiling/local/local320/include" -O2 -Wall -mtune=core2 -c R_one_group.cpp -o R_one_group.o
gcc -m32 -I"c:/biocbld/BBS-3˜1.3-B/R/include" -DNDEBUG -I"d:/RCompile/r-compiling/local/local320/include" -O3 -Wall -std=gnu99 -mtune=core2 -c R_process_hairpin_reads.c -o R_process_hairpin_reads.o
g++ -m32 -I"c:/biocbld/BBS-3˜1.3-B/R/include" -DNDEBUG -I"d:/RCompile/r-compiling/local/local320/include" -O2 -Wall -mtune=core2 -c R_simple_good_turing.cpp -o R_simple_good_turing.o
g++ -m32 -I"c:/biocbld/BBS-3˜1.3-B/R/include" -DNDEBUG -I"d:/RCompile/r-compiling/local/local320/include" -O2 -Wall -mtune=core2 -c adj_coxreid.cpp -o adj_coxreid.o
gcc -m32 -I"c:/biocbld/BBS-3˜1.3-B/R/include" -DNDEBUG -I"d:/RCompile/r-compiling/local/local320/include" -O3 -Wall -std=gnu99 -mtune=core2 -c fmm_spline.c -o fmm_spline.o
g++ -m32 -I"c:/biocbld/BBS-3˜1.3-B/R/include" -DNDEBUG -I"d:/RCompile/r-compiling/local/local320/include" -O2 -Wall -mtune=core2 -c glm_levenberg.cpp -o glm_levenberg.o
g++ -m32 -I"c:/biocbld/BBS-3˜1.3-B/R/include" -DNDEBUG -I"d:/RCompile/r-compiling/local/local320/include" -O2 -Wall -mtune=core2 -c glm_one_group.cpp -o glm_one_group.o
g++ -m32 -I"c:/biocbld/BBS-3˜1.3-B/R/include" -DNDEBUG -I"d:/RCompile/r-compiling/local/local320/include" -O2 -Wall -mtune=core2 -c init.cpp -o init.o
g++ -m32 -I"c:/biocbld/BBS-3˜1.3-B/R/include" -DNDEBUG -I"d:/RCompile/r-compiling/local/local320/include" -O2 -Wall -mtune=core2 -c interpolator.cpp -o interpolator.o
g++ -m32 -I"c:/biocbld/BBS-3˜1.3-B/R/include" -DNDEBUG -I"d:/RCompile/r-compiling/local/local320/include" -O2 -Wall -mtune=core2 -c matvec_check.cpp -o matvec_check.o
g++ -m32 -I"c:/biocbld/BBS-3˜1.3-B/R/include" -DNDEBUG -I"d:/RCompile/r-compiling/local/local320/include" -O2 -Wall -mtune=core2 -c nbdev.cpp -o nbdev.o
g++ -m32 -shared -s -static-libgcc -o edgeR.dll tmp.def R_compute_nbdev.o R_cr_adjust.o R_exact_test_by_deviance.o R_levenberg.o R_loess_by_col.o R_maximize_interpolant.o R_one_group.o R_process_hairpin_reads.o R_simple_good_turing.o adj_coxreid.o fmm_spline.o glm_levenberg.o glm_one_group.o init.o interpolator.o matvec_check.o nbdev.o -Lc:/biocbld/BBS-3˜1.3-B/R/bin/i386 -lRlapack -Lc:/biocbld/BBS-3˜1.3-B/R/bin/i386 -lRblas -lgfortran -lm -lquadmath -Ld:/RCompile/r-compiling/local/local320/lib/i386 -Ld:/RCompile/r-compiling/local/local320/lib -Lc:/biocbld/BBS-3˜1.3-B/R/bin/i386 -lR
installing to c:/biocbld/bbs-3.3-bioc/R/library/edgeR/libs/i386
** R
** inst
** preparing package for lazy loading
** help
*** installing help indices
** building package indices
** installing vignettes
'edgeR.Rnw'
** testing if installed package can be loaded
install for x64
* installing to library 'c:/biocbld/bbs-3.3-bioc/R/library'
* installing *source* package 'edgeR' ...
** libs
g++ -m64 -I"c:/biocbld/BBS-3˜1.3-B/R/include" -DNDEBUG -I"d:/RCompile/r-compiling/local/local320/include" -O2 -Wall -mtune=core2 -c R_compute_nbdev.cpp -o R_compute_nbdev.o
g++ -m64 -I"c:/biocbld/BBS-3˜1.3-B/R/include" -DNDEBUG -I"d:/RCompile/r-compiling/local/local320/include" -O2 -Wall -mtune=core2 -c R_cr_adjust.cpp -o R_cr_adjust.o
g++ -m64 -I"c:/biocbld/BBS-3˜1.3-B/R/include" -DNDEBUG -I"d:/RCompile/r-compiling/local/local320/include" -O2 -Wall -mtune=core2 -c R_exact_test_by_deviance.cpp -o R_exact_test_by_deviance.o
g++ -m64 -I"c:/biocbld/BBS-3˜1.3-B/R/include" -DNDEBUG -I"d:/RCompile/r-compiling/local/local320/include" -O2 -Wall -mtune=core2 -c R_levenberg.cpp -o R_levenberg.o
g++ -m64 -I"c:/biocbld/BBS-3˜1.3-B/R/include" -DNDEBUG -I"d:/RCompile/r-compiling/local/local320/include" -O2 -Wall -mtune=core2 -c R_loess_by_col.cpp -o R_loess_by_col.o
g++ -m64 -I"c:/biocbld/BBS-3˜1.3-B/R/include" -DNDEBUG -I"d:/RCompile/r-compiling/local/local320/include" -O2 -Wall -mtune=core2 -c R_maximize_interpolant.cpp -o R_maximize_interpolant.o
g++ -m64 -I"c:/biocbld/BBS-3˜1.3-B/R/include" -DNDEBUG -I"d:/RCompile/r-compiling/local/local320/include" -O2 -Wall -mtune=core2 -c R_one_group.cpp -o R_one_group.o
gcc -m64 -I"c:/biocbld/BBS-3˜1.3-B/R/include" -DNDEBUG -I"d:/RCompile/r-compiling/local/local320/include" -O2 -Wall -std=gnu99 -mtune=core2 -c R_process_hairpin_reads.c -o R_process_hairpin_reads.o
g++ -m64 -I"c:/biocbld/BBS-3˜1.3-B/R/include" -DNDEBUG -I"d:/RCompile/r-compiling/local/local320/include" -O2 -Wall -mtune=core2 -c R_simple_good_turing.cpp -o R_simple_good_turing.o
g++ -m64 -I"c:/biocbld/BBS-3˜1.3-B/R/include" -DNDEBUG -I"d:/RCompile/r-compiling/local/local320/include" -O2 -Wall -mtune=core2 -c adj_coxreid.cpp -o adj_coxreid.o
gcc -m64 -I"c:/biocbld/BBS-3˜1.3-B/R/include" -DNDEBUG -I"d:/RCompile/r-compiling/local/local320/include" -O2 -Wall -std=gnu99 -mtune=core2 -c fmm_spline.c -o fmm_spline.o
g++ -m64 -I"c:/biocbld/BBS-3˜1.3-B/R/include" -DNDEBUG -I"d:/RCompile/r-compiling/local/local320/include" -O2 -Wall -mtune=core2 -c glm_levenberg.cpp -o glm_levenberg.o
g++ -m64 -I"c:/biocbld/BBS-3˜1.3-B/R/include" -DNDEBUG -I"d:/RCompile/r-compiling/local/local320/include" -O2 -Wall -mtune=core2 -c glm_one_group.cpp -o glm_one_group.o
g++ -m64 -I"c:/biocbld/BBS-3˜1.3-B/R/include" -DNDEBUG -I"d:/RCompile/r-compiling/local/local320/include" -O2 -Wall -mtune=core2 -c init.cpp -o init.o
g++ -m64 -I"c:/biocbld/BBS-3˜1.3-B/R/include" -DNDEBUG -I"d:/RCompile/r-compiling/local/local320/include" -O2 -Wall -mtune=core2 -c interpolator.cpp -o interpolator.o
g++ -m64 -I"c:/biocbld/BBS-3˜1.3-B/R/include" -DNDEBUG -I"d:/RCompile/r-compiling/local/local320/include" -O2 -Wall -mtune=core2 -c matvec_check.cpp -o matvec_check.o
g++ -m64 -I"c:/biocbld/BBS-3˜1.3-B/R/include" -DNDEBUG -I"d:/RCompile/r-compiling/local/local320/include" -O2 -Wall -mtune=core2 -c nbdev.cpp -o nbdev.o
g++ -m64 -shared -s -static-libgcc -o edgeR.dll tmp.def R_compute_nbdev.o R_cr_adjust.o R_exact_test_by_deviance.o R_levenberg.o R_loess_by_col.o R_maximize_interpolant.o R_one_group.o R_process_hairpin_reads.o R_simple_good_turing.o adj_coxreid.o fmm_spline.o glm_levenberg.o glm_one_group.o init.o interpolator.o matvec_check.o nbdev.o -Lc:/biocbld/BBS-3˜1.3-B/R/bin/x64 -lRlapack -Lc:/biocbld/BBS-3˜1.3-B/R/bin/x64 -lRblas -lgfortran -lm -lquadmath -Ld:/RCompile/r-compiling/local/local320/lib/x64 -Ld:/RCompile/r-compiling/local/local320/lib -Lc:/biocbld/BBS-3˜1.3-B/R/bin/x64 -lR
installing to c:/biocbld/bbs-3.3-bioc/R/library/edgeR/libs/x64
** testing if installed package can be loaded
* DONE (edgeR)