Back to the "Multiple platform build/check report" A  B  C  D [E] F  G  H  I  J  K  L  M  N  O  P  Q  R  S  T  U  V  W  X  Y  Z 

BioC 3.3: INSTALL report for easyRNASeq on morelia

This page was generated on 2016-04-21 13:23:07 -0700 (Thu, 21 Apr 2016).

Package 329/1210HostnameOS / ArchINSTALLBUILDCHECKBUILD BIN
easyRNASeq 2.7.7
Nicolas Delhomme
Snapshot Date: 2016-04-20 17:20:35 -0700 (Wed, 20 Apr 2016)
URL: https://hedgehog.fhcrc.org/bioconductor/trunk/madman/Rpacks/easyRNASeq
Last Changed Rev: 114600 / Revision: 116626
Last Changed Date: 2016-03-10 03:41:35 -0800 (Thu, 10 Mar 2016)
zin2 Linux (Ubuntu 14.04.2 LTS) / x86_64  OK  OK  OK UNNEEDED, same version exists in internal repository
moscato2 Windows Server 2008 R2 Enterprise SP1 (64-bit) / x64  OK  OK  ERROR  OK 
morelia Mac OS X Mavericks (10.9.5) / x86_64 [ OK ] OK  OK  OK UNNEEDED, same version exists in internal repository

Summary

Package: easyRNASeq
Version: 2.7.7
Command: /Library/Frameworks/R.framework/Versions/Current/Resources/bin/R CMD INSTALL easyRNASeq
StartedAt: 2016-04-20 18:23:09 -0700 (Wed, 20 Apr 2016)
EndedAt: 2016-04-20 18:23:33 -0700 (Wed, 20 Apr 2016)
EllapsedTime: 24.2 seconds
RetCode: 0
Status:  OK 

Command output

##############################################################################
##############################################################################
###
### Running command:
###
###   /Library/Frameworks/R.framework/Versions/Current/Resources/bin/R CMD INSTALL easyRNASeq
###
##############################################################################
##############################################################################


* installing to library ‘/Library/Frameworks/R.framework/Versions/3.3/Resources/library’
* installing *source* package ‘easyRNASeq’ ...
** R
** data
** inst
** preparing package for lazy loading
Creating a generic function for ‘basename’ from package ‘base’ in package ‘easyRNASeq’
Creating a generic function for ‘file.exists’ from package ‘base’ in package ‘easyRNASeq’
Creating a generic function for ‘print’ from package ‘base’ in package ‘easyRNASeq’
** help
*** installing help indices
** building package indices
** installing vignettes
** testing if installed package can be loaded
* DONE (easyRNASeq)