Back to the "Multiple platform build/check report" A  B [C] D  E  F  G  H  I  J  K  L  M  N  O  P  Q  R  S  T  U  V  W  X  Y  Z 

BioC 3.3: BUILD report for chipseq on morelia

This page was generated on 2016-04-21 13:21:14 -0700 (Thu, 21 Apr 2016).

Package 180/1210HostnameOS / ArchINSTALLBUILDCHECKBUILD BIN
chipseq 1.21.2
Bioconductor Package Maintainer
Snapshot Date: 2016-04-20 17:20:35 -0700 (Wed, 20 Apr 2016)
URL: https://hedgehog.fhcrc.org/bioconductor/trunk/madman/Rpacks/chipseq
Last Changed Rev: 112986 / Revision: 116626
Last Changed Date: 2016-01-28 00:49:35 -0800 (Thu, 28 Jan 2016)
zin2 Linux (Ubuntu 14.04.2 LTS) / x86_64  OK  OK  WARNINGS UNNEEDED, same version exists in internal repository
moscato2 Windows Server 2008 R2 Enterprise SP1 (64-bit) / x64  OK  OK  WARNINGS  OK UNNEEDED, same version exists in internal repository
morelia Mac OS X Mavericks (10.9.5) / x86_64  OK [ OK ] WARNINGS  OK UNNEEDED, same version exists in internal repository

Summary

Package: chipseq
Version: 1.21.2
Command: /Library/Frameworks/R.framework/Versions/Current/Resources/bin/R CMD build --keep-empty-dirs --no-resave-data chipseq
StartedAt: 2016-04-20 19:11:12 -0700 (Wed, 20 Apr 2016)
EndedAt: 2016-04-20 19:14:11 -0700 (Wed, 20 Apr 2016)
EllapsedTime: 178.6 seconds
RetCode: 0
Status:  OK 
PackageFile: chipseq_1.21.2.tar.gz
PackageFileSize: 2.134 MiB

Command output

##############################################################################
##############################################################################
###
### Running command:
###
###   /Library/Frameworks/R.framework/Versions/Current/Resources/bin/R CMD build --keep-empty-dirs --no-resave-data chipseq
###
##############################################################################
##############################################################################


* checking for file ‘chipseq/DESCRIPTION’ ... OK
* preparing ‘chipseq’:
* checking DESCRIPTION meta-information ... OK
* cleaning src
* installing the package to build vignettes
* creating vignettes ... OK
* cleaning src
* checking for LF line-endings in source and make files
* checking for empty or unneeded directories
WARNING: directory ‘chipseq/inst/Scripts/figs’ is empty
* looking to see if a ‘data/datalist’ file should be added
* building ‘chipseq_1.21.2.tar.gz’