Back to the "Multiple platform build/check report" A [B] C  D  E  F  G  H  I  J  K  L  M  N  O  P  Q  R  S  T  U  V  W  X  Y  Z 

BioC 3.3: BUILD BIN report for bumphunter on windows2.bioconductor.org

This page was generated on 2015-10-27 12:15:09 -0400 (Tue, 27 Oct 2015).

Package 129/1104HostnameOS / ArchINSTALLBUILDCHECKBUILD BIN
bumphunter 1.9.3
Rafael A. Irizarry
Snapshot Date: 2015-10-26 20:20:04 -0400 (Mon, 26 Oct 2015)
URL: https://hedgehog.fhcrc.org/bioconductor/trunk/madman/Rpacks/bumphunter
Last Changed Rev: 109817 / Revision: 109948
Last Changed Date: 2015-10-21 10:30:23 -0400 (Wed, 21 Oct 2015)
linux2.bioconductor.org Linux (Ubuntu 14.04.2 LTS) / x86_64  OK  OK  OK NO, built version is LOWER than in internal repository!!!
windows2.bioconductor.org Windows Server 2012 R2 Enterprise SP1 (64-bit) / x64  OK  OK  OK [ OK ]NO, built version is LOWER than in internal repository!!!

Summary

Package: bumphunter
Version: 1.9.3
Command: cd bumphunter.buildbin-libdir/bumphunter && zip -r ../../bumphunter_1.9.3.zip . & cd ../..
StartedAt: 2015-10-27 07:23:05 -0400 (Tue, 27 Oct 2015)
EndedAt: 2015-10-27 07:23:20 -0400 (Tue, 27 Oct 2015)
EllapsedTime: 14.8 seconds
RetCode: 0
Status:  OK  
PackageFile: bumphunter_1.9.3.zip
PackageFileSize: 8.805 MiB

Command output

##############################################################################
##############################################################################
###
### Running command:
###
###   cd bumphunter.buildbin-libdir/bumphunter && zip -r ../../bumphunter_1.9.3.zip . & cd ../..
###
##############################################################################
##############################################################################


  adding: CITATION (188 bytes security) (deflated 58%)
  adding: data/ (208 bytes security) (stored 0%)
  adding: data/datalist (188 bytes security) (stored 0%)
  adding: data/Rdata.rdb (188 bytes security) (deflated 0%)
  adding: data/Rdata.rds (188 bytes security) (deflated 2%)
  adding: data/Rdata.rdx (188 bytes security) (stored 0%)
  adding: DESCRIPTION (188 bytes security) (deflated 47%)
  adding: doc/ (208 bytes security) (stored 0%)
  adding: doc/bumphunter.pdf (188 bytes security) (deflated 11%)
  adding: doc/bumphunter.R (188 bytes security) (deflated 74%)
  adding: doc/bumphunter.Rnw (188 bytes security) (deflated 58%)
  adding: doc/index.html (188 bytes security) (deflated 59%)
  adding: help/ (208 bytes security) (stored 0%)
  adding: help/aliases.rds (188 bytes security) (stored 0%)
  adding: help/AnIndex (188 bytes security) (deflated 60%)
  adding: help/bumphunter.rdb (188 bytes security) (deflated 1%)
  adding: help/bumphunter.rdx (188 bytes security) (stored 0%)
  adding: help/paths.rds (188 bytes security) (stored 0%)
  adding: html/ (208 bytes security) (stored 0%)
  adding: html/00Index.html (188 bytes security) (deflated 70%)
  adding: html/R.css (188 bytes security) (deflated 75%)
  adding: INDEX (188 bytes security) (deflated 64%)
  adding: MD5 (188 bytes security) (deflated 46%)
  adding: Meta/ (208 bytes security) (stored 0%)
  adding: Meta/data.rds (188 bytes security) (stored 0%)
  adding: Meta/hsearch.rds (188 bytes security) (stored 0%)
  adding: Meta/links.rds (188 bytes security) (stored 0%)
  adding: Meta/nsInfo.rds (188 bytes security) (stored 0%)
  adding: Meta/package.rds (188 bytes security) (stored 0%)
  adding: Meta/Rd.rds (188 bytes security) (stored 0%)
  adding: Meta/vignette.rds (188 bytes security) (stored 0%)
  adding: NAMESPACE (188 bytes security) (deflated 57%)
  adding: NEWS.Rd (188 bytes security) (deflated 50%)
  adding: R/ (208 bytes security) (stored 0%)
  adding: R/bumphunter (188 bytes security) (deflated 41%)
  adding: R/bumphunter.rdb (188 bytes security) (deflated 6%)
  adding: R/bumphunter.rdx (188 bytes security) (stored 0%)
  adding: testData/ (208 bytes security) (stored 0%)
  adding: testData/testData.R (188 bytes security) (deflated 67%)
  adding: testData/testData.Rout (188 bytes security) (deflated 66%)
  adding: unitTests/ (208 bytes security) (stored 0%)
  adding: unitTests/bumpsTest1.rda (188 bytes security) (stored 0%)
  adding: unitTests/bumpsTest2.rda (188 bytes security) (stored 0%)
  adding: unitTests/loessSmoothed.rda (188 bytes security) (stored 0%)
  adding: unitTests/runmedSmoothed.rda (188 bytes security) (stored 0%)
  adding: unitTests/test_bumphunter.R (188 bytes security) (deflated 78%)
  adding: unitTests/test_smoothers.R (188 bytes security) (deflated 76%)