Back to the "Multiple platform build/check report" A [B] C  D  E  F  G  H  I  J  K  L  M  N  O  P  Q  R  S  T  U  V  W  X  Y  Z 

BioC 3.3: CHECK report for bumphunter on morelia

This page was generated on 2016-04-21 13:23:50 -0700 (Thu, 21 Apr 2016).

Package 138/1210HostnameOS / ArchINSTALLBUILDCHECKBUILD BIN
bumphunter 1.11.5
Rafael A. Irizarry
Snapshot Date: 2016-04-20 17:20:35 -0700 (Wed, 20 Apr 2016)
URL: https://hedgehog.fhcrc.org/bioconductor/trunk/madman/Rpacks/bumphunter
Last Changed Rev: 115319 / Revision: 116626
Last Changed Date: 2016-03-28 08:52:21 -0700 (Mon, 28 Mar 2016)
zin2 Linux (Ubuntu 14.04.2 LTS) / x86_64  OK  OK  OK UNNEEDED, same version exists in internal repository
moscato2 Windows Server 2008 R2 Enterprise SP1 (64-bit) / x64  OK  OK  OK  OK UNNEEDED, same version exists in internal repository
morelia Mac OS X Mavericks (10.9.5) / x86_64  OK  OK [ OK ] OK UNNEEDED, same version exists in internal repository

Summary

Package: bumphunter
Version: 1.11.5
Command: /Library/Frameworks/R.framework/Versions/Current/Resources/bin/R CMD check --no-vignettes --timings bumphunter_1.11.5.tar.gz
StartedAt: 2016-04-20 23:50:30 -0700 (Wed, 20 Apr 2016)
EndedAt: 2016-04-20 23:57:01 -0700 (Wed, 20 Apr 2016)
EllapsedTime: 391.5 seconds
RetCode: 0
Status:  OK 
CheckDir: bumphunter.Rcheck
Warnings: 0

Command output

##############################################################################
##############################################################################
###
### Running command:
###
###   /Library/Frameworks/R.framework/Versions/Current/Resources/bin/R CMD check --no-vignettes --timings bumphunter_1.11.5.tar.gz
###
##############################################################################
##############################################################################


* using log directory ‘/Users/biocbuild/bbs-3.3-bioc/meat/bumphunter.Rcheck’
* using R version 3.3.0 beta (2016-04-06 r70435)
* using platform: x86_64-apple-darwin13.4.0 (64-bit)
* using session charset: UTF-8
* using option ‘--no-vignettes’
* checking for file ‘bumphunter/DESCRIPTION’ ... OK
* this is package ‘bumphunter’ version ‘1.11.5’
* checking package namespace information ... OK
* checking package dependencies ... NOTE
Depends: includes the non-default packages:
  ‘S4Vectors’ ‘IRanges’ ‘GenomeInfoDb’ ‘GenomicRanges’ ‘foreach’
  ‘iterators’ ‘parallel’ ‘locfit’
Adding so many packages to the search path is excessive and importing
selectively is preferable.
* checking if this is a source package ... OK
* checking if there is a namespace ... OK
* checking for hidden files and directories ... OK
* checking for portable file names ... OK
* checking for sufficient/correct file permissions ... OK
* checking whether package ‘bumphunter’ can be installed ... [19s/19s] OK
* checking installed package size ... OK
* checking package directory ... OK
* checking ‘build’ directory ... OK
* checking DESCRIPTION meta-information ... NOTE
Malformed Description field: should contain one or more complete sentences.
* checking top-level files ... OK
* checking for left-over files ... OK
* checking index information ... OK
* checking package subdirectories ... OK
* checking R files for non-ASCII characters ... OK
* checking R files for syntax errors ... OK
* checking whether the package can be loaded ... OK
* checking whether the package can be loaded with stated dependencies ... OK
* checking whether the package can be unloaded cleanly ... OK
* checking whether the namespace can be loaded with stated dependencies ... OK
* checking whether the namespace can be unloaded cleanly ... OK
* checking dependencies in R code ... NOTE
Unexported object imported by a ':::' call: ‘doParallel:::.options’
  See the note in ?`:::` about the use of this operator.
* checking S3 generic/method consistency ... OK
* checking replacement functions ... OK
* checking foreign function calls ... OK
* checking R code for possible problems ... NOTE
bumphunterEngine: no visible binding for global variable ‘bootstraps’
Undefined global functions or variables:
  bootstraps
* checking Rd files ... OK
* checking Rd metadata ... OK
* checking Rd cross-references ... OK
* checking for missing documentation entries ... OK
* checking for code/documentation mismatches ... OK
* checking Rd \usage sections ... OK
* checking Rd contents ... OK
* checking for unstated dependencies in examples ... OK
* checking contents of ‘data’ directory ... OK
* checking data for non-ASCII characters ... OK
* checking data for ASCII and uncompressed saves ... OK
* checking sizes of PDF files under ‘inst/doc’ ... OK
* checking installed files from ‘inst/doc’ ... OK
* checking files in ‘vignettes’ ... OK
* checking examples ... [14s/12s] OK
* checking for unstated dependencies in ‘tests’ ... OK
* checking tests ...
  Running ‘runTests.R’ [22s/34s]
  Running ‘test-all.R’ [109s/177s]
 [131s/211s] OK
* checking for unstated dependencies in vignettes ... OK
* checking package vignettes in ‘inst/doc’ ... OK
* checking running R code from vignettes ... SKIPPED
* checking re-building of vignette outputs ... SKIPPED
* checking PDF version of manual ... OK
* DONE

Status: 4 NOTEs
See
  ‘/Users/biocbuild/bbs-3.3-bioc/meat/bumphunter.Rcheck/00check.log’
for details.


bumphunter.Rcheck/00install.out:

* installing *source* package ‘bumphunter’ ...
** R
** data
*** moving datasets to lazyload DB
** inst
** preparing package for lazy loading
** help
*** installing help indices
** building package indices
** installing vignettes
** testing if installed package can be loaded
* DONE (bumphunter)

bumphunter.Rcheck/bumphunter-Ex.timings:

nameusersystemelapsed
annotateNearest0.5060.0150.522
annotateTranscripts0.0010.0000.001
bumphunter3.4851.1832.743
clusterMaker0.0160.0020.018
dummyData0.0040.0010.005
getSegments0.0080.0020.009
locfitByCluster0.0400.0060.046
loessByCluster0.3170.0250.347
matchGenes0.0010.0000.001
regionFinder0.0250.0010.026
runmedByCluster0.0040.0000.005
smoother0.1240.0600.148