affylmGUI 1.46.0 Yifang Hu , Gordon Smyth , Keith Satterley
 | Snapshot Date: 2016-10-12 17:20:15 -0700 (Wed, 12 Oct 2016) |  | URL: https://hedgehog.fhcrc.org/bioconductor/branches/RELEASE_3_3/madman/Rpacks/affylmGUI |  | Last Changed Rev: 117079 / Revision: 122332 |  | Last Changed Date: 2016-05-03 14:20:18 -0700 (Tue, 03 May 2016) |  
  | zin2  | Linux (Ubuntu 14.04.2 LTS) / x86_64  |  OK  |  OK  |  OK  |  |   | 
| moscato2  | Windows Server 2008 R2 Enterprise SP1 (64-bit) / x64  |  OK  |  OK  |  OK  |  OK  |   | 
| oaxaca  | Mac OS X Mavericks (10.9.5) / x86_64  |  OK  |  OK  |  OK  | [ OK ] |   | 
##############################################################################
##############################################################################
###
### Running command:
###
###   rm -rf affylmGUI.buildbin-libdir && mkdir affylmGUI.buildbin-libdir && /Users/biocbuild/BBS/utils/build-universal.sh affylmGUI_1.46.0.tar.gz /Library/Frameworks/R.framework/Versions/Current/Resources/bin/R affylmGUI.buildbin-libdir
###
##############################################################################
##############################################################################
>>>>>>> 
>>>>>>> INSTALLATION WITH 'R CMD INSTALL --preclean --no-multiarch --library=affylmGUI.buildbin-libdir affylmGUI_1.46.0.tar.gz'
>>>>>>> 
* installing *source* package ‘affylmGUI’ ...
** R
** inst
** preparing package for lazy loading
Creating a generic function for ‘boxplot’ from package ‘graphics’ in package ‘affyPLM’
Creating a generic function for ‘hist’ from package ‘graphics’ in package ‘affyPLM’
Bioconductor version 3.3 (BiocInstaller 1.22.3), ?biocLite for help
** help
*** installing help indices
** building package indices
** installing vignettes
** testing if installed package can be loaded
Creating a generic function for ‘boxplot’ from package ‘graphics’ in package ‘affyPLM’
Creating a generic function for ‘hist’ from package ‘graphics’ in package ‘affyPLM’
* DONE (affylmGUI)