Back to the "Multiple platform build/check report"[A] B  C  D  E  F  G  H  I  J  K  L  M  N  O  P  Q  R  S  T  U  V  W  X  Y  Z 

BioC 3.3: INSTALL report for affycoretools on morelia

This page was generated on 2016-04-21 13:19:39 -0700 (Thu, 21 Apr 2016).

Package 20/1210HostnameOS / ArchINSTALLBUILDCHECKBUILD BIN
affycoretools 1.43.3
James W. MacDonald
Snapshot Date: 2016-04-20 17:20:35 -0700 (Wed, 20 Apr 2016)
URL: https://hedgehog.fhcrc.org/bioconductor/trunk/madman/Rpacks/affycoretools
Last Changed Rev: 112338 / Revision: 116626
Last Changed Date: 2016-01-08 09:08:13 -0800 (Fri, 08 Jan 2016)
zin2 Linux (Ubuntu 14.04.2 LTS) / x86_64  OK  OK  OK UNNEEDED, same version exists in internal repository
moscato2 Windows Server 2008 R2 Enterprise SP1 (64-bit) / x64  OK  OK  OK  OK UNNEEDED, same version exists in internal repository
morelia Mac OS X Mavericks (10.9.5) / x86_64 [ OK ] OK  OK  OK UNNEEDED, same version exists in internal repository

Summary

Package: affycoretools
Version: 1.43.3
Command: /Library/Frameworks/R.framework/Versions/Current/Resources/bin/R CMD INSTALL affycoretools
StartedAt: 2016-04-20 18:28:42 -0700 (Wed, 20 Apr 2016)
EndedAt: 2016-04-20 18:29:13 -0700 (Wed, 20 Apr 2016)
EllapsedTime: 30.6 seconds
RetCode: 0
Status:  OK 

Command output

##############################################################################
##############################################################################
###
### Running command:
###
###   /Library/Frameworks/R.framework/Versions/Current/Resources/bin/R CMD INSTALL affycoretools
###
##############################################################################
##############################################################################


* installing to library ‘/Library/Frameworks/R.framework/Versions/3.3/Resources/library’
* installing *source* package ‘affycoretools’ ...
** R
** inst
** preparing package for lazy loading
Warning: replacing previous import ‘ggplot2::Position’ by ‘BiocGenerics::Position’ when loading ‘ggbio’
** help
*** installing help indices
** building package indices
** installing vignettes
** testing if installed package can be loaded
Warning: replacing previous import ‘ggplot2::Position’ by ‘BiocGenerics::Position’ when loading ‘ggbio’
* DONE (affycoretools)