VariantFiltering 1.7.37 Robert Castelo
Snapshot Date: 2016-04-20 17:20:35 -0700 (Wed, 20 Apr 2016) | URL: https://hedgehog.fhcrc.org/bioconductor/trunk/madman/Rpacks/VariantFiltering | Last Changed Rev: 116284 / Revision: 116626 | Last Changed Date: 2016-04-14 08:18:32 -0700 (Thu, 14 Apr 2016) |
| zin2 | Linux (Ubuntu 14.04.2 LTS) / x86_64 | OK | OK | OK | | |
moscato2 | Windows Server 2008 R2 Enterprise SP1 (64-bit) / x64 | OK | OK | OK | OK | |
morelia | Mac OS X Mavericks (10.9.5) / x86_64 | OK | [ OK ] | OK | OK | |
##############################################################################
##############################################################################
###
### Running command:
###
### /Library/Frameworks/R.framework/Versions/Current/Resources/bin/R CMD build --keep-empty-dirs --no-resave-data VariantFiltering
###
##############################################################################
##############################################################################
* checking for file ‘VariantFiltering/DESCRIPTION’ ... OK
* preparing ‘VariantFiltering’:
* checking DESCRIPTION meta-information ... OK
* cleaning src
* installing the package to build vignettes
* creating vignettes ... OK
* cleaning src
* checking for LF line-endings in source and make files
* checking for empty or unneeded directories
* building ‘VariantFiltering_1.7.37.tar.gz’