Back to the "Multiple platform build/check report" A  B  C  D  E  F  G  H  I  J  K  L  M  N  O  P  Q  R  S [T] U  V  W  X  Y  Z 

BioC 3.3: BUILD BIN report for TargetSearch on morelia

This page was generated on 2016-04-21 13:21:11 -0700 (Thu, 21 Apr 2016).

Package 1145/1210HostnameOS / ArchINSTALLBUILDCHECKBUILD BIN
TargetSearch 1.27.2
Alvaro Cuadros-Inostroza
Snapshot Date: 2016-04-20 17:20:35 -0700 (Wed, 20 Apr 2016)
URL: https://hedgehog.fhcrc.org/bioconductor/trunk/madman/Rpacks/TargetSearch
Last Changed Rev: 113833 / Revision: 116626
Last Changed Date: 2016-02-20 14:53:12 -0800 (Sat, 20 Feb 2016)
zin2 Linux (Ubuntu 14.04.2 LTS) / x86_64  OK  OK  OK UNNEEDED, same version exists in internal repository
moscato2 Windows Server 2008 R2 Enterprise SP1 (64-bit) / x64  OK  OK  OK  OK UNNEEDED, same version exists in internal repository
morelia Mac OS X Mavericks (10.9.5) / x86_64  OK  OK  OK [ OK ]UNNEEDED, same version exists in internal repository

Summary

Package: TargetSearch
Version: 1.27.2
Command: rm -rf TargetSearch.buildbin-libdir && mkdir TargetSearch.buildbin-libdir && /Users/biocbuild/BBS/utils/build-universal.sh TargetSearch_1.27.2.tar.gz /Library/Frameworks/R.framework/Versions/Current/Resources/bin/R TargetSearch.buildbin-libdir
StartedAt: 2016-04-21 09:26:29 -0700 (Thu, 21 Apr 2016)
EndedAt: 2016-04-21 09:26:34 -0700 (Thu, 21 Apr 2016)
EllapsedTime: 4.8 seconds
RetCode: 0
Status:  OK 
PackageFile: TargetSearch_1.27.2.tgz
PackageFileSize: 638.3 KiB

Command output

##############################################################################
##############################################################################
###
### Running command:
###
###   rm -rf TargetSearch.buildbin-libdir && mkdir TargetSearch.buildbin-libdir && /Users/biocbuild/BBS/utils/build-universal.sh TargetSearch_1.27.2.tar.gz /Library/Frameworks/R.framework/Versions/Current/Resources/bin/R TargetSearch.buildbin-libdir
###
##############################################################################
##############################################################################


>>>>>>> 
>>>>>>> INSTALLATION WITH 'R CMD INSTALL --preclean --no-multiarch --library=TargetSearch.buildbin-libdir TargetSearch_1.27.2.tar.gz'
>>>>>>> 

* installing *source* package ‘TargetSearch’ ...
** libs
clang -I/Library/Frameworks/R.framework/Resources/include -DNDEBUG  -I/usr/local/include -I/usr/local/include/freetype2 -I/opt/X11/include    -fPIC  -Wall -mtune=core2 -g -O2  -c Rinit.c -o Rinit.o
clang -I/Library/Frameworks/R.framework/Resources/include -DNDEBUG  -I/usr/local/include -I/usr/local/include/freetype2 -I/opt/X11/include    -fPIC  -Wall -mtune=core2 -g -O2  -c file.c -o file.o
clang -I/Library/Frameworks/R.framework/Resources/include -DNDEBUG  -I/usr/local/include -I/usr/local/include/freetype2 -I/opt/X11/include    -fPIC  -Wall -mtune=core2 -g -O2  -c find_peaks.c -o find_peaks.o
clang -I/Library/Frameworks/R.framework/Resources/include -DNDEBUG  -I/usr/local/include -I/usr/local/include/freetype2 -I/opt/X11/include    -fPIC  -Wall -mtune=core2 -g -O2  -c getLine.c -o getLine.o
clang -I/Library/Frameworks/R.framework/Resources/include -DNDEBUG  -I/usr/local/include -I/usr/local/include/freetype2 -I/opt/X11/include    -fPIC  -Wall -mtune=core2 -g -O2  -c hpf.c -o hpf.o
clang -I/Library/Frameworks/R.framework/Resources/include -DNDEBUG  -I/usr/local/include -I/usr/local/include/freetype2 -I/opt/X11/include    -fPIC  -Wall -mtune=core2 -g -O2  -c ncdf.c -o ncdf.o
clang -I/Library/Frameworks/R.framework/Resources/include -DNDEBUG  -I/usr/local/include -I/usr/local/include/freetype2 -I/opt/X11/include    -fPIC  -Wall -mtune=core2 -g -O2  -c netcdf_peak_finding.c -o netcdf_peak_finding.o
clang -I/Library/Frameworks/R.framework/Resources/include -DNDEBUG  -I/usr/local/include -I/usr/local/include/freetype2 -I/opt/X11/include    -fPIC  -Wall -mtune=core2 -g -O2  -c peakExtraction.c -o peakExtraction.o
clang -I/Library/Frameworks/R.framework/Resources/include -DNDEBUG  -I/usr/local/include -I/usr/local/include/freetype2 -I/opt/X11/include    -fPIC  -Wall -mtune=core2 -g -O2  -c ppc.c -o ppc.o
clang -dynamiclib -Wl,-headerpad_max_install_names -undefined dynamic_lookup -single_module -multiply_defined suppress -L/Library/Frameworks/R.framework/Resources/lib -L/usr/local/lib -o TargetSearch.so Rinit.o file.o find_peaks.o getLine.o hpf.o ncdf.o netcdf_peak_finding.o peakExtraction.o ppc.o -F/Library/Frameworks/R.framework/.. -framework R -Wl,-framework -Wl,CoreFoundation
installing to /Users/biocbuild/bbs-3.3-bioc/meat/TargetSearch.buildbin-libdir/TargetSearch/libs
** R
** inst
** preparing package for lazy loading
** help
*** installing help indices
** building package indices
** installing vignettes
** testing if installed package can be loaded
* DONE (TargetSearch)


>>>>>>> 
>>>>>>> FIXING LINKS FOR TargetSearch.buildbin-libdir/TargetSearch/libs//TargetSearch.so
>>>>>>> 

install_name_tool -change "/usr/local/lib/libgcc_s.1.dylib" "/Library/Frameworks/R.framework/Versions/3.3/Resources/lib/libgcc_s.1.dylib" "TargetSearch.buildbin-libdir/TargetSearch/libs//TargetSearch.so"
install_name_tool -change "/usr/local/lib/libgfortran.3.dylib" "/Library/Frameworks/R.framework/Versions/3.3/Resources/lib/libgfortran.3.dylib" "TargetSearch.buildbin-libdir/TargetSearch/libs//TargetSearch.so"
install_name_tool -change "/usr/local/lib/libreadline.5.2.dylib" "/Library/Frameworks/R.framework/Versions/3.3/Resources/lib/libreadline.5.2.dylib" "TargetSearch.buildbin-libdir/TargetSearch/libs//TargetSearch.so"
install_name_tool -change "/usr/local/lib/libreadline.dylib" "/Library/Frameworks/R.framework/Versions/3.3/Resources/lib/libreadline.dylib" "TargetSearch.buildbin-libdir/TargetSearch/libs//TargetSearch.so"
install_name_tool -change "/usr/local/lib/libquadmath.0.dylib" "/Library/Frameworks/R.framework/Versions/3.3/Resources/lib/libquadmath.0.dylib" "TargetSearch.buildbin-libdir/TargetSearch/libs//TargetSearch.so"