| Streamer 1.18.0 Martin Morgan
 
 | Snapshot Date: 2016-10-12 17:20:15 -0700 (Wed, 12 Oct 2016) |  | URL: https://hedgehog.fhcrc.org/bioconductor/branches/RELEASE_3_3/madman/Rpacks/Streamer |  | Last Changed Rev: 117079 / Revision: 122332 |  | Last Changed Date: 2016-05-03 14:20:18 -0700 (Tue, 03 May 2016) | 
 | zin2 | Linux (Ubuntu 14.04.2 LTS) / x86_64 | OK | OK | OK |  |  | 
| moscato2 | Windows Server 2008 R2 Enterprise SP1 (64-bit) / x64 | OK | OK | OK | [ OK ] |  | 
| oaxaca | Mac OS X Mavericks (10.9.5) / x86_64 | OK | OK | OK | OK |  | 
##############################################################################
##############################################################################
###
### Running command:
###
###   cd Streamer.buildbin-libdir/Streamer && zip -r ../../Streamer_1.18.0.zip . & cd ../..
###
##############################################################################
##############################################################################
  adding: DESCRIPTION (188 bytes security) (deflated 47%)
  adding: doc/ (256 bytes security) (stored 0%)
  adding: doc/index.html (188 bytes security) (deflated 58%)
  adding: doc/Streamer.pdf (188 bytes security) (deflated 7%)
  adding: doc/Streamer.R (188 bytes security) (deflated 70%)
  adding: doc/Streamer.Rnw (188 bytes security) (deflated 66%)
  adding: extdata/ (256 bytes security) (stored 0%)
  adding: extdata/NetCDFData.nc (188 bytes security) (deflated 60%)
  adding: extdata/s_1_sequence.txt (188 bytes security) (deflated 72%)
  adding: help/ (256 bytes security) (stored 0%)
  adding: help/aliases.rds (188 bytes security) (stored 0%)
  adding: help/AnIndex (188 bytes security) (deflated 81%)
  adding: help/paths.rds (188 bytes security) (stored 0%)
  adding: help/Streamer.rdb (188 bytes security) (deflated 1%)
  adding: help/Streamer.rdx (188 bytes security) (stored 0%)
  adding: html/ (256 bytes security) (stored 0%)
  adding: html/00Index.html (188 bytes security) (deflated 88%)
  adding: html/R.css (188 bytes security) (deflated 75%)
  adding: INDEX (188 bytes security) (deflated 66%)
  adding: libs/ (256 bytes security) (stored 0%)
  adding: libs/i386/ (256 bytes security) (stored 0%)
  adding: libs/i386/Streamer.dll (188 bytes security) (deflated 61%)
  adding: libs/x64/ (256 bytes security) (stored 0%)
  adding: libs/x64/Streamer.dll (188 bytes security) (deflated 61%)
  adding: MD5 (188 bytes security) (deflated 46%)
  adding: Meta/ (256 bytes security) (stored 0%)
  adding: Meta/hsearch.rds (188 bytes security) (stored 0%)
  adding: Meta/links.rds (188 bytes security) (stored 0%)
  adding: Meta/nsInfo.rds (188 bytes security) (stored 0%)
  adding: Meta/package.rds (188 bytes security) (stored 0%)
  adding: Meta/Rd.rds (188 bytes security) (stored 0%)
  adding: Meta/vignette.rds (188 bytes security) (stored 0%)
  adding: NAMESPACE (188 bytes security) (deflated 55%)
  adding: R/ (256 bytes security) (stored 0%)
  adding: R/Streamer (188 bytes security) (deflated 41%)
  adding: R/Streamer.rdb (188 bytes security) (deflated 10%)
  adding: R/Streamer.rdx (188 bytes security) (stored 0%)
  adding: README-ncdf4.txt (188 bytes security) (deflated 52%)
  adding: scripts/ (256 bytes security) (stored 0%)
  adding: scripts/NetCDFFile.R (188 bytes security) (deflated 63%)
  adding: scripts/NetCDFInput.R (188 bytes security) (deflated 69%)
  adding: scripts/testParallel.R (188 bytes security) (deflated 63%)
  adding: unitTests/ (256 bytes security) (stored 0%)
  adding: unitTests/test_ConnectionProducer.R (188 bytes security) (deflated 65%)
  adding: unitTests/test_DAGTeam.R (188 bytes security) (deflated 60%)
  adding: unitTests/test_Producer.R (188 bytes security) (deflated 59%)
  adding: unitTests/test_RawInput.R (188 bytes security) (deflated 82%)
  adding: unitTests/test_Reducer.R (188 bytes security) (deflated 73%)
  adding: unitTests/test_RevStream.R (188 bytes security) (deflated 24%)
  adding: unitTests/test_Stream.R (188 bytes security) (deflated 65%)
  adding: unitTests/test_Streamer.R (188 bytes security) (deflated 64%)
  adding: unitTests/test_Team.R (188 bytes security) (deflated 58%)