Back to the "Multiple platform build/check report" A  B  C  D  E  F  G  H  I  J  K  L  M  N  O  P  Q  R [S] T  U  V  W  X  Y  Z 

BioC 3.3: BUILD BIN report for SNPchip on windows2.bioconductor.org

This page was generated on 2015-10-27 12:14:07 -0400 (Tue, 27 Oct 2015).

Package 992/1104HostnameOS / ArchINSTALLBUILDCHECKBUILD BIN
SNPchip 2.17.0
Robert Scharpf
Snapshot Date: 2015-10-26 20:20:04 -0400 (Mon, 26 Oct 2015)
URL: https://hedgehog.fhcrc.org/bioconductor/trunk/madman/Rpacks/SNPchip
Last Changed Rev: 109592 / Revision: 109948
Last Changed Date: 2015-10-13 15:59:53 -0400 (Tue, 13 Oct 2015)
linux2.bioconductor.org Linux (Ubuntu 14.04.2 LTS) / x86_64  OK  OK  OK UNNEEDED, same version exists in internal repository
windows2.bioconductor.org Windows Server 2012 R2 Enterprise SP1 (64-bit) / x64  OK  OK  OK [ OK ]UNNEEDED, same version exists in internal repository

Summary

Package: SNPchip
Version: 2.17.0
Command: cd SNPchip.buildbin-libdir/SNPchip && zip -r ../../SNPchip_2.17.0.zip . & cd ../..
StartedAt: 2015-10-27 07:48:20 -0400 (Tue, 27 Oct 2015)
EndedAt: 2015-10-27 07:48:35 -0400 (Tue, 27 Oct 2015)
EllapsedTime: 15.3 seconds
RetCode: 0
Status:  OK  
PackageFile: SNPchip_2.17.0.zip
PackageFileSize: 470.2 KiB

Command output

##############################################################################
##############################################################################
###
### Running command:
###
###   cd SNPchip.buildbin-libdir/SNPchip && zip -r ../../SNPchip_2.17.0.zip . & cd ../..
###
##############################################################################
##############################################################################


  adding: CITATION (188 bytes security) (deflated 40%)
  adding: DESCRIPTION (188 bytes security) (deflated 40%)
  adding: doc/ (208 bytes security) (stored 0%)
  adding: doc/index.html (188 bytes security) (deflated 59%)
  adding: doc/PlottingIdiograms.pdf (188 bytes security) (deflated 14%)
  adding: doc/PlottingIdiograms.R (188 bytes security) (deflated 70%)
  adding: doc/PlottingIdiograms.Rnw (188 bytes security) (deflated 59%)
  adding: extdata/ (208 bytes security) (stored 0%)
  adding: extdata/cytoBand_hg18.txt (188 bytes security) (deflated 80%)
  adding: extdata/cytoBand_hg19.txt (188 bytes security) (deflated 80%)
  adding: extdata/gap_hg18.rda (188 bytes security) (stored 0%)
  adding: extdata/gap_hg19.rda (188 bytes security) (stored 0%)
  adding: help/ (208 bytes security) (stored 0%)
  adding: help/aliases.rds (188 bytes security) (stored 0%)
  adding: help/AnIndex (188 bytes security) (deflated 62%)
  adding: help/paths.rds (188 bytes security) (stored 0%)
  adding: help/SNPchip.rdb (188 bytes security) (deflated 2%)
  adding: help/SNPchip.rdx (188 bytes security) (stored 0%)
  adding: hg18/ (208 bytes security) (stored 0%)
  adding: html/ (208 bytes security) (stored 0%)
  adding: html/00Index.html (188 bytes security) (deflated 69%)
  adding: html/R.css (188 bytes security) (deflated 75%)
  adding: INDEX (188 bytes security) (deflated 65%)
  adding: MD5 (188 bytes security) (deflated 42%)
  adding: Meta/ (208 bytes security) (stored 0%)
  adding: Meta/hsearch.rds (188 bytes security) (stored 0%)
  adding: Meta/links.rds (188 bytes security) (stored 0%)
  adding: Meta/nsInfo.rds (188 bytes security) (stored 0%)
  adding: Meta/package.rds (188 bytes security) (stored 0%)
  adding: Meta/Rd.rds (188 bytes security) (stored 0%)
  adding: Meta/vignette.rds (188 bytes security) (stored 0%)
  adding: NAMESPACE (188 bytes security) (deflated 54%)
  adding: R/ (208 bytes security) (stored 0%)
  adding: R/SNPchip (188 bytes security) (deflated 41%)
  adding: R/SNPchip.rdb (188 bytes security) (deflated 37%)
  adding: R/SNPchip.rdx (188 bytes security) (stored 0%)
  adding: unitTests/ (208 bytes security) (stored 0%)
  adding: unitTests/Makefile (188 bytes security) (deflated 62%)
  adding: unitTests/report.html (188 bytes security) (deflated 62%)
  adding: unitTests/report.txt (188 bytes security) (deflated 54%)
  adding: unitTests/reportSummary.txt (188 bytes security) (deflated 42%)
  adding: unitTests/test_xyplot.R (188 bytes security) (deflated 61%)