Rdisop 1.31.0 Steffen Neumann
Snapshot Date: 2015-10-26 20:20:04 -0400 (Mon, 26 Oct 2015) | URL: https://hedgehog.fhcrc.org/bioconductor/trunk/madman/Rpacks/Rdisop | Last Changed Rev: 109592 / Revision: 109948 | Last Changed Date: 2015-10-13 15:59:53 -0400 (Tue, 13 Oct 2015) |
| linux2.bioconductor.org | Linux (Ubuntu 14.04.2 LTS) / x86_64 | OK | OK | [ OK ] | | |
windows2.bioconductor.org | Windows Server 2012 R2 Enterprise SP1 (64-bit) / x64 | OK | OK | OK | OK | |
##############################################################################
##############################################################################
###
### Running command:
###
### /home/biocbuild/bbs-3.3-bioc/R/bin/R CMD check --no-vignettes --timings Rdisop_1.31.0.tar.gz
###
##############################################################################
##############################################################################
* using log directory ‘/home/biocbuild/bbs-3.3-bioc/meat/Rdisop.Rcheck’
* using R Under development (unstable) (2015-09-09 r69333)
* using platform: x86_64-pc-linux-gnu (64-bit)
* using session charset: UTF-8
* using option ‘--no-vignettes’
* checking for file ‘Rdisop/DESCRIPTION’ ... OK
* this is package ‘Rdisop’ version ‘1.31.0’
* checking package namespace information ... OK
* checking package dependencies ... OK
* checking if this is a source package ... OK
* checking if there is a namespace ... OK
* checking for hidden files and directories ... OK
* checking for portable file names ... OK
* checking for sufficient/correct file permissions ... OK
* checking whether package ‘Rdisop’ can be installed ... [23s/23s] OK
* checking installed package size ... OK
* checking package directory ... OK
* checking ‘build’ directory ... OK
* checking DESCRIPTION meta-information ... OK
* checking top-level files ... OK
* checking for left-over files ... OK
* checking index information ... OK
* checking package subdirectories ... OK
* checking R files for non-ASCII characters ... OK
* checking R files for syntax errors ... OK
* checking whether the package can be loaded ... OK
* checking whether the package can be loaded with stated dependencies ... OK
* checking whether the package can be unloaded cleanly ... OK
* checking whether the namespace can be loaded with stated dependencies ... OK
* checking whether the namespace can be unloaded cleanly ... OK
* checking dependencies in R code ... NOTE
Package in Depends field not imported from: ‘RcppClassic’
These packages need to be imported from (in the NAMESPACE file)
for when this namespace is loaded but not attached.
* checking S3 generic/method consistency ... OK
* checking replacement functions ... OK
* checking foreign function calls ... OK
* checking R code for possible problems ... OK
* checking Rd files ... OK
* checking Rd metadata ... OK
* checking Rd cross-references ... OK
* checking for missing documentation entries ... OK
* checking for code/documentation mismatches ... OK
* checking Rd \usage sections ... OK
* checking Rd contents ... OK
* checking for unstated dependencies in examples ... OK
* checking line endings in C/C++/Fortran sources/headers ... OK
* checking line endings in Makefiles ... OK
* checking compilation flags in Makevars ... OK
* checking for GNU extensions in Makefiles ... OK
* checking for portable use of $(BLAS_LIBS) and $(LAPACK_LIBS) ... OK
* checking compiled code ... NOTE
File ‘Rdisop/libs/Rdisop.so’:
Found ‘rand’, possibly from ‘rand’ (C)
Object: ‘imslib/src/ims/utils/distribution.o’
Compiled code should not call entry points which might terminate R nor
write to stdout/stderr instead of to the console, nor the system RNG.
See ‘Writing portable packages’ in the ‘Writing R Extensions’ manual.
* checking installed files from ‘inst/doc’ ... OK
* checking files in ‘vignettes’ ... OK
* checking examples ... [1s/1s] OK
* checking for unstated dependencies in ‘tests’ ... OK
* checking tests ...
Running ‘doRUnit.R’ [1s/1s]
[1s/1s] OK
* checking for unstated dependencies in vignettes ... OK
* checking package vignettes in ‘inst/doc’ ... OK
* checking running R code from vignettes ... SKIPPED
* checking re-building of vignette outputs ... SKIPPED
* checking PDF version of manual ... OK
* DONE
Status: 2 NOTEs
See
‘/home/biocbuild/bbs-3.3-bioc/meat/Rdisop.Rcheck/00check.log’
for details.
* installing *source* package ‘Rdisop’ ...
** libs
g++ -I/home/biocbuild/bbs-3.3-bioc/R/include -DNDEBUG -I/usr/local/include -I"/home/biocbuild/bbs-3.3-bioc/R/library/RcppClassic/include" -I"/home/biocbuild/bbs-3.3-bioc/R/library/Rcpp/include" -I./imslib/src/ -fpic -g -O2 -c disop.cpp -o disop.o
In file included from /home/biocbuild/bbs-3.3-bioc/R/library/Rcpp/include/Rcpp/r/headers.h:53:0,
from /home/biocbuild/bbs-3.3-bioc/R/library/Rcpp/include/RcppCommon.h:29,
from /home/biocbuild/bbs-3.3-bioc/R/library/RcppClassic/include/RcppClassic.h:27,
from disop.cpp:33:
disop.cpp: In function ‘void initializeAlphabet(SEXP, alphabet_t&, int)’:
disop.cpp:825:65: warning: deprecated conversion from string constant to ‘char*’ [-Wwrite-strings]
const char *symbol = CHAR(Rf_asChar(getListElement(l, "name")));
^
/home/biocbuild/bbs-3.3-bioc/R/include/Rinternals.h:440:25: note: in definition of macro ‘CHAR’
#define CHAR(x) R_CHAR(x)
^
disop.cpp:827:86: warning: deprecated conversion from string constant to ‘char*’ [-Wwrite-strings]
nominal_mass_type nominalmass = (nominal_mass_type) REAL(getListElement(l, "mass"))[0];
^
disop.cpp:829:47: warning: deprecated conversion from string constant to ‘char*’ [-Wwrite-strings]
SEXP isotope = getListElement(l, "isotope");
^
disop.cpp:831:63: warning: deprecated conversion from string constant to ‘char*’ [-Wwrite-strings]
int numisotopes = Rf_length(getListElement(isotope, "mass"));
^
disop.cpp:832:55: warning: deprecated conversion from string constant to ‘char*’ [-Wwrite-strings]
double *mass = REAL(getListElement(isotope, "mass"));
^
disop.cpp:833:65: warning: deprecated conversion from string constant to ‘char*’ [-Wwrite-strings]
double *abundance = REAL(getListElement(isotope, "abundance"));
^
g++ -I/home/biocbuild/bbs-3.3-bioc/R/include -DNDEBUG -I/usr/local/include -I"/home/biocbuild/bbs-3.3-bioc/R/library/RcppClassic/include" -I"/home/biocbuild/bbs-3.3-bioc/R/library/Rcpp/include" -I./imslib/src/ -fpic -g -O2 -c imslib/src/ims/element.cpp -o imslib/src/ims/element.o
g++ -I/home/biocbuild/bbs-3.3-bioc/R/include -DNDEBUG -I/usr/local/include -I"/home/biocbuild/bbs-3.3-bioc/R/library/RcppClassic/include" -I"/home/biocbuild/bbs-3.3-bioc/R/library/Rcpp/include" -I./imslib/src/ -fpic -g -O2 -c imslib/src/ims/composedelement.cpp -o imslib/src/ims/composedelement.o
g++ -I/home/biocbuild/bbs-3.3-bioc/R/include -DNDEBUG -I/usr/local/include -I"/home/biocbuild/bbs-3.3-bioc/R/library/RcppClassic/include" -I"/home/biocbuild/bbs-3.3-bioc/R/library/Rcpp/include" -I./imslib/src/ -fpic -g -O2 -c imslib/src/ims/isotopedistribution.cpp -o imslib/src/ims/isotopedistribution.o
g++ -I/home/biocbuild/bbs-3.3-bioc/R/include -DNDEBUG -I/usr/local/include -I"/home/biocbuild/bbs-3.3-bioc/R/library/RcppClassic/include" -I"/home/biocbuild/bbs-3.3-bioc/R/library/Rcpp/include" -I./imslib/src/ -fpic -g -O2 -c imslib/src/ims/alphabet.cpp -o imslib/src/ims/alphabet.o
g++ -I/home/biocbuild/bbs-3.3-bioc/R/include -DNDEBUG -I/usr/local/include -I"/home/biocbuild/bbs-3.3-bioc/R/library/RcppClassic/include" -I"/home/biocbuild/bbs-3.3-bioc/R/library/Rcpp/include" -I./imslib/src/ -fpic -g -O2 -c imslib/src/ims/weights.cpp -o imslib/src/ims/weights.o
g++ -I/home/biocbuild/bbs-3.3-bioc/R/include -DNDEBUG -I/usr/local/include -I"/home/biocbuild/bbs-3.3-bioc/R/library/RcppClassic/include" -I"/home/biocbuild/bbs-3.3-bioc/R/library/Rcpp/include" -I./imslib/src/ -fpic -g -O2 -c imslib/src/ims/distributedalphabet.cpp -o imslib/src/ims/distributedalphabet.o
g++ -I/home/biocbuild/bbs-3.3-bioc/R/include -DNDEBUG -I/usr/local/include -I"/home/biocbuild/bbs-3.3-bioc/R/library/RcppClassic/include" -I"/home/biocbuild/bbs-3.3-bioc/R/library/Rcpp/include" -I./imslib/src/ -fpic -g -O2 -c imslib/src/ims/transformation.cpp -o imslib/src/ims/transformation.o
g++ -I/home/biocbuild/bbs-3.3-bioc/R/include -DNDEBUG -I/usr/local/include -I"/home/biocbuild/bbs-3.3-bioc/R/library/RcppClassic/include" -I"/home/biocbuild/bbs-3.3-bioc/R/library/Rcpp/include" -I./imslib/src/ -fpic -g -O2 -c imslib/src/ims/isotopespecies.cpp -o imslib/src/ims/isotopespecies.o
g++ -I/home/biocbuild/bbs-3.3-bioc/R/include -DNDEBUG -I/usr/local/include -I"/home/biocbuild/bbs-3.3-bioc/R/library/RcppClassic/include" -I"/home/biocbuild/bbs-3.3-bioc/R/library/Rcpp/include" -I./imslib/src/ -fpic -g -O2 -c imslib/src/ims/base/parser/alphabettextparser.cpp -o imslib/src/ims/base/parser/alphabettextparser.o
g++ -I/home/biocbuild/bbs-3.3-bioc/R/include -DNDEBUG -I/usr/local/include -I"/home/biocbuild/bbs-3.3-bioc/R/library/RcppClassic/include" -I"/home/biocbuild/bbs-3.3-bioc/R/library/Rcpp/include" -I./imslib/src/ -fpic -g -O2 -c imslib/src/ims/base/parser/distributedalphabettextparser.cpp -o imslib/src/ims/base/parser/distributedalphabettextparser.o
g++ -I/home/biocbuild/bbs-3.3-bioc/R/include -DNDEBUG -I/usr/local/include -I"/home/biocbuild/bbs-3.3-bioc/R/library/RcppClassic/include" -I"/home/biocbuild/bbs-3.3-bioc/R/library/Rcpp/include" -I./imslib/src/ -fpic -g -O2 -c imslib/src/ims/base/parser/massestextparser.cpp -o imslib/src/ims/base/parser/massestextparser.o
g++ -I/home/biocbuild/bbs-3.3-bioc/R/include -DNDEBUG -I/usr/local/include -I"/home/biocbuild/bbs-3.3-bioc/R/library/RcppClassic/include" -I"/home/biocbuild/bbs-3.3-bioc/R/library/Rcpp/include" -I./imslib/src/ -fpic -g -O2 -c imslib/src/ims/base/parser/moleculesequenceparser.cpp -o imslib/src/ims/base/parser/moleculesequenceparser.o
g++ -I/home/biocbuild/bbs-3.3-bioc/R/include -DNDEBUG -I/usr/local/include -I"/home/biocbuild/bbs-3.3-bioc/R/library/RcppClassic/include" -I"/home/biocbuild/bbs-3.3-bioc/R/library/Rcpp/include" -I./imslib/src/ -fpic -g -O2 -c imslib/src/ims/base/parser/standardmoleculesequenceparser.cpp -o imslib/src/ims/base/parser/standardmoleculesequenceparser.o
g++ -I/home/biocbuild/bbs-3.3-bioc/R/include -DNDEBUG -I/usr/local/include -I"/home/biocbuild/bbs-3.3-bioc/R/library/RcppClassic/include" -I"/home/biocbuild/bbs-3.3-bioc/R/library/Rcpp/include" -I./imslib/src/ -fpic -g -O2 -c imslib/src/ims/base/parser/keggligandcompoundsparser.cpp -o imslib/src/ims/base/parser/keggligandcompoundsparser.o
g++ -I/home/biocbuild/bbs-3.3-bioc/R/include -DNDEBUG -I/usr/local/include -I"/home/biocbuild/bbs-3.3-bioc/R/library/RcppClassic/include" -I"/home/biocbuild/bbs-3.3-bioc/R/library/Rcpp/include" -I./imslib/src/ -fpic -g -O2 -c imslib/src/ims/base/parser/moleculeionchargemodificationparser.cpp -o imslib/src/ims/base/parser/moleculeionchargemodificationparser.o
g++ -I/home/biocbuild/bbs-3.3-bioc/R/include -DNDEBUG -I/usr/local/include -I"/home/biocbuild/bbs-3.3-bioc/R/library/RcppClassic/include" -I"/home/biocbuild/bbs-3.3-bioc/R/library/Rcpp/include" -I./imslib/src/ -fpic -g -O2 -c imslib/src/ims/calib/linepairstabber.cpp -o imslib/src/ims/calib/linepairstabber.o
g++ -I/home/biocbuild/bbs-3.3-bioc/R/include -DNDEBUG -I/usr/local/include -I"/home/biocbuild/bbs-3.3-bioc/R/library/RcppClassic/include" -I"/home/biocbuild/bbs-3.3-bioc/R/library/Rcpp/include" -I./imslib/src/ -fpic -g -O2 -c imslib/src/ims/calib/matchmatrix.cpp -o imslib/src/ims/calib/matchmatrix.o
g++ -I/home/biocbuild/bbs-3.3-bioc/R/include -DNDEBUG -I/usr/local/include -I"/home/biocbuild/bbs-3.3-bioc/R/library/RcppClassic/include" -I"/home/biocbuild/bbs-3.3-bioc/R/library/Rcpp/include" -I./imslib/src/ -fpic -g -O2 -c imslib/src/ims/calib/linearpointsetmatcher.cpp -o imslib/src/ims/calib/linearpointsetmatcher.o
g++ -I/home/biocbuild/bbs-3.3-bioc/R/include -DNDEBUG -I/usr/local/include -I"/home/biocbuild/bbs-3.3-bioc/R/library/RcppClassic/include" -I"/home/biocbuild/bbs-3.3-bioc/R/library/Rcpp/include" -I./imslib/src/ -fpic -g -O2 -c imslib/src/ims/decomp/realmassdecomposer.cpp -o imslib/src/ims/decomp/realmassdecomposer.o
g++ -I/home/biocbuild/bbs-3.3-bioc/R/include -DNDEBUG -I/usr/local/include -I"/home/biocbuild/bbs-3.3-bioc/R/library/RcppClassic/include" -I"/home/biocbuild/bbs-3.3-bioc/R/library/Rcpp/include" -I./imslib/src/ -fpic -g -O2 -c imslib/src/ims/utils/distribution.cpp -o imslib/src/ims/utils/distribution.o
g++ -I/home/biocbuild/bbs-3.3-bioc/R/include -DNDEBUG -I/usr/local/include -I"/home/biocbuild/bbs-3.3-bioc/R/library/RcppClassic/include" -I"/home/biocbuild/bbs-3.3-bioc/R/library/Rcpp/include" -I./imslib/src/ -fpic -g -O2 -c imslib/src/ims/distributionprobabilityscorer.cpp -o imslib/src/ims/distributionprobabilityscorer.o
g++ -I/home/biocbuild/bbs-3.3-bioc/R/include -DNDEBUG -I/usr/local/include -I"/home/biocbuild/bbs-3.3-bioc/R/library/RcppClassic/include" -I"/home/biocbuild/bbs-3.3-bioc/R/library/Rcpp/include" -I./imslib/src/ -fpic -g -O2 -c imslib/src/ims/characteralphabet.cpp -o imslib/src/ims/characteralphabet.o
g++ -I/home/biocbuild/bbs-3.3-bioc/R/include -DNDEBUG -I/usr/local/include -I"/home/biocbuild/bbs-3.3-bioc/R/library/RcppClassic/include" -I"/home/biocbuild/bbs-3.3-bioc/R/library/Rcpp/include" -I./imslib/src/ -fpic -g -O2 -c imslib/src/ims/nitrogenrulefilter.cpp -o imslib/src/ims/nitrogenrulefilter.o
g++ -shared -L/home/biocbuild/bbs-3.3-bioc/R/lib -L/usr/local/lib -o Rdisop.so disop.o imslib/src/ims/element.o imslib/src/ims/composedelement.o imslib/src/ims/isotopedistribution.o imslib/src/ims/alphabet.o imslib/src/ims/weights.o imslib/src/ims/distributedalphabet.o imslib/src/ims/transformation.o imslib/src/ims/isotopespecies.o imslib/src/ims/base/parser/alphabettextparser.o imslib/src/ims/base/parser/distributedalphabettextparser.o imslib/src/ims/base/parser/massestextparser.o imslib/src/ims/base/parser/moleculesequenceparser.o imslib/src/ims/base/parser/standardmoleculesequenceparser.o imslib/src/ims/base/parser/keggligandcompoundsparser.o imslib/src/ims/base/parser/moleculeionchargemodificationparser.o imslib/src/ims/calib/linepairstabber.o imslib/src/ims/calib/matchmatrix.o imslib/src/ims/calib/linearpointsetmatcher.o imslib/src/ims/decomp/realmassdecomposer.o imslib/src/ims/utils/distribution.o imslib/src/ims/distributionprobabilityscorer.o imslib/src/ims/characteralphabet.o imslib/src/ims/nitrogenrulefilter.o -L/home/biocbuild/bbs-3.3-bioc/R/library/RcppClassic/lib -lRcppClassic -Wl,-rpath,/home/biocbuild/bbs-3.3-bioc/R/library/RcppClassic/lib -L/home/biocbuild/bbs-3.3-bioc/R/lib -lR
installing to /home/biocbuild/bbs-3.3-bioc/meat/Rdisop.Rcheck/Rdisop/libs
** R
** inst
** preparing package for lazy loading
** help
*** installing help indices
** building package indices
** installing vignettes
** testing if installed package can be loaded
* DONE (Rdisop)