RPA 1.27.0 Leo Lahti
Snapshot Date: 2015-10-26 20:20:04 -0400 (Mon, 26 Oct 2015) | URL: https://hedgehog.fhcrc.org/bioconductor/trunk/madman/Rpacks/RPA | Last Changed Rev: 109592 / Revision: 109948 | Last Changed Date: 2015-10-13 15:59:53 -0400 (Tue, 13 Oct 2015) |
| linux2.bioconductor.org | Linux (Ubuntu 14.04.2 LTS) / x86_64 | OK | OK | OK | | |
windows2.bioconductor.org | Windows Server 2012 R2 Enterprise SP1 (64-bit) / x64 | OK | OK | [ OK ] | OK | |
##############################################################################
##############################################################################
###
### Running command:
###
### rm -rf RPA.buildbin-libdir RPA.Rcheck && mkdir RPA.buildbin-libdir RPA.Rcheck && c:\biocbld\bbs-3.3-bioc\R\bin\R.exe CMD INSTALL --build --merge-multiarch --library=RPA.buildbin-libdir RPA_1.27.0.tar.gz >RPA.Rcheck\00install.out 2>&1 && cp RPA.Rcheck\00install.out RPA-install.out && c:\biocbld\bbs-3.3-bioc\R\bin\R.exe CMD check --library=RPA.buildbin-libdir --install="check:RPA-install.out" --force-multiarch --no-vignettes --timings RPA_1.27.0.tar.gz
###
##############################################################################
##############################################################################
* using log directory 'c:/biocbld/bbs-3.3-bioc/meat/RPA.Rcheck'
* using R Under development (unstable) (2015-09-22 r69418)
* using platform: x86_64-w64-mingw32 (64-bit)
* using session charset: ISO8859-1
* using option '--no-vignettes'
* checking for file 'RPA/DESCRIPTION' ... OK
* checking extension type ... Package
* this is package 'RPA' version '1.27.0'
* checking package namespace information ... OK
* checking package dependencies ... OK
* checking if this is a source package ... OK
* checking if there is a namespace ... OK
* checking for hidden files and directories ... OK
* checking for portable file names ... OK
* checking whether package 'RPA' can be installed ... OK
* checking installed package size ... OK
* checking package directory ... OK
* checking DESCRIPTION meta-information ... NOTE
Malformed Description field: should contain one or more complete sentences.
* checking top-level files ... OK
* checking for left-over files ... OK
* checking index information ... OK
* checking package subdirectories ... OK
* checking R files for non-ASCII characters ... OK
* checking R files for syntax errors ... OK
* loading checks for arch 'i386'
** checking whether the package can be loaded ... OK
** checking whether the package can be loaded with stated dependencies ... OK
** checking whether the package can be unloaded cleanly ... OK
** checking whether the namespace can be loaded with stated dependencies ... OK
** checking whether the namespace can be unloaded cleanly ... OK
* loading checks for arch 'x64'
** checking whether the package can be loaded ... OK
** checking whether the package can be loaded with stated dependencies ... OK
** checking whether the package can be unloaded cleanly ... OK
** checking whether the namespace can be loaded with stated dependencies ... OK
** checking whether the namespace can be unloaded cleanly ... OK
* checking dependencies in R code ... NOTE
Package in Depends field not imported from: 'parallel'
These packages need to be imported from (in the NAMESPACE file)
for when this namespace is loaded but not attached.
* checking S3 generic/method consistency ... OK
* checking replacement functions ... OK
* checking foreign function calls ... OK
* checking R code for possible problems ... NOTE
RPA.preprocess: no visible global function definition for 'normalize'
estimate.hyperparameters: no visible global function definition for
'mclapply'
get.affinities: no visible global function definition for 'mclapply'
summarize.batch: no visible global function definition for 'mclapply'
updating.hyperparameters: no visible global function definition for
'mclapply'
Undefined global functions or variables:
mclapply normalize
* checking Rd files ... OK
* checking Rd metadata ... OK
* checking Rd cross-references ... OK
* checking for missing documentation entries ... OK
* checking for code/documentation mismatches ... OK
* checking Rd \usage sections ... OK
* checking Rd contents ... OK
* checking for unstated dependencies in examples ... OK
* checking installed files from 'inst/doc' ... OK
* checking files in 'vignettes' ... OK
* checking examples ...
** running examples for arch 'i386' ... [1s] OK
** running examples for arch 'x64' ... [1s] OK
* checking for unstated dependencies in 'tests' ... OK
* checking tests ...
** running tests for arch 'i386' ...
Running 'rpa.R' [12s]
[12s] OK
** running tests for arch 'x64' ...
Running 'rpa.R' [13s]
[14s] OK
* checking PDF version of manual ... OK
* DONE
Status: 3 NOTEs
See
'c:/biocbld/bbs-3.3-bioc/meat/RPA.Rcheck/00check.log'
for details.
install for i386
* installing *source* package 'RPA' ...
** R
** inst
** preparing package for lazy loading
** help
*** installing help indices
** building package indices
** installing vignettes
** testing if installed package can be loaded
install for x64
* installing *source* package 'RPA' ...
** testing if installed package can be loaded
* MD5 sums
packaged installation of 'RPA' as RPA_1.27.0.zip
* DONE (RPA)