ROC 1.47.2 Vince Carey
Snapshot Date: 2016-04-20 17:20:35 -0700 (Wed, 20 Apr 2016) | URL: https://hedgehog.fhcrc.org/bioconductor/trunk/madman/Rpacks/ROC | Last Changed Rev: 113116 / Revision: 116626 | Last Changed Date: 2016-01-31 05:50:51 -0800 (Sun, 31 Jan 2016) |
| zin2 | Linux (Ubuntu 14.04.2 LTS) / x86_64 | OK | OK | OK | | |
moscato2 | Windows Server 2008 R2 Enterprise SP1 (64-bit) / x64 | OK | OK | OK | OK | |
morelia | Mac OS X Mavericks (10.9.5) / x86_64 | OK | [ OK ] | OK | OK | |
##############################################################################
##############################################################################
###
### Running command:
###
### /Library/Frameworks/R.framework/Versions/Current/Resources/bin/R CMD build --keep-empty-dirs --no-resave-data ROC
###
##############################################################################
##############################################################################
* checking for file ‘ROC/DESCRIPTION’ ... OK
* preparing ‘ROC’:
* checking DESCRIPTION meta-information ... OK
* cleaning src
* installing the package to build vignettes
* creating vignettes ... OK
* cleaning src
* checking for LF line-endings in source and make files
* checking for empty or unneeded directories
* building ‘ROC_1.47.2.tar.gz’