Prostar 1.1.0 Samuel Wieczorek
Snapshot Date: 2015-10-26 20:20:04 -0400 (Mon, 26 Oct 2015) | URL: https://hedgehog.fhcrc.org/bioconductor/trunk/madman/Rpacks/Prostar | Last Changed Rev: 109592 / Revision: 109948 | Last Changed Date: 2015-10-13 15:59:53 -0400 (Tue, 13 Oct 2015) |
| linux2.bioconductor.org | Linux (Ubuntu 14.04.2 LTS) / x86_64 | OK | OK | OK | | |
windows2.bioconductor.org | Windows Server 2012 R2 Enterprise SP1 (64-bit) / x64 | OK | OK | OK | [ OK ] | |
##############################################################################
##############################################################################
###
### Running command:
###
### cd Prostar.buildbin-libdir/Prostar && zip -r ../../Prostar_1.1.0.zip . & cd ../..
###
##############################################################################
##############################################################################
adding: DESCRIPTION (188 bytes security) (deflated 49%)
adding: doc/ (208 bytes security) (stored 0%)
adding: doc/index.html (188 bytes security) (deflated 59%)
adding: doc/Prostar_UserManual.pdf (188 bytes security) (deflated 14%)
adding: doc/Prostar_UserManual.R (188 bytes security) (deflated 77%)
adding: doc/Prostar_UserManual.Rnw (188 bytes security) (deflated 71%)
adding: help/ (208 bytes security) (stored 0%)
adding: help/aliases.rds (188 bytes security) (stored 0%)
adding: help/AnIndex (188 bytes security) (deflated 18%)
adding: help/paths.rds (188 bytes security) (stored 0%)
adding: help/Prostar.rdb (188 bytes security) (stored 0%)
adding: help/Prostar.rdx (188 bytes security) (stored 0%)
adding: html/ (208 bytes security) (stored 0%)
adding: html/00Index.html (188 bytes security) (deflated 51%)
adding: html/R.css (188 bytes security) (deflated 75%)
adding: INDEX (188 bytes security) (deflated 52%)
adding: MD5 (188 bytes security) (deflated 43%)
adding: Meta/ (208 bytes security) (stored 0%)
adding: Meta/hsearch.rds (188 bytes security) (stored 0%)
adding: Meta/links.rds (188 bytes security) (stored 0%)
adding: Meta/nsInfo.rds (188 bytes security) (stored 0%)
adding: Meta/package.rds (188 bytes security) (stored 0%)
adding: Meta/Rd.rds (188 bytes security) (stored 0%)
adding: Meta/vignette.rds (188 bytes security) (stored 0%)
adding: NAMESPACE (188 bytes security) (deflated 30%)
adding: NEWS (188 bytes security) (deflated 21%)
adding: ProstarApp/ (208 bytes security) (stored 0%)
adding: ProstarApp/global.R (188 bytes security) (deflated 71%)
adding: ProstarApp/server.R (188 bytes security) (deflated 85%)
adding: ProstarApp/ui.R (188 bytes security) (deflated 52%)
adding: R/ (208 bytes security) (stored 0%)
adding: R/Prostar (188 bytes security) (deflated 41%)
adding: R/Prostar.rdb (188 bytes security) (deflated 4%)
adding: R/Prostar.rdx (188 bytes security) (stored 0%)