Back to the "Multiple platform build/check report" A  B  C  D  E  F  G  H  I  J  K  L  M  N  O [P] Q  R  S  T  U  V  W  X  Y  Z 

BioC 3.3: CHECK report for PSICQUIC on windows2.bioconductor.org

This page was generated on 2015-10-25 14:35:31 -0400 (Sun, 25 Oct 2015).

Package 812/1104HostnameOS / ArchINSTALLBUILDCHECKBUILD BIN
PSICQUIC 1.9.1
Paul Shannon
Snapshot Date: 2015-10-24 20:20:09 -0400 (Sat, 24 Oct 2015)
URL: https://hedgehog.fhcrc.org/bioconductor/trunk/madman/Rpacks/PSICQUIC
Last Changed Rev: 109617 / Revision: 109897
Last Changed Date: 2015-10-14 12:25:49 -0400 (Wed, 14 Oct 2015)
linux2.bioconductor.org Linux (Ubuntu 14.04.2 LTS) / x86_64  OK  OK  ERROR 
windows2.bioconductor.org Windows Server 2012 R2 Enterprise SP1 (64-bit) / x64  OK  OK [ OK ] OK UNNEEDED, same version exists in internal repository

Summary

Package: PSICQUIC
Version: 1.9.1
Command: rm -rf PSICQUIC.buildbin-libdir PSICQUIC.Rcheck && mkdir PSICQUIC.buildbin-libdir PSICQUIC.Rcheck && c:\biocbld\bbs-3.3-bioc\R\bin\R.exe CMD INSTALL --build --merge-multiarch --library=PSICQUIC.buildbin-libdir PSICQUIC_1.9.1.tar.gz >PSICQUIC.Rcheck\00install.out 2>&1 && cp PSICQUIC.Rcheck\00install.out PSICQUIC-install.out && c:\biocbld\bbs-3.3-bioc\R\bin\R.exe CMD check --library=PSICQUIC.buildbin-libdir --install="check:PSICQUIC-install.out" --force-multiarch --no-vignettes --timings PSICQUIC_1.9.1.tar.gz
StartedAt: 2015-10-25 05:03:47 -0400 (Sun, 25 Oct 2015)
EndedAt: 2015-10-25 05:07:18 -0400 (Sun, 25 Oct 2015)
EllapsedTime: 210.8 seconds
RetCode: 0
Status:  OK  
CheckDir: PSICQUIC.Rcheck
Warnings: 0

Command output

##############################################################################
##############################################################################
###
### Running command:
###
###   rm -rf PSICQUIC.buildbin-libdir PSICQUIC.Rcheck && mkdir PSICQUIC.buildbin-libdir PSICQUIC.Rcheck && c:\biocbld\bbs-3.3-bioc\R\bin\R.exe CMD INSTALL --build --merge-multiarch --library=PSICQUIC.buildbin-libdir PSICQUIC_1.9.1.tar.gz >PSICQUIC.Rcheck\00install.out 2>&1 && cp PSICQUIC.Rcheck\00install.out PSICQUIC-install.out  && c:\biocbld\bbs-3.3-bioc\R\bin\R.exe CMD check --library=PSICQUIC.buildbin-libdir --install="check:PSICQUIC-install.out" --force-multiarch --no-vignettes --timings PSICQUIC_1.9.1.tar.gz
###
##############################################################################
##############################################################################


* using log directory 'c:/biocbld/bbs-3.3-bioc/meat/PSICQUIC.Rcheck'
* using R Under development (unstable) (2015-09-22 r69418)
* using platform: x86_64-w64-mingw32 (64-bit)
* using session charset: ISO8859-1
* using option '--no-vignettes'
* checking for file 'PSICQUIC/DESCRIPTION' ... OK
* checking extension type ... Package
* this is package 'PSICQUIC' version '1.9.1'
* checking package namespace information ... OK
* checking package dependencies ... OK
* checking if this is a source package ... OK
* checking if there is a namespace ... OK
* checking for hidden files and directories ... OK
* checking for portable file names ... OK
* checking whether package 'PSICQUIC' can be installed ... OK
* checking installed package size ... OK
* checking package directory ... OK
* checking 'build' directory ... OK
* checking DESCRIPTION meta-information ... OK
* checking top-level files ... OK
* checking for left-over files ... OK
* checking index information ... OK
* checking package subdirectories ... OK
* checking R files for non-ASCII characters ... OK
* checking R files for syntax errors ... OK
* loading checks for arch 'i386'
** checking whether the package can be loaded ... OK
** checking whether the package can be loaded with stated dependencies ... OK
** checking whether the package can be unloaded cleanly ... OK
** checking whether the namespace can be loaded with stated dependencies ... OK
** checking whether the namespace can be unloaded cleanly ... OK
* loading checks for arch 'x64'
** checking whether the package can be loaded ... OK
** checking whether the package can be loaded with stated dependencies ... OK
** checking whether the package can be unloaded cleanly ... OK
** checking whether the namespace can be loaded with stated dependencies ... OK
** checking whether the namespace can be unloaded cleanly ... OK
* checking dependencies in R code ... NOTE
Packages in Depends field not imported from:
  'httr' 'plyr'
  These packages need to be imported from (in the NAMESPACE file)
  for when this namespace is loaded but not attached.
* checking S3 generic/method consistency ... OK
* checking replacement functions ... OK
* checking foreign function calls ... OK
* checking R code for possible problems ... NOTE
.loadRegistry: no visible global function definition for 'DataFrame'
.translate.uniprotkb: no visible binding for global variable 'id'
Undefined global functions or variables:
  DataFrame id
* checking Rd files ... OK
* checking Rd metadata ... OK
* checking Rd cross-references ... OK
* checking for missing documentation entries ... OK
* checking for code/documentation mismatches ... OK
* checking Rd \usage sections ... OK
* checking Rd contents ... OK
* checking for unstated dependencies in examples ... OK
* checking installed files from 'inst/doc' ... OK
* checking files in 'vignettes' ... OK
* checking examples ...
** running examples for arch 'i386' ... [31s] OK
Examples with CPU or elapsed time > 5s
               user system elapsed
PSICQUIC-class 0.96   0.03   17.81
interactions   0.48   0.02    8.02
** running examples for arch 'x64' ... [29s] OK
Examples with CPU or elapsed time > 5s
               user system elapsed
PSICQUIC-class 1.14   0.00   14.89
interactions   0.50   0.06    8.05
* checking for unstated dependencies in 'tests' ... OK
* checking tests ...
** running tests for arch 'i386' ...
  Running 'runTests.R' [32s]
 [32s] OK
** running tests for arch 'x64' ...
  Running 'runTests.R' [36s]
 [36s] OK
* checking for unstated dependencies in vignettes ... OK
* checking package vignettes in 'inst/doc' ... OK
* checking running R code from vignettes ... SKIPPED
* checking re-building of vignette outputs ... SKIPPED
* checking PDF version of manual ... OK
* DONE

Status: 2 NOTEs
See
  'c:/biocbld/bbs-3.3-bioc/meat/PSICQUIC.Rcheck/00check.log'
for details.


PSICQUIC.Rcheck/00install.out:


install for i386

* installing *source* package 'PSICQUIC' ...
** R
** inst
** preparing package for lazy loading
** help
*** installing help indices
** building package indices
** installing vignettes
** testing if installed package can be loaded

install for x64

* installing *source* package 'PSICQUIC' ...
** testing if installed package can be loaded
* MD5 sums
packaged installation of 'PSICQUIC' as PSICQUIC_1.9.1.zip
* DONE (PSICQUIC)

PSICQUIC.Rcheck/examples_i386/PSICQUIC-Ex.timings:

nameusersystemelapsed
IDMapper-class0.350.061.12
PSICQUIC-class 0.96 0.0317.81
interactions0.480.028.02
providers0.020.000.73
rawQuery0.030.021.22
webBrowser-functions000

PSICQUIC.Rcheck/examples_x64/PSICQUIC-Ex.timings:

nameusersystemelapsed
IDMapper-class0.300.050.92
PSICQUIC-class 1.14 0.0014.89
interactions0.500.068.05
providers0.000.000.72
rawQuery0.020.001.17
webBrowser-functions000