| PANR 1.18.0 Xin Wang
 
 | Snapshot Date: 2016-10-12 17:20:15 -0700 (Wed, 12 Oct 2016) |  | URL: https://hedgehog.fhcrc.org/bioconductor/branches/RELEASE_3_3/madman/Rpacks/PANR |  | Last Changed Rev: 117079 / Revision: 122332 |  | Last Changed Date: 2016-05-03 14:20:18 -0700 (Tue, 03 May 2016) | 
 | zin2 | Linux (Ubuntu 14.04.2 LTS) / x86_64 | OK | OK | OK |  |  | 
| moscato2 | Windows Server 2008 R2 Enterprise SP1 (64-bit) / x64 | OK | OK | OK | [ OK ] |  | 
| oaxaca | Mac OS X Mavericks (10.9.5) / x86_64 | OK | OK | OK | OK |  | 
##############################################################################
##############################################################################
###
### Running command:
###
###   cd PANR.buildbin-libdir/PANR && zip -r ../../PANR_1.18.0.zip . & cd ../..
###
##############################################################################
##############################################################################
  adding: CHANGES (188 bytes security) (deflated 35%)
  adding: data/ (256 bytes security) (stored 0%)
  adding: data/Bakal2007.RData (188 bytes security) (stored 0%)
  adding: data/Bakal2007Cluster.RData (188 bytes security) (stored 0%)
  adding: data/bm.RData (188 bytes security) (deflated 0%)
  adding: data/datalist (188 bytes security) (deflated 30%)
  adding: DESCRIPTION (188 bytes security) (deflated 43%)
  adding: doc/ (256 bytes security) (stored 0%)
  adding: doc/index.html (188 bytes security) (deflated 57%)
  adding: doc/PANR-Vignette.pdf (188 bytes security) (deflated 11%)
  adding: doc/PANR-Vignette.R (188 bytes security) (deflated 79%)
  adding: doc/PANR-Vignette.Rnw (188 bytes security) (deflated 68%)
  adding: help/ (256 bytes security) (stored 0%)
  adding: help/aliases.rds (188 bytes security) (stored 0%)
  adding: help/AnIndex (188 bytes security) (deflated 80%)
  adding: help/PANR.rdb (188 bytes security) (deflated 1%)
  adding: help/PANR.rdx (188 bytes security) (stored 0%)
  adding: help/paths.rds (188 bytes security) (stored 0%)
  adding: html/ (256 bytes security) (stored 0%)
  adding: html/00Index.html (188 bytes security) (deflated 80%)
  adding: html/R.css (188 bytes security) (deflated 75%)
  adding: INDEX (188 bytes security) (deflated 66%)
  adding: MD5 (188 bytes security) (deflated 42%)
  adding: Meta/ (256 bytes security) (stored 0%)
  adding: Meta/data.rds (188 bytes security) (stored 0%)
  adding: Meta/hsearch.rds (188 bytes security) (stored 0%)
  adding: Meta/links.rds (188 bytes security) (stored 0%)
  adding: Meta/nsInfo.rds (188 bytes security) (stored 0%)
  adding: Meta/package.rds (188 bytes security) (stored 0%)
  adding: Meta/Rd.rds (188 bytes security) (stored 0%)
  adding: Meta/vignette.rds (188 bytes security) (stored 0%)
  adding: NAMESPACE (188 bytes security) (deflated 51%)
  adding: NEWS (188 bytes security) (stored 0%)
  adding: R/ (256 bytes security) (stored 0%)
  adding: R/PANR (188 bytes security) (deflated 41%)
  adding: R/PANR.rdb (188 bytes security) (deflated 36%)
  adding: R/PANR.rdx (188 bytes security) (deflated 1%)