| OTUbase 1.22.0 Daniel Beck
 
 | Snapshot Date: 2016-10-12 17:20:15 -0700 (Wed, 12 Oct 2016) |  | URL: https://hedgehog.fhcrc.org/bioconductor/branches/RELEASE_3_3/madman/Rpacks/OTUbase |  | Last Changed Rev: 117079 / Revision: 122332 |  | Last Changed Date: 2016-05-03 14:20:18 -0700 (Tue, 03 May 2016) | 
 | zin2 | Linux (Ubuntu 14.04.2 LTS) / x86_64 | OK | OK | OK |  |  | 
| moscato2 | Windows Server 2008 R2 Enterprise SP1 (64-bit) / x64 | OK | OK | OK | [ OK ] |  | 
| oaxaca | Mac OS X Mavericks (10.9.5) / x86_64 | OK | OK | OK | OK |  | 
##############################################################################
##############################################################################
###
### Running command:
###
###   cd OTUbase.buildbin-libdir/OTUbase && zip -r ../../OTUbase_1.22.0.zip . & cd ../..
###
##############################################################################
##############################################################################
  adding: DESCRIPTION (188 bytes security) (deflated 34%)
  adding: doc/ (256 bytes security) (stored 0%)
  adding: doc/index.html (188 bytes security) (deflated 59%)
  adding: doc/Introduction_to_OTUbase.pdf (188 bytes security) (deflated 9%)
  adding: doc/Introduction_to_OTUbase.R (188 bytes security) (deflated 78%)
  adding: doc/Introduction_to_OTUbase.Rnw (188 bytes security) (deflated 63%)
  adding: extdata/ (256 bytes security) (stored 0%)
  adding: extdata/Sogin_2006/ (256 bytes security) (stored 0%)
  adding: extdata/Sogin_2006/sample_metadata.txt (188 bytes security) (deflated 47%)
  adding: extdata/Sogin_2006/sogin.fasta (188 bytes security) (deflated 82%)
  adding: extdata/Sogin_2006/sogin.groups (188 bytes security) (deflated 72%)
  adding: extdata/Sogin_2006/sogin.names (188 bytes security) (deflated 73%)
  adding: extdata/Sogin_2006/sogin.rep.fix.tax (188 bytes security) (deflated 83%)
  adding: extdata/Sogin_2006/sogin.unique.filter.fn.0.03.rep.fasta (188 bytes security) (deflated 74%)
  adding: extdata/Sogin_2006/sogin.unique.filter.fn.list (188 bytes security) (deflated 95%)
  adding: extdata/Sogin_2006/sogin.unique.fix.tax (188 bytes security) (deflated 84%)
  adding: help/ (256 bytes security) (stored 0%)
  adding: help/aliases.rds (188 bytes security) (stored 0%)
  adding: help/AnIndex (188 bytes security) (deflated 82%)
  adding: help/OTUbase.rdb (188 bytes security) (deflated 1%)
  adding: help/OTUbase.rdx (188 bytes security) (stored 0%)
  adding: help/paths.rds (188 bytes security) (stored 0%)
  adding: html/ (256 bytes security) (stored 0%)
  adding: html/00Index.html (188 bytes security) (deflated 88%)
  adding: html/R.css (188 bytes security) (deflated 75%)
  adding: INDEX (188 bytes security) (deflated 63%)
  adding: MD5 (188 bytes security) (deflated 47%)
  adding: Meta/ (256 bytes security) (stored 0%)
  adding: Meta/hsearch.rds (188 bytes security) (stored 0%)
  adding: Meta/links.rds (188 bytes security) (stored 0%)
  adding: Meta/nsInfo.rds (188 bytes security) (stored 0%)
  adding: Meta/package.rds (188 bytes security) (stored 0%)
  adding: Meta/Rd.rds (188 bytes security) (stored 0%)
  adding: Meta/vignette.rds (188 bytes security) (stored 0%)
  adding: NAMESPACE (188 bytes security) (deflated 55%)
  adding: R/ (256 bytes security) (stored 0%)
  adding: R/OTUbase (188 bytes security) (deflated 41%)
  adding: R/OTUbase.rdb (188 bytes security) (deflated 32%)
  adding: R/OTUbase.rdx (188 bytes security) (deflated 2%)