Back to the "Multiple platform build/check report" A  B  C  D  E  F  G  H  I  J  K  L  M [N] O  P  Q  R  S  T  U  V  W  X  Y  Z 

BioC 3.3: BUILD BIN report for NCIgraph on moscato2

This page was generated on 2016-06-26 11:52:51 -0700 (Sun, 26 Jun 2016).

Package 772/1210HostnameOS / ArchINSTALLBUILDCHECKBUILD BIN
NCIgraph 1.20.0
Laurent Jacob
Snapshot Date: 2016-06-25 17:20:50 -0700 (Sat, 25 Jun 2016)
URL: https://hedgehog.fhcrc.org/bioconductor/branches/RELEASE_3_3/madman/Rpacks/NCIgraph
Last Changed Rev: 117079 / Revision: 118955
Last Changed Date: 2016-05-03 14:20:18 -0700 (Tue, 03 May 2016)
zin2 Linux (Ubuntu 14.04.2 LTS) / x86_64  OK  OK  OK UNNEEDED, same version exists in internal repository
moscato2 Windows Server 2008 R2 Enterprise SP1 (64-bit) / x64  OK  OK  OK [ OK ]UNNEEDED, same version exists in internal repository
oaxaca Mac OS X Mavericks (10.9.5) / x86_64  ERROR  ERROR  skipped  skipped 

Summary

Package: NCIgraph
Version: 1.20.0
Command: cd NCIgraph.buildbin-libdir/NCIgraph && zip -r ../../NCIgraph_1.20.0.zip . & cd ../..
StartedAt: 2016-06-26 11:07:12 -0700 (Sun, 26 Jun 2016)
EndedAt: 2016-06-26 11:07:45 -0700 (Sun, 26 Jun 2016)
EllapsedTime: 32.7 seconds
RetCode: 0
Status:  OK  
PackageFile: NCIgraph_1.20.0.zip
PackageFileSize: 597.6 KiB

Command output

##############################################################################
##############################################################################
###
### Running command:
###
###   cd NCIgraph.buildbin-libdir/NCIgraph && zip -r ../../NCIgraph_1.20.0.zip . & cd ../..
###
##############################################################################
##############################################################################


  adding: COPYING (188 bytes security) (deflated 66%)
  adding: data/ (256 bytes security) (stored 0%)
  adding: data/NCIgraphVignette.RData (188 bytes security) (deflated 2%)
  adding: DESCRIPTION (188 bytes security) (deflated 37%)
  adding: doc/ (256 bytes security) (stored 0%)
  adding: doc/index.html (188 bytes security) (deflated 57%)
  adding: doc/NCIgraph.pdf (188 bytes security) (deflated 11%)
  adding: doc/NCIgraph.R (188 bytes security) (deflated 82%)
  adding: doc/NCIgraph.Rnw (188 bytes security) (deflated 61%)
  adding: extdata/ (256 bytes security) (stored 0%)
  adding: extdata/getNCIPathways.Rex (188 bytes security) (deflated 60%)
  adding: extdata/getSubtype.NCIgraph.Rex (188 bytes security) (deflated 63%)
  adding: extdata/parseNCInetwork.Rex (188 bytes security) (deflated 32%)
  adding: extdata/translateNCI2GeneID.Rex (188 bytes security) (deflated 41%)
  adding: help/ (256 bytes security) (stored 0%)
  adding: help/aliases.rds (188 bytes security) (stored 0%)
  adding: help/AnIndex (188 bytes security) (deflated 52%)
  adding: help/NCIgraph.rdb (188 bytes security) (deflated 1%)
  adding: help/NCIgraph.rdx (188 bytes security) (stored 0%)
  adding: help/paths.rds (188 bytes security) (stored 0%)
  adding: html/ (256 bytes security) (stored 0%)
  adding: html/00Index.html (188 bytes security) (deflated 61%)
  adding: html/R.css (188 bytes security) (deflated 75%)
  adding: INDEX (188 bytes security) (deflated 59%)
  adding: MD5 (188 bytes security) (deflated 42%)
  adding: Meta/ (256 bytes security) (stored 0%)
  adding: Meta/data.rds (188 bytes security) (stored 0%)
  adding: Meta/hsearch.rds (188 bytes security) (stored 0%)
  adding: Meta/links.rds (188 bytes security) (stored 0%)
  adding: Meta/nsInfo.rds (188 bytes security) (stored 0%)
  adding: Meta/package.rds (188 bytes security) (stored 0%)
  adding: Meta/Rd.rds (188 bytes security) (stored 0%)
  adding: Meta/vignette.rds (188 bytes security) (stored 0%)
  adding: NAMESPACE (188 bytes security) (deflated 57%)
  adding: R/ (256 bytes security) (stored 0%)
  adding: R/NCIgraph (188 bytes security) (deflated 41%)
  adding: R/NCIgraph.rdb (188 bytes security) (deflated 19%)
  adding: R/NCIgraph.rdx (188 bytes security) (stored 0%)
  adding: scripts/ (256 bytes security) (stored 0%)
  adding: scripts/generateManPages.R (188 bytes security) (deflated 45%)