| Mulcom 1.22.0 Claudio Isella
 
 | Snapshot Date: 2016-10-12 17:20:15 -0700 (Wed, 12 Oct 2016) |  | URL: https://hedgehog.fhcrc.org/bioconductor/branches/RELEASE_3_3/madman/Rpacks/Mulcom |  | Last Changed Rev: 117079 / Revision: 122332 |  | Last Changed Date: 2016-05-03 14:20:18 -0700 (Tue, 03 May 2016) | 
 | zin2 | Linux (Ubuntu 14.04.2 LTS) / x86_64 | OK | OK | OK |  |  | 
| moscato2 | Windows Server 2008 R2 Enterprise SP1 (64-bit) / x64 | OK | OK | OK | [ OK ] |  | 
| oaxaca | Mac OS X Mavericks (10.9.5) / x86_64 | OK | OK | OK | OK |  | 
##############################################################################
##############################################################################
###
### Running command:
###
###   cd Mulcom.buildbin-libdir/Mulcom && zip -r ../../Mulcom_1.22.0.zip . & cd ../..
###
##############################################################################
##############################################################################
  adding: data/ (256 bytes security) (stored 0%)
  adding: data/benchVign.rda (188 bytes security) (deflated 0%)
  adding: data/datalist (188 bytes security) (deflated 33%)
  adding: data/others.rda (188 bytes security) (stored 0%)
  adding: DESCRIPTION (188 bytes security) (deflated 37%)
  adding: doc/ (256 bytes security) (stored 0%)
  adding: doc/index.html (188 bytes security) (deflated 59%)
  adding: doc/MulcomVignette.pdf (188 bytes security) (deflated 6%)
  adding: doc/MulcomVignette.R (188 bytes security) (deflated 83%)
  adding: doc/MulcomVignette.Rnw (188 bytes security) (deflated 66%)
  adding: help/ (256 bytes security) (stored 0%)
  adding: help/aliases.rds (188 bytes security) (stored 0%)
  adding: help/AnIndex (188 bytes security) (deflated 64%)
  adding: help/Mulcom.rdb (188 bytes security) (deflated 3%)
  adding: help/Mulcom.rdx (188 bytes security) (stored 0%)
  adding: help/paths.rds (188 bytes security) (stored 0%)
  adding: html/ (256 bytes security) (stored 0%)
  adding: html/00Index.html (188 bytes security) (deflated 76%)
  adding: html/R.css (188 bytes security) (deflated 75%)
  adding: INDEX (188 bytes security) (deflated 69%)
  adding: libs/ (256 bytes security) (stored 0%)
  adding: libs/i386/ (256 bytes security) (stored 0%)
  adding: libs/i386/Mulcom.dll (188 bytes security) (deflated 65%)
  adding: libs/x64/ (256 bytes security) (stored 0%)
  adding: libs/x64/Mulcom.dll (188 bytes security) (deflated 67%)
  adding: MD5 (188 bytes security) (deflated 43%)
  adding: Meta/ (256 bytes security) (stored 0%)
  adding: Meta/data.rds (188 bytes security) (stored 0%)
  adding: Meta/hsearch.rds (188 bytes security) (stored 0%)
  adding: Meta/links.rds (188 bytes security) (stored 0%)
  adding: Meta/nsInfo.rds (188 bytes security) (stored 0%)
  adding: Meta/package.rds (188 bytes security) (stored 0%)
  adding: Meta/Rd.rds (188 bytes security) (stored 0%)
  adding: Meta/vignette.rds (188 bytes security) (stored 0%)
  adding: NAMESPACE (188 bytes security) (deflated 44%)
  adding: NEWS (188 bytes security) (deflated 20%)
  adding: R/ (256 bytes security) (stored 0%)
  adding: R/Mulcom (188 bytes security) (deflated 41%)
  adding: R/Mulcom.rdb (188 bytes security) (deflated 2%)
  adding: R/Mulcom.rdx (188 bytes security) (stored 0%)