Back to the "Multiple platform build/check report" A  B  C  D  E  F  G  H  I  J  K  L [M] N  O  P  Q  R  S  T  U  V  W  X  Y  Z 

BioC 3.3: CHECK report for MethylSeekR on morelia

This page was generated on 2016-04-21 13:23:56 -0700 (Thu, 21 Apr 2016).

Package 706/1210HostnameOS / ArchINSTALLBUILDCHECKBUILD BIN
MethylSeekR 1.11.0
Lukas Burger
Snapshot Date: 2016-04-20 17:20:35 -0700 (Wed, 20 Apr 2016)
URL: https://hedgehog.fhcrc.org/bioconductor/trunk/madman/Rpacks/MethylSeekR
Last Changed Rev: 109592 / Revision: 116626
Last Changed Date: 2015-10-13 12:59:53 -0700 (Tue, 13 Oct 2015)
zin2 Linux (Ubuntu 14.04.2 LTS) / x86_64  OK  OK  OK UNNEEDED, same version exists in internal repository
moscato2 Windows Server 2008 R2 Enterprise SP1 (64-bit) / x64  OK  OK  OK  OK UNNEEDED, same version exists in internal repository
morelia Mac OS X Mavericks (10.9.5) / x86_64  OK  OK [ OK ] OK UNNEEDED, same version exists in internal repository

Summary

Package: MethylSeekR
Version: 1.11.0
Command: /Library/Frameworks/R.framework/Versions/Current/Resources/bin/R CMD check --no-vignettes --timings MethylSeekR_1.11.0.tar.gz
StartedAt: 2016-04-21 04:57:19 -0700 (Thu, 21 Apr 2016)
EndedAt: 2016-04-21 05:03:29 -0700 (Thu, 21 Apr 2016)
EllapsedTime: 370.1 seconds
RetCode: 0
Status:  OK 
CheckDir: MethylSeekR.Rcheck
Warnings: 0

Command output

##############################################################################
##############################################################################
###
### Running command:
###
###   /Library/Frameworks/R.framework/Versions/Current/Resources/bin/R CMD check --no-vignettes --timings MethylSeekR_1.11.0.tar.gz
###
##############################################################################
##############################################################################


* using log directory ‘/Users/biocbuild/bbs-3.3-bioc/meat/MethylSeekR.Rcheck’
* using R version 3.3.0 beta (2016-04-06 r70435)
* using platform: x86_64-apple-darwin13.4.0 (64-bit)
* using session charset: UTF-8
* using option ‘--no-vignettes’
* checking for file ‘MethylSeekR/DESCRIPTION’ ... OK
* checking extension type ... Package
* this is package ‘MethylSeekR’ version ‘1.11.0’
* checking package namespace information ... OK
* checking package dependencies ... OK
* checking if this is a source package ... OK
* checking if there is a namespace ... OK
* checking for hidden files and directories ... OK
* checking for portable file names ... OK
* checking for sufficient/correct file permissions ... OK
* checking whether package ‘MethylSeekR’ can be installed ... [14s/14s] OK
* checking installed package size ... OK
* checking package directory ... OK
* checking ‘build’ directory ... OK
* checking DESCRIPTION meta-information ... NOTE
Malformed Description field: should contain one or more complete sentences.
Package listed in more than one of Depends, Imports, Suggests, Enhances:
  ‘parallel’
A package should be listed in only one of these fields.
* checking top-level files ... OK
* checking for left-over files ... OK
* checking index information ... OK
* checking package subdirectories ... OK
* checking R files for non-ASCII characters ... OK
* checking R files for syntax errors ... OK
* checking whether the package can be loaded ... OK
* checking whether the package can be loaded with stated dependencies ... OK
* checking whether the package can be unloaded cleanly ... OK
* checking whether the namespace can be loaded with stated dependencies ... OK
* checking whether the namespace can be unloaded cleanly ... OK
* checking dependencies in R code ... NOTE
Namespace in Imports field not imported from: ‘geneplotter’
  All declared Imports should be used.
Package in Depends field not imported from: ‘rtracklayer’
  These packages need to be imported from (in the NAMESPACE file)
  for when this namespace is loaded but not attached.
* checking S3 generic/method consistency ... OK
* checking replacement functions ... OK
* checking foreign function calls ... OK
* checking R code for possible problems ... NOTE
PMDviterbiSegmentation : <anonymous>: no visible global function
  definition for ‘predict’
PMDviterbiSegmentation : <anonymous>: no visible global function
  definition for ‘Rle’
PMDviterbiSegmentation : <anonymous>: no visible global function
  definition for ‘runValue’
calculateAlphaDistr : <anonymous>: no visible global function
  definition for ‘Rle’
calculateFDRs: no visible global function definition for ‘queryHits’
calculateFDRs : <anonymous>: no visible global function definition for
  ‘Rle’
calculateFDRs : <anonymous>: no visible global function definition for
  ‘runValue’
createGRangesObjectPMDSegmentation : <anonymous>: no visible global
  function definition for ‘Rle’
createGRangesObjectPMDSegmentation : <anonymous>: no visible global
  function definition for ‘nrun’
createGRangesObjectPMDSegmentation : <anonymous>: no visible global
  function definition for ‘runValue’
plotFinalSegmentation: no visible global function definition for ‘Rle’
removeSNPs: no visible global function definition for ‘queryHits’
segmentUMRsLMRs : <anonymous>: no visible global function definition
  for ‘Rle’
segmentUMRsLMRs : <anonymous>: no visible global function definition
  for ‘runValue’
segmentUMRsLMRs: no visible global function definition for ‘queryHits’
segmentUMRsLMRs: no visible global function definition for
  ‘subjectHits’
segmentUMRsLMRs: no visible global function definition for ‘Rle’
segmentUMRsLMRs: no visible global function definition for ‘DataFrame’
segmentUMRsLMRs: no visible global function definition for
  ‘colorRampPalette’
Undefined global functions or variables:
  DataFrame Rle colorRampPalette nrun predict queryHits runValue
  subjectHits
Consider adding
  importFrom("grDevices", "colorRampPalette")
  importFrom("stats", "predict")
to your NAMESPACE file.
* checking Rd files ... OK
* checking Rd metadata ... OK
* checking Rd cross-references ... OK
* checking for missing documentation entries ... OK
* checking for code/documentation mismatches ... OK
* checking Rd \usage sections ... OK
* checking Rd contents ... OK
* checking for unstated dependencies in examples ... OK
* checking sizes of PDF files under ‘inst/doc’ ... OK
* checking installed files from ‘inst/doc’ ... OK
* checking files in ‘vignettes’ ... OK
* checking examples ... [208s/238s] OK
Examples with CPU or elapsed time > 5s
                              user system elapsed
MethylSeekR-package         58.830  4.701  79.872
plotPMDSegmentation         36.799  2.758  39.590
segmentPMDs                 34.310  2.095  36.436
savePMDSegments             32.275  2.099  34.396
plotAlphaDistributionOneChr  7.587  0.398   7.991
calculateFDRs                6.151  1.052  20.801
* checking for unstated dependencies in vignettes ... OK
* checking package vignettes in ‘inst/doc’ ... OK
* checking running R code from vignettes ... SKIPPED
* checking re-building of vignette outputs ... SKIPPED
* checking PDF version of manual ... OK
* DONE

Status: 3 NOTEs
See
  ‘/Users/biocbuild/bbs-3.3-bioc/meat/MethylSeekR.Rcheck/00check.log’
for details.


MethylSeekR.Rcheck/00install.out:

* installing *source* package ‘MethylSeekR’ ...
** R
** inst
** preparing package for lazy loading
** help
*** installing help indices
** building package indices
** installing vignettes
** testing if installed package can be loaded
* DONE (MethylSeekR)

MethylSeekR.Rcheck/MethylSeekR-Ex.timings:

nameusersystemelapsed
MethylSeekR-package58.830 4.70179.872
calculateFDRs 6.151 1.05220.801
plotAlphaDistributionOneChr7.5870.3987.991
plotFinalSegmentation3.9710.6374.617
plotPMDSegmentation36.799 2.75839.590
readMethylome1.0800.0531.135
readSNPTable0.1500.0040.155
removeSNPs1.2720.0751.349
savePMDSegments32.275 2.09934.396
saveUMRLMRSegments2.0740.2172.293
segmentPMDs34.310 2.09536.436
segmentUMRsLMRs2.2110.2142.429