Back to the "Multiple platform build/check report" A  B  C  D  E  F  G  H  I  J  K  L [M] N  O  P  Q  R  S  T  U  V  W  X  Y  Z 

BioC 3.3: CHECK report for MLInterfaces on windows2.bioconductor.org

This page was generated on 2015-10-27 12:13:59 -0400 (Tue, 27 Oct 2015).

Package 658/1104HostnameOS / ArchINSTALLBUILDCHECKBUILD BIN
MLInterfaces 1.51.0
V. Carey
Snapshot Date: 2015-10-26 20:20:04 -0400 (Mon, 26 Oct 2015)
URL: https://hedgehog.fhcrc.org/bioconductor/trunk/madman/Rpacks/MLInterfaces
Last Changed Rev: 109592 / Revision: 109948
Last Changed Date: 2015-10-13 15:59:53 -0400 (Tue, 13 Oct 2015)
linux2.bioconductor.org Linux (Ubuntu 14.04.2 LTS) / x86_64  OK  OK  OK UNNEEDED, same version exists in internal repository
windows2.bioconductor.org Windows Server 2012 R2 Enterprise SP1 (64-bit) / x64  OK  OK [ OK ] OK UNNEEDED, same version exists in internal repository

Summary

Package: MLInterfaces
Version: 1.51.0
Command: rm -rf MLInterfaces.buildbin-libdir MLInterfaces.Rcheck && mkdir MLInterfaces.buildbin-libdir MLInterfaces.Rcheck && c:\biocbld\bbs-3.3-bioc\R\bin\R.exe CMD INSTALL --build --merge-multiarch --library=MLInterfaces.buildbin-libdir MLInterfaces_1.51.0.tar.gz >MLInterfaces.Rcheck\00install.out 2>&1 && cp MLInterfaces.Rcheck\00install.out MLInterfaces-install.out && c:\biocbld\bbs-3.3-bioc\R\bin\R.exe CMD check --library=MLInterfaces.buildbin-libdir --install="check:MLInterfaces-install.out" --force-multiarch --no-vignettes --timings MLInterfaces_1.51.0.tar.gz
StartedAt: 2015-10-27 04:15:52 -0400 (Tue, 27 Oct 2015)
EndedAt: 2015-10-27 04:19:05 -0400 (Tue, 27 Oct 2015)
EllapsedTime: 193.1 seconds
RetCode: 0
Status:  OK  
CheckDir: MLInterfaces.Rcheck
Warnings: 0

Command output

##############################################################################
##############################################################################
###
### Running command:
###
###   rm -rf MLInterfaces.buildbin-libdir MLInterfaces.Rcheck && mkdir MLInterfaces.buildbin-libdir MLInterfaces.Rcheck && c:\biocbld\bbs-3.3-bioc\R\bin\R.exe CMD INSTALL --build --merge-multiarch --library=MLInterfaces.buildbin-libdir MLInterfaces_1.51.0.tar.gz >MLInterfaces.Rcheck\00install.out 2>&1 && cp MLInterfaces.Rcheck\00install.out MLInterfaces-install.out  && c:\biocbld\bbs-3.3-bioc\R\bin\R.exe CMD check --library=MLInterfaces.buildbin-libdir --install="check:MLInterfaces-install.out" --force-multiarch --no-vignettes --timings MLInterfaces_1.51.0.tar.gz
###
##############################################################################
##############################################################################


* using log directory 'c:/biocbld/bbs-3.3-bioc/meat/MLInterfaces.Rcheck'
* using R Under development (unstable) (2015-09-22 r69418)
* using platform: x86_64-w64-mingw32 (64-bit)
* using session charset: ISO8859-1
* using option '--no-vignettes'
* checking for file 'MLInterfaces/DESCRIPTION' ... OK
* this is package 'MLInterfaces' version '1.51.0'
* checking package namespace information ... OK
* checking package dependencies ... OK
* checking if this is a source package ... OK
* checking if there is a namespace ... OK
* checking for hidden files and directories ... OK
* checking for portable file names ... OK
* checking whether package 'MLInterfaces' can be installed ... OK
* checking installed package size ... OK
* checking package directory ... OK
* checking 'build' directory ... OK
* checking DESCRIPTION meta-information ... OK
* checking top-level files ... OK
* checking for left-over files ... OK
* checking index information ... OK
* checking package subdirectories ... OK
* checking R files for non-ASCII characters ... OK
* checking R files for syntax errors ... OK
* loading checks for arch 'i386'
** checking whether the package can be loaded ... OK
** checking whether the package can be loaded with stated dependencies ... OK
** checking whether the package can be unloaded cleanly ... OK
** checking whether the namespace can be loaded with stated dependencies ... NOTE
Warning: no function found corresponding to methods exports from 'MLInterfaces' for: 'plot'

A namespace must be able to be loaded with just the base namespace
loaded: otherwise if the namespace gets loaded by a saved object, the
session will be unable to start.

Probably some imports need to be declared in the NAMESPACE file.
** checking whether the namespace can be unloaded cleanly ... OK
* loading checks for arch 'x64'
** checking whether the package can be loaded ... OK
** checking whether the package can be loaded with stated dependencies ... OK
** checking whether the package can be unloaded cleanly ... OK
** checking whether the namespace can be loaded with stated dependencies ... NOTE
Warning: no function found corresponding to methods exports from 'MLInterfaces' for: 'plot'

A namespace must be able to be loaded with just the base namespace
loaded: otherwise if the namespace gets loaded by a saved object, the
session will be unable to start.

Probably some imports need to be declared in the NAMESPACE file.
** checking whether the namespace can be unloaded cleanly ... OK
* checking dependencies in R code ... NOTE
Unexported objects imported by ':::' calls:
  'MASS:::predict.lda' 'ada:::predict.ada' 'e1071:::predict.svm'
  'rpart:::predict.rpart' 'stats:::plot.hclust'
  See the note in ?`:::` about the use of this operator.
* checking S3 generic/method consistency ... OK
* checking replacement functions ... OK
* checking foreign function calls ... OK
* checking R code for possible problems ... NOTE
hclustWidget : <anonymous>: no visible global function definition for
  ':='
hclustWidget : <anonymous>: no visible binding for global variable
  'key'
Undefined global functions or variables:
  := key
* checking Rd files ... NOTE
prepare_Rd: plspinHcube.Rd:17-19: Dropping empty section \details
* checking Rd metadata ... OK
* checking Rd cross-references ... OK
* checking for missing documentation entries ... OK
* checking for code/documentation mismatches ... OK
* checking Rd \usage sections ... OK
* checking Rd contents ... OK
* checking for unstated dependencies in examples ... OK
* checking installed files from 'inst/doc' ... OK
* checking files in 'vignettes' ... OK
* checking examples ...
** running examples for arch 'i386' ... [25s] OK
Examples with CPU or elapsed time > 5s
            user system elapsed
MLearn-new 11.33   0.31   11.84
** running examples for arch 'x64' ... [27s] OK
Examples with CPU or elapsed time > 5s
            user system elapsed
MLearn-new 13.39   0.15   13.55
* checking for unstated dependencies in 'tests' ... OK
* checking tests ...
** running tests for arch 'i386' ...
  Running 'runTests.R' [4s]
 [5s] OK
** running tests for arch 'x64' ...
  Running 'runTests.R' [5s]
 [5s] OK
* checking for unstated dependencies in vignettes ... OK
* checking package vignettes in 'inst/doc' ... OK
* checking running R code from vignettes ... SKIPPED
* checking re-building of vignette outputs ... SKIPPED
* checking PDF version of manual ... OK
* DONE

Status: 5 NOTEs
See
  'c:/biocbld/bbs-3.3-bioc/meat/MLInterfaces.Rcheck/00check.log'
for details.


MLInterfaces.Rcheck/00install.out:


install for i386

* installing *source* package 'MLInterfaces' ...
** R
** inst
** preparing package for lazy loading
** help
*** installing help indices
** building package indices
** installing vignettes
** testing if installed package can be loaded

install for x64

* installing *source* package 'MLInterfaces' ...
** testing if installed package can be loaded
* MD5 sums
packaged installation of 'MLInterfaces' as MLInterfaces_1.51.0.zip
* DONE (MLInterfaces)

MLInterfaces.Rcheck/examples_i386/MLInterfaces-Ex.timings:

nameusersystemelapsed
MLearn-new11.33 0.3111.84
RAB0.120.000.13
balKfold.xvspec0.020.000.01
classifierOutput-class2.800.032.83
clusteringOutput-class000
confuMat-methods0.250.000.25
confuTab000
fs.absT0.010.020.03
fsHistory0.050.010.06
hclustWidget000
learnerSchema-class000
performance-analytics000
planarPlot-methods2.970.133.10
plspinHcube000
predict.classifierOutput1.640.041.68
projectLearnerToGrid0.730.070.80
projectedLearner-class000
raboostCont-class000
varImpStruct-class0.500.010.51
xvalLoop000
xvalSpec0.150.020.17

MLInterfaces.Rcheck/examples_x64/MLInterfaces-Ex.timings:

nameusersystemelapsed
MLearn-new13.39 0.1513.55
RAB0.120.000.13
balKfold.xvspec0.030.000.03
classifierOutput-class2.780.052.83
clusteringOutput-class000
confuMat-methods0.220.000.22
confuTab000
fs.absT0.050.000.05
fsHistory0.060.000.06
hclustWidget000
learnerSchema-class000
performance-analytics000
planarPlot-methods2.320.022.35
plspinHcube000
predict.classifierOutput1.630.031.65
projectLearnerToGrid0.720.010.74
projectedLearner-class000
raboostCont-class000
varImpStruct-class0.500.020.51
xvalLoop000
xvalSpec0.180.000.19