GeneSelectMMD 2.15.0 Weiliang Qiu
Snapshot Date: 2015-10-26 20:20:04 -0400 (Mon, 26 Oct 2015) | URL: https://hedgehog.fhcrc.org/bioconductor/trunk/madman/Rpacks/GeneSelectMMD | Last Changed Rev: 109592 / Revision: 109948 | Last Changed Date: 2015-10-13 15:59:53 -0400 (Tue, 13 Oct 2015) |
| linux2.bioconductor.org | Linux (Ubuntu 14.04.2 LTS) / x86_64 | [ OK ] | OK | OK | | |
windows2.bioconductor.org | Windows Server 2012 R2 Enterprise SP1 (64-bit) / x64 | OK | OK | OK | OK | |
##############################################################################
##############################################################################
###
### Running command:
###
### /home/biocbuild/bbs-3.3-bioc/R/bin/R CMD INSTALL GeneSelectMMD
###
##############################################################################
##############################################################################
* installing to library ‘/home/biocbuild/bbs-3.3-bioc/R/library’
* installing *source* package ‘GeneSelectMMD’ ...
** libs
gfortran -fpic -g -O2 -c Qfunc.f -o Qfunc.o
gfortran -fpic -g -O2 -c blas.f -o blas.o
gcc -std=gnu99 -I/home/biocbuild/bbs-3.3-bioc/R/include -DNDEBUG -I/usr/local/include -fpic -g -O2 -c isnan.c -o isnan.o
gfortran -fpic -g -O2 -c lbfgsb.f -o lbfgsb.o
gfortran -fpic -g -O2 -c lbfgsbDriver.f -o lbfgsbDriver.o
gfortran -fpic -g -O2 -c linpack.f -o linpack.o
gfortran -fpic -g -O2 -c llkhFun.f -o llkhFun.o
gfortran -fpic -g -O2 -c myTtest.f -o myTtest.o
gfortran -fpic -g -O2 -c paraEstLoop.f -o paraEstLoop.o
gcc -std=gnu99 -I/home/biocbuild/bbs-3.3-bioc/R/include -DNDEBUG -I/usr/local/include -fpic -g -O2 -c pt.c -o pt.o
gfortran -fpic -g -O2 -c timer.f -o timer.o
gfortran -fpic -g -O2 -c wiFun.f -o wiFun.o
gcc -std=gnu99 -shared -L/home/biocbuild/bbs-3.3-bioc/R/lib -L/usr/local/lib -o GeneSelectMMD.so Qfunc.o blas.o isnan.o lbfgsb.o lbfgsbDriver.o linpack.o llkhFun.o myTtest.o paraEstLoop.o pt.o timer.o wiFun.o -lgfortran -lm -lquadmath -L/home/biocbuild/bbs-3.3-bioc/R/lib -lR
installing to /home/biocbuild/bbs-3.3-bioc/R/library/GeneSelectMMD/libs
** R
** preparing package for lazy loading
** help
*** installing help indices
** building package indices
** installing vignettes
** testing if installed package can be loaded
* DONE (GeneSelectMMD)