EBImage 4.13.0 Andrzej OleÅ›
Snapshot Date: 2015-10-26 20:20:04 -0400 (Mon, 26 Oct 2015) | URL: https://hedgehog.fhcrc.org/bioconductor/trunk/madman/Rpacks/EBImage | Last Changed Rev: 109592 / Revision: 109948 | Last Changed Date: 2015-10-13 15:59:53 -0400 (Tue, 13 Oct 2015) |
| linux2.bioconductor.org | Linux (Ubuntu 14.04.2 LTS) / x86_64 | [ OK ] | OK | OK | | |
windows2.bioconductor.org | Windows Server 2012 R2 Enterprise SP1 (64-bit) / x64 | OK | OK | OK | OK | |
##############################################################################
##############################################################################
###
### Running command:
###
### /home/biocbuild/bbs-3.3-bioc/R/bin/R CMD INSTALL EBImage
###
##############################################################################
##############################################################################
* installing to library ‘/home/biocbuild/bbs-3.3-bioc/R/library’
* installing *source* package ‘EBImage’ ...
** libs
gcc -std=gnu99 -I/home/biocbuild/bbs-3.3-bioc/R/include -DNDEBUG -I/usr/local/include -fpic -g -O2 -c EBImage.c -o EBImage.o
gcc -std=gnu99 -I/home/biocbuild/bbs-3.3-bioc/R/include -DNDEBUG -I/usr/local/include -fpic -g -O2 -c distmap.c -o distmap.o
gcc -std=gnu99 -I/home/biocbuild/bbs-3.3-bioc/R/include -DNDEBUG -I/usr/local/include -fpic -g -O2 -c drawCircle.c -o drawCircle.o
g++ -I/home/biocbuild/bbs-3.3-bioc/R/include -DNDEBUG -I/usr/local/include -fpic -g -O2 -c floodFill.cpp -o floodFill.o
gcc -std=gnu99 -I/home/biocbuild/bbs-3.3-bioc/R/include -DNDEBUG -I/usr/local/include -fpic -g -O2 -c haralick.c -o haralick.o
gcc -std=gnu99 -I/home/biocbuild/bbs-3.3-bioc/R/include -DNDEBUG -I/usr/local/include -fpic -g -O2 -c medianFilter.c -o medianFilter.o
gcc -std=gnu99 -I/home/biocbuild/bbs-3.3-bioc/R/include -DNDEBUG -I/usr/local/include -fpic -g -O2 -c morphology.c -o morphology.o
gcc -std=gnu99 -I/home/biocbuild/bbs-3.3-bioc/R/include -DNDEBUG -I/usr/local/include -fpic -g -O2 -c nativeRaster.c -o nativeRaster.o
gcc -std=gnu99 -I/home/biocbuild/bbs-3.3-bioc/R/include -DNDEBUG -I/usr/local/include -fpic -g -O2 -c normalize.c -o normalize.o
gcc -std=gnu99 -I/home/biocbuild/bbs-3.3-bioc/R/include -DNDEBUG -I/usr/local/include -fpic -g -O2 -c objects.c -o objects.o
gcc -std=gnu99 -I/home/biocbuild/bbs-3.3-bioc/R/include -DNDEBUG -I/usr/local/include -fpic -g -O2 -c ocontour.c -o ocontour.o
g++ -I/home/biocbuild/bbs-3.3-bioc/R/include -DNDEBUG -I/usr/local/include -fpic -g -O2 -c propagate.cpp -o propagate.o
gcc -std=gnu99 -I/home/biocbuild/bbs-3.3-bioc/R/include -DNDEBUG -I/usr/local/include -fpic -g -O2 -c spatial.c -o spatial.o
gcc -std=gnu99 -I/home/biocbuild/bbs-3.3-bioc/R/include -DNDEBUG -I/usr/local/include -fpic -g -O2 -c thresh.c -o thresh.o
gcc -std=gnu99 -I/home/biocbuild/bbs-3.3-bioc/R/include -DNDEBUG -I/usr/local/include -fpic -g -O2 -c tile.c -o tile.o
gcc -std=gnu99 -I/home/biocbuild/bbs-3.3-bioc/R/include -DNDEBUG -I/usr/local/include -fpic -g -O2 -c tools.c -o tools.o
g++ -I/home/biocbuild/bbs-3.3-bioc/R/include -DNDEBUG -I/usr/local/include -fpic -g -O2 -c watershed.cpp -o watershed.o
g++ -shared -L/home/biocbuild/bbs-3.3-bioc/R/lib -L/usr/local/lib -o EBImage.so EBImage.o distmap.o drawCircle.o floodFill.o haralick.o medianFilter.o morphology.o nativeRaster.o normalize.o objects.o ocontour.o propagate.o spatial.o thresh.o tile.o tools.o watershed.o -L/home/biocbuild/bbs-3.3-bioc/R/lib -lR
installing to /home/biocbuild/bbs-3.3-bioc/R/library/EBImage/libs
** R
** inst
** preparing package for lazy loading
** help
*** installing help indices
** building package indices
** installing vignettes
** testing if installed package can be loaded
* DONE (EBImage)