DiffBind 1.17.2 Rory Stark
Snapshot Date: 2015-10-26 20:20:04 -0400 (Mon, 26 Oct 2015) | URL: https://hedgehog.fhcrc.org/bioconductor/trunk/madman/Rpacks/DiffBind | Last Changed Rev: 109921 / Revision: 109948 | Last Changed Date: 2015-10-26 09:43:46 -0400 (Mon, 26 Oct 2015) |
| linux2.bioconductor.org | Linux (Ubuntu 14.04.2 LTS) / x86_64 | [ OK ] | OK | OK | | |
windows2.bioconductor.org | Windows Server 2012 R2 Enterprise SP1 (64-bit) / x64 | OK | OK | OK | OK | |
##############################################################################
##############################################################################
###
### Running command:
###
### /home/biocbuild/bbs-3.3-bioc/R/bin/R CMD INSTALL DiffBind
###
##############################################################################
##############################################################################
* installing to library ‘/home/biocbuild/bbs-3.3-bioc/R/library’
* installing *source* package ‘DiffBind’ ...
** libs
g++ -I/home/biocbuild/bbs-3.3-bioc/R/include -DNDEBUG -D_USE_KNETFILE -DBGZF_CACHE -D_FILE_OFFSET_BITS=64 -D_LARGEFILE64_SOURCE -I/usr/local/include -I"/home/biocbuild/bbs-3.3-bioc/R/library/Rsamtools/include" -I"/home/biocbuild/bbs-3.3-bioc/R/library/Rcpp/include" -fpic -g -O2 -c RcppExports.cpp -o RcppExports.o
g++ -I/home/biocbuild/bbs-3.3-bioc/R/include -DNDEBUG -D_USE_KNETFILE -DBGZF_CACHE -D_FILE_OFFSET_BITS=64 -D_LARGEFILE64_SOURCE -I/usr/local/include -I"/home/biocbuild/bbs-3.3-bioc/R/library/Rsamtools/include" -I"/home/biocbuild/bbs-3.3-bioc/R/library/Rcpp/include" -fpic -g -O2 -c bamReader.cpp -o bamReader.o
g++ -I/home/biocbuild/bbs-3.3-bioc/R/include -DNDEBUG -D_USE_KNETFILE -DBGZF_CACHE -D_FILE_OFFSET_BITS=64 -D_LARGEFILE64_SOURCE -I/usr/local/include -I"/home/biocbuild/bbs-3.3-bioc/R/library/Rsamtools/include" -I"/home/biocbuild/bbs-3.3-bioc/R/library/Rcpp/include" -fpic -g -O2 -c bedReader.cpp -o bedReader.o
g++ -I/home/biocbuild/bbs-3.3-bioc/R/include -DNDEBUG -D_USE_KNETFILE -DBGZF_CACHE -D_FILE_OFFSET_BITS=64 -D_LARGEFILE64_SOURCE -I/usr/local/include -I"/home/biocbuild/bbs-3.3-bioc/R/library/Rsamtools/include" -I"/home/biocbuild/bbs-3.3-bioc/R/library/Rcpp/include" -fpic -g -O2 -c bitBucket.cpp -o bitBucket.o
g++ -I/home/biocbuild/bbs-3.3-bioc/R/include -DNDEBUG -D_USE_KNETFILE -DBGZF_CACHE -D_FILE_OFFSET_BITS=64 -D_LARGEFILE64_SOURCE -I/usr/local/include -I"/home/biocbuild/bbs-3.3-bioc/R/library/Rsamtools/include" -I"/home/biocbuild/bbs-3.3-bioc/R/library/Rcpp/include" -fpic -g -O2 -c croi_func.cpp -o croi_func.o
g++ -I/home/biocbuild/bbs-3.3-bioc/R/include -DNDEBUG -D_USE_KNETFILE -DBGZF_CACHE -D_FILE_OFFSET_BITS=64 -D_LARGEFILE64_SOURCE -I/usr/local/include -I"/home/biocbuild/bbs-3.3-bioc/R/library/Rsamtools/include" -I"/home/biocbuild/bbs-3.3-bioc/R/library/Rcpp/include" -fpic -g -O2 -c croi_main.cpp -o croi_main.o
g++ -I/home/biocbuild/bbs-3.3-bioc/R/include -DNDEBUG -D_USE_KNETFILE -DBGZF_CACHE -D_FILE_OFFSET_BITS=64 -D_LARGEFILE64_SOURCE -I/usr/local/include -I"/home/biocbuild/bbs-3.3-bioc/R/library/Rsamtools/include" -I"/home/biocbuild/bbs-3.3-bioc/R/library/Rcpp/include" -fpic -g -O2 -c densitySet.cpp -o densitySet.o
g++ -I/home/biocbuild/bbs-3.3-bioc/R/include -DNDEBUG -D_USE_KNETFILE -DBGZF_CACHE -D_FILE_OFFSET_BITS=64 -D_LARGEFILE64_SOURCE -I/usr/local/include -I"/home/biocbuild/bbs-3.3-bioc/R/library/Rsamtools/include" -I"/home/biocbuild/bbs-3.3-bioc/R/library/Rcpp/include" -fpic -g -O2 -c iBucket.cpp -o iBucket.o
g++ -I/home/biocbuild/bbs-3.3-bioc/R/include -DNDEBUG -D_USE_KNETFILE -DBGZF_CACHE -D_FILE_OFFSET_BITS=64 -D_LARGEFILE64_SOURCE -I/usr/local/include -I"/home/biocbuild/bbs-3.3-bioc/R/library/Rsamtools/include" -I"/home/biocbuild/bbs-3.3-bioc/R/library/Rcpp/include" -fpic -g -O2 -c interval.cpp -o interval.o
g++ -I/home/biocbuild/bbs-3.3-bioc/R/include -DNDEBUG -D_USE_KNETFILE -DBGZF_CACHE -D_FILE_OFFSET_BITS=64 -D_LARGEFILE64_SOURCE -I/usr/local/include -I"/home/biocbuild/bbs-3.3-bioc/R/library/Rsamtools/include" -I"/home/biocbuild/bbs-3.3-bioc/R/library/Rcpp/include" -fpic -g -O2 -c intervalDensity.cpp -o intervalDensity.o
g++ -I/home/biocbuild/bbs-3.3-bioc/R/include -DNDEBUG -D_USE_KNETFILE -DBGZF_CACHE -D_FILE_OFFSET_BITS=64 -D_LARGEFILE64_SOURCE -I/usr/local/include -I"/home/biocbuild/bbs-3.3-bioc/R/library/Rsamtools/include" -I"/home/biocbuild/bbs-3.3-bioc/R/library/Rcpp/include" -fpic -g -O2 -c intervalNode.cpp -o intervalNode.o
g++ -I/home/biocbuild/bbs-3.3-bioc/R/include -DNDEBUG -D_USE_KNETFILE -DBGZF_CACHE -D_FILE_OFFSET_BITS=64 -D_LARGEFILE64_SOURCE -I/usr/local/include -I"/home/biocbuild/bbs-3.3-bioc/R/library/Rsamtools/include" -I"/home/biocbuild/bbs-3.3-bioc/R/library/Rcpp/include" -fpic -g -O2 -c intervalSet.cpp -o intervalSet.o
g++ -I/home/biocbuild/bbs-3.3-bioc/R/include -DNDEBUG -D_USE_KNETFILE -DBGZF_CACHE -D_FILE_OFFSET_BITS=64 -D_LARGEFILE64_SOURCE -I/usr/local/include -I"/home/biocbuild/bbs-3.3-bioc/R/library/Rsamtools/include" -I"/home/biocbuild/bbs-3.3-bioc/R/library/Rcpp/include" -fpic -g -O2 -c intervalTree.cpp -o intervalTree.o
g++ -I/home/biocbuild/bbs-3.3-bioc/R/include -DNDEBUG -D_USE_KNETFILE -DBGZF_CACHE -D_FILE_OFFSET_BITS=64 -D_LARGEFILE64_SOURCE -I/usr/local/include -I"/home/biocbuild/bbs-3.3-bioc/R/library/Rsamtools/include" -I"/home/biocbuild/bbs-3.3-bioc/R/library/Rcpp/include" -fpic -g -O2 -c merge.cpp -o merge.o
gcc -std=gnu99 -I/home/biocbuild/bbs-3.3-bioc/R/include -DNDEBUG -D_USE_KNETFILE -DBGZF_CACHE -D_FILE_OFFSET_BITS=64 -D_LARGEFILE64_SOURCE -I/usr/local/include -I"/home/biocbuild/bbs-3.3-bioc/R/library/Rsamtools/include" -I"/home/biocbuild/bbs-3.3-bioc/R/library/Rcpp/include" -fpic -g -O2 -c mergeOne.c -o mergeOne.o
g++ -I/home/biocbuild/bbs-3.3-bioc/R/include -DNDEBUG -D_USE_KNETFILE -DBGZF_CACHE -D_FILE_OFFSET_BITS=64 -D_LARGEFILE64_SOURCE -I/usr/local/include -I"/home/biocbuild/bbs-3.3-bioc/R/library/Rsamtools/include" -I"/home/biocbuild/bbs-3.3-bioc/R/library/Rcpp/include" -fpic -g -O2 -c nodeGroup.cpp -o nodeGroup.o
g++ -I/home/biocbuild/bbs-3.3-bioc/R/include -DNDEBUG -D_USE_KNETFILE -DBGZF_CACHE -D_FILE_OFFSET_BITS=64 -D_LARGEFILE64_SOURCE -I/usr/local/include -I"/home/biocbuild/bbs-3.3-bioc/R/library/Rsamtools/include" -I"/home/biocbuild/bbs-3.3-bioc/R/library/Rcpp/include" -fpic -g -O2 -c peakOrder.cpp -o peakOrder.o
g++ -I/home/biocbuild/bbs-3.3-bioc/R/include -DNDEBUG -D_USE_KNETFILE -DBGZF_CACHE -D_FILE_OFFSET_BITS=64 -D_LARGEFILE64_SOURCE -I/usr/local/include -I"/home/biocbuild/bbs-3.3-bioc/R/library/Rsamtools/include" -I"/home/biocbuild/bbs-3.3-bioc/R/library/Rcpp/include" -fpic -g -O2 -c reader.cpp -o reader.o
g++ -I/home/biocbuild/bbs-3.3-bioc/R/include -DNDEBUG -D_USE_KNETFILE -DBGZF_CACHE -D_FILE_OFFSET_BITS=64 -D_LARGEFILE64_SOURCE -I/usr/local/include -I"/home/biocbuild/bbs-3.3-bioc/R/library/Rsamtools/include" -I"/home/biocbuild/bbs-3.3-bioc/R/library/Rcpp/include" -fpic -g -O2 -c sequence.cpp -o sequence.o
g++ -I/home/biocbuild/bbs-3.3-bioc/R/include -DNDEBUG -D_USE_KNETFILE -DBGZF_CACHE -D_FILE_OFFSET_BITS=64 -D_LARGEFILE64_SOURCE -I/usr/local/include -I"/home/biocbuild/bbs-3.3-bioc/R/library/Rsamtools/include" -I"/home/biocbuild/bbs-3.3-bioc/R/library/Rcpp/include" -fpic -g -O2 -c util.cpp -o util.o
g++ -shared -L/home/biocbuild/bbs-3.3-bioc/R/lib -L/usr/local/lib -o DiffBind.so RcppExports.o bamReader.o bedReader.o bitBucket.o croi_func.o croi_main.o densitySet.o iBucket.o interval.o intervalDensity.o intervalNode.o intervalSet.o intervalTree.o merge.o mergeOne.o nodeGroup.o peakOrder.o reader.o sequence.o util.o /home/biocbuild/bbs-3.3-bioc/R/library/Rsamtools/usrlib//libbam.a /home/biocbuild/bbs-3.3-bioc/R/library/Rsamtools/usrlib//libbcf.a /home/biocbuild/bbs-3.3-bioc/R/library/Rsamtools/usrlib//libtabix.a -lz -pthread -L/home/biocbuild/bbs-3.3-bioc/R/lib -lR
installing to /home/biocbuild/bbs-3.3-bioc/R/library/DiffBind/libs
** R
** data
** inst
** preparing package for lazy loading
** help
*** installing help indices
** building package indices
** installing vignettes
** testing if installed package can be loaded
* DONE (DiffBind)