Back to the "Multiple platform build/check report" A  B  C [D] E  F  G  H  I  J  K  L  M  N  O  P  Q  R  S  T  U  V  W  X  Y  Z 

BioC 3.3: BUILD BIN report for DEFormats on morelia

This page was generated on 2016-04-21 13:28:01 -0700 (Thu, 21 Apr 2016).

Package 285/1210HostnameOS / ArchINSTALLBUILDCHECKBUILD BIN
DEFormats 0.99.8
Andrzej OleÅ›
Snapshot Date: 2016-04-20 17:20:35 -0700 (Wed, 20 Apr 2016)
URL: https://hedgehog.fhcrc.org/bioconductor/trunk/madman/Rpacks/DEFormats
Last Changed Rev: 115357 / Revision: 116626
Last Changed Date: 2016-03-29 08:01:24 -0700 (Tue, 29 Mar 2016)
zin2 Linux (Ubuntu 14.04.2 LTS) / x86_64  OK  OK  OK UNNEEDED, same version exists in internal repository
moscato2 Windows Server 2008 R2 Enterprise SP1 (64-bit) / x64  OK  OK  OK  OK UNNEEDED, same version exists in internal repository
morelia Mac OS X Mavericks (10.9.5) / x86_64  OK  OK  OK [ OK ]UNNEEDED, same version exists in internal repository

Summary

Package: DEFormats
Version: 0.99.8
Command: rm -rf DEFormats.buildbin-libdir && mkdir DEFormats.buildbin-libdir && /Users/biocbuild/BBS/utils/build-universal.sh DEFormats_0.99.8.tar.gz /Library/Frameworks/R.framework/Versions/Current/Resources/bin/R DEFormats.buildbin-libdir
StartedAt: 2016-04-21 08:50:53 -0700 (Thu, 21 Apr 2016)
EndedAt: 2016-04-21 08:51:09 -0700 (Thu, 21 Apr 2016)
EllapsedTime: 16.1 seconds
RetCode: 0
Status:  OK 
PackageFile: DEFormats_0.99.8.tgz
PackageFileSize: 189.3 KiB

Command output

##############################################################################
##############################################################################
###
### Running command:
###
###   rm -rf DEFormats.buildbin-libdir && mkdir DEFormats.buildbin-libdir && /Users/biocbuild/BBS/utils/build-universal.sh DEFormats_0.99.8.tar.gz /Library/Frameworks/R.framework/Versions/Current/Resources/bin/R DEFormats.buildbin-libdir
###
##############################################################################
##############################################################################


>>>>>>> 
>>>>>>> INSTALLATION WITH 'R CMD INSTALL --preclean --no-multiarch --library=DEFormats.buildbin-libdir DEFormats_0.99.8.tar.gz'
>>>>>>> 

* installing *source* package ‘DEFormats’ ...
** R
** inst
** preparing package for lazy loading
Creating a generic function for ‘DGEList’ from ‘edgeR’ in package ‘DEFormats’
    (from the saved implicit definition)
** help
*** installing help indices
** building package indices
** installing vignettes
** testing if installed package can be loaded
* DONE (DEFormats)