Category 2.38.0 Bioconductor Package Maintainer
 | Snapshot Date: 2016-10-12 17:20:15 -0700 (Wed, 12 Oct 2016) |  | URL: https://hedgehog.fhcrc.org/bioconductor/branches/RELEASE_3_3/madman/Rpacks/Category |  | Last Changed Rev: 117079 / Revision: 122332 |  | Last Changed Date: 2016-05-03 14:20:18 -0700 (Tue, 03 May 2016) |  
  | zin2  | Linux (Ubuntu 14.04.2 LTS) / x86_64  |  OK  |  OK  |  OK  |  |   | 
| moscato2  | Windows Server 2008 R2 Enterprise SP1 (64-bit) / x64  |  OK  |  OK  |  OK  | [ OK ] |   | 
| oaxaca  | Mac OS X Mavericks (10.9.5) / x86_64  |  OK  |  OK  |  OK  |  OK  |   | 
##############################################################################
##############################################################################
###
### Running command:
###
###   cd Category.buildbin-libdir/Category && zip -r ../../Category_2.38.0.zip . & cd ../..
###
##############################################################################
##############################################################################
  adding: DESCRIPTION (188 bytes security) (deflated 48%)
  adding: doc/ (256 bytes security) (stored 0%)
  adding: doc/Category.pdf (188 bytes security) (deflated 16%)
  adding: doc/Category.R (188 bytes security) (deflated 77%)
  adding: doc/Category.Rnw (188 bytes security) (deflated 63%)
  adding: doc/ChromBand.pdf (188 bytes security) (deflated 10%)
  adding: doc/ChromBand.R (188 bytes security) (deflated 72%)
  adding: doc/ChromBand.Rnw (188 bytes security) (deflated 64%)
  adding: doc/index.html (188 bytes security) (deflated 66%)
  adding: help/ (256 bytes security) (stored 0%)
  adding: help/aliases.rds (188 bytes security) (stored 0%)
  adding: help/AnIndex (188 bytes security) (deflated 85%)
  adding: help/Category.rdb (188 bytes security) (deflated 1%)
  adding: help/Category.rdx (188 bytes security) (stored 0%)
  adding: help/paths.rds (188 bytes security) (stored 0%)
  adding: html/ (256 bytes security) (stored 0%)
  adding: html/00Index.html (188 bytes security) (deflated 89%)
  adding: html/R.css (188 bytes security) (deflated 75%)
  adding: INDEX (188 bytes security) (deflated 69%)
  adding: MD5 (188 bytes security) (deflated 44%)
  adding: Meta/ (256 bytes security) (stored 0%)
  adding: Meta/hsearch.rds (188 bytes security) (stored 0%)
  adding: Meta/links.rds (188 bytes security) (stored 0%)
  adding: Meta/nsInfo.rds (188 bytes security) (stored 0%)
  adding: Meta/package.rds (188 bytes security) (stored 0%)
  adding: Meta/Rd.rds (188 bytes security) (stored 0%)
  adding: Meta/vignette.rds (188 bytes security) (stored 0%)
  adding: NAMESPACE (188 bytes security) (deflated 75%)
  adding: NEWS (188 bytes security) (deflated 38%)
  adding: R/ (256 bytes security) (stored 0%)
  adding: R/Category (188 bytes security) (deflated 41%)
  adding: R/Category.rdb (188 bytes security) (deflated 30%)
  adding: R/Category.rdx (188 bytes security) (deflated 2%)
  adding: scripts/ (256 bytes security) (stored 0%)
  adding: scripts/CLLex.R (188 bytes security) (deflated 48%)
  adding: UnitTests/ (256 bytes security) (stored 0%)
  adding: UnitTests/ghgans10.rda (188 bytes security) (stored 0%)
  adding: UnitTests/HyperGParams_test.R (188 bytes security) (deflated 86%)
  adding: UnitTests/hyperGTest_KEGG_test.R (188 bytes security) (deflated 36%)
  adding: UnitTests/hyperGTest_PFAM_test.R (188 bytes security) (deflated 36%)
  adding: UnitTests/hyperGTest_test.R (188 bytes security) (deflated 66%)
  adding: UnitTests/Makefile_tests (188 bytes security) (deflated 33%)
  adding: UnitTests/runall.sh (188 bytes security) (stored 0%)
  adding: UnitTests/runalltests.R (188 bytes security) (deflated 46%)
  adding: UnitTests/runfile.sh (188 bytes security) (deflated 38%)