Back to the "Multiple platform build/check report" A  B [C] D  E  F  G  H  I  J  K  L  M  N  O  P  Q  R  S  T  U  V  W  X  Y  Z 

BioC 3.3: BUILD BIN report for CRISPRseek on morelia

This page was generated on 2016-04-21 13:24:47 -0700 (Thu, 21 Apr 2016).

Package 257/1210HostnameOS / ArchINSTALLBUILDCHECKBUILD BIN
CRISPRseek 1.11.20
Lihua Julie Zhu
Snapshot Date: 2016-04-20 17:20:35 -0700 (Wed, 20 Apr 2016)
URL: https://hedgehog.fhcrc.org/bioconductor/trunk/madman/Rpacks/CRISPRseek
Last Changed Rev: 115922 / Revision: 116626
Last Changed Date: 2016-04-06 14:33:03 -0700 (Wed, 06 Apr 2016)
zin2 Linux (Ubuntu 14.04.2 LTS) / x86_64  OK  OK  OK UNNEEDED, same version exists in internal repository
moscato2 Windows Server 2008 R2 Enterprise SP1 (64-bit) / x64  OK  OK  OK  OK UNNEEDED, same version exists in internal repository
morelia Mac OS X Mavericks (10.9.5) / x86_64  OK  OK  OK [ OK ]UNNEEDED, same version exists in internal repository

Summary

Package: CRISPRseek
Version: 1.11.20
Command: rm -rf CRISPRseek.buildbin-libdir && mkdir CRISPRseek.buildbin-libdir && /Users/biocbuild/BBS/utils/build-universal.sh CRISPRseek_1.11.20.tar.gz /Library/Frameworks/R.framework/Versions/Current/Resources/bin/R CRISPRseek.buildbin-libdir
StartedAt: 2016-04-21 08:49:44 -0700 (Thu, 21 Apr 2016)
EndedAt: 2016-04-21 08:50:00 -0700 (Thu, 21 Apr 2016)
EllapsedTime: 15.3 seconds
RetCode: 0
Status:  OK 
PackageFile: CRISPRseek_1.11.20.tgz
PackageFileSize: 323.9 KiB

Command output

##############################################################################
##############################################################################
###
### Running command:
###
###   rm -rf CRISPRseek.buildbin-libdir && mkdir CRISPRseek.buildbin-libdir && /Users/biocbuild/BBS/utils/build-universal.sh CRISPRseek_1.11.20.tar.gz /Library/Frameworks/R.framework/Versions/Current/Resources/bin/R CRISPRseek.buildbin-libdir
###
##############################################################################
##############################################################################


>>>>>>> 
>>>>>>> INSTALLATION WITH 'R CMD INSTALL --preclean --no-multiarch --library=CRISPRseek.buildbin-libdir CRISPRseek_1.11.20.tar.gz'
>>>>>>> 

* installing *source* package ‘CRISPRseek’ ...
** R
** inst
** preparing package for lazy loading
** help
*** installing help indices
** building package indices
** installing vignettes
** testing if installed package can be loaded
* DONE (CRISPRseek)